| Back to Multiple platform build/check report for BioC 3.10 |
|
This page was generated on 2020-04-15 12:20:42 -0400 (Wed, 15 Apr 2020).
| Package 1051/1823 | Hostname | OS / Arch | INSTALL | BUILD | CHECK | BUILD BIN | ||||||
| MiRaGE 1.28.0 Y-h. Taguchi
| malbec1 | Linux (Ubuntu 18.04.4 LTS) / x86_64 | OK | OK | OK | |||||||
| tokay1 | Windows Server 2012 R2 Standard / x64 | OK | OK | OK | [ OK ] | |||||||
| merida1 | OS X 10.11.6 El Capitan / x86_64 | OK | OK | OK | OK |
| Package: MiRaGE |
| Version: 1.28.0 |
| Command: rm -rf MiRaGE.buildbin-libdir && mkdir MiRaGE.buildbin-libdir && C:\Users\biocbuild\bbs-3.10-bioc\R\bin\R.exe CMD INSTALL --merge-multiarch --build --library=MiRaGE.buildbin-libdir MiRaGE_1.28.0.tar.gz |
| StartedAt: 2020-04-15 09:10:49 -0400 (Wed, 15 Apr 2020) |
| EndedAt: 2020-04-15 09:11:30 -0400 (Wed, 15 Apr 2020) |
| EllapsedTime: 41.8 seconds |
| RetCode: 0 |
| Status: OK |
| PackageFile: MiRaGE_1.28.0.zip |
| PackageFileSize: 1.223 MiB |
##############################################################################
##############################################################################
###
### Running command:
###
### rm -rf MiRaGE.buildbin-libdir && mkdir MiRaGE.buildbin-libdir && C:\Users\biocbuild\bbs-3.10-bioc\R\bin\R.exe CMD INSTALL --merge-multiarch --build --library=MiRaGE.buildbin-libdir MiRaGE_1.28.0.tar.gz
###
##############################################################################
##############################################################################
install for i386
* installing *source* package 'MiRaGE' ...
** using staged installation
** R
** data
** inst
** byte-compile and prepare package for lazy loading
** help
*** installing help indices
converting help for package 'MiRaGE'
finding HTML links ... done
HS_conv_id html
MM_conv_id html
MiRaGE html
TBL2_HS_gen html
TBL2_MM_gen html
gene_exp html
getMiRaGEData html
id_conv_gen html
** building package indices
** installing vignettes
** testing if installed package can be loaded from temporary location
** testing if installed package can be loaded from final location
** testing if installed package keeps a record of temporary installation path
install for x64
* installing *source* package 'MiRaGE' ...
** testing if installed package can be loaded
* MD5 sums
packaged installation of 'MiRaGE' as MiRaGE_1.28.0.zip
* DONE (MiRaGE)