| Back to Multiple platform build/check report for BioC 3.10 | 
  | 
This page was generated on 2020-04-15 12:27:13 -0400 (Wed, 15 Apr 2020).
| Package 997/1823 | Hostname | OS / Arch | INSTALL | BUILD | CHECK | BUILD BIN | ||||||
| MetaboSignal 1.16.0 Andrea Rodriguez-Martinez 
  | malbec1 | Linux (Ubuntu 18.04.4 LTS) / x86_64 | OK | OK | OK | |||||||
| tokay1 | Windows Server 2012 R2 Standard / x64 | OK | OK | OK | [ OK ] | |||||||
| merida1 | OS X 10.11.6 El Capitan / x86_64 | OK | OK | OK | OK | 
| Package: MetaboSignal | 
| Version: 1.16.0 | 
| Command: rm -rf MetaboSignal.buildbin-libdir && mkdir MetaboSignal.buildbin-libdir && C:\Users\biocbuild\bbs-3.10-bioc\R\bin\R.exe CMD INSTALL --merge-multiarch --build --library=MetaboSignal.buildbin-libdir MetaboSignal_1.16.0.tar.gz | 
| StartedAt: 2020-04-15 09:07:41 -0400 (Wed, 15 Apr 2020) | 
| EndedAt: 2020-04-15 09:09:10 -0400 (Wed, 15 Apr 2020) | 
| EllapsedTime: 89.0 seconds | 
| RetCode: 0 | 
| Status: OK | 
| PackageFile: MetaboSignal_1.16.0.zip | 
| PackageFileSize: 2.709 MiB | 
##############################################################################
##############################################################################
###
### Running command:
###
###   rm -rf MetaboSignal.buildbin-libdir && mkdir MetaboSignal.buildbin-libdir && C:\Users\biocbuild\bbs-3.10-bioc\R\bin\R.exe CMD INSTALL --merge-multiarch --build --library=MetaboSignal.buildbin-libdir MetaboSignal_1.16.0.tar.gz
###
##############################################################################
##############################################################################
install for i386
* installing *source* package 'MetaboSignal' ...
** using staged installation
** R
** data
*** moving datasets to lazyload DB
** inst
** byte-compile and prepare package for lazy loading
** help
*** installing help indices
  converting help for package 'MetaboSignal'
    finding HTML links ... done
    MS2_mergeNetworks                       html  
    MS2_ppiNetwork                          html  
    MS_changeNames                          html  
    MS_convertGene                          html  
    MS_distances                            html  
    MS_exportCytoscape                      html  
    MS_findMappedNodes                      html  
    MS_getPathIds                           html  
    MS_keggFinder                           html  
    MS_keggNetwork                          html  
    MS_nodeBW                               html  
    MS_reactionNetwork                      html  
    MS_removeDrugs                          html  
    MS_removeNode                           html  
    MS_replaceNode                          html  
    MS_shortestPaths                        html  
    MS_shortestPathsNetwork                 html  
    MS_tissueFilter                         html  
    MS_topologyFilter                       html  
    MetaboSignal_table                      html  
    directionality_reactions                html  
    hpaNormalTissue                         html  
    keggNet_example                         html  
    kegg_pathways                           html  
    mergedNet_example                       html  
    ppiNet_example                          html  
    regulatory_interactions                 html  
** building package indices
** installing vignettes
** testing if installed package can be loaded from temporary location
** testing if installed package can be loaded from final location
** testing if installed package keeps a record of temporary installation path
install for x64
* installing *source* package 'MetaboSignal' ...
** testing if installed package can be loaded
* MD5 sums
packaged installation of 'MetaboSignal' as MetaboSignal_1.16.0.zip
* DONE (MetaboSignal)