| Back to Multiple platform build/check report for BioC 3.10 |
|
This page was generated on 2020-04-15 12:30:58 -0400 (Wed, 15 Apr 2020).
| Package 1032/1823 | Hostname | OS / Arch | INSTALL | BUILD | CHECK | BUILD BIN | ||||||
| MetNet 1.4.2 Thomas Naake
| malbec1 | Linux (Ubuntu 18.04.4 LTS) / x86_64 | OK | OK | OK | |||||||
| tokay1 | Windows Server 2012 R2 Standard / x64 | [ OK ] | OK | OK | OK | |||||||
| merida1 | OS X 10.11.6 El Capitan / x86_64 | OK | OK | OK | OK |
| Package: MetNet |
| Version: 1.4.2 |
| Command: C:\cygwin\bin\curl.exe -O https://malbec1.bioconductor.org/BBS/3.10/bioc/src/contrib/MetNet_1.4.2.tar.gz && rm -rf MetNet.buildbin-libdir && mkdir MetNet.buildbin-libdir && C:\Users\biocbuild\bbs-3.10-bioc\R\bin\R.exe CMD INSTALL --merge-multiarch --build --library=MetNet.buildbin-libdir MetNet_1.4.2.tar.gz && C:\Users\biocbuild\bbs-3.10-bioc\R\bin\R.exe CMD INSTALL MetNet_1.4.2.zip && rm MetNet_1.4.2.tar.gz MetNet_1.4.2.zip |
| StartedAt: 2020-04-14 20:35:22 -0400 (Tue, 14 Apr 2020) |
| EndedAt: 2020-04-14 20:35:46 -0400 (Tue, 14 Apr 2020) |
| EllapsedTime: 23.8 seconds |
| RetCode: 0 |
| Status: OK |
##############################################################################
##############################################################################
###
### Running command:
###
### C:\cygwin\bin\curl.exe -O https://malbec1.bioconductor.org/BBS/3.10/bioc/src/contrib/MetNet_1.4.2.tar.gz && rm -rf MetNet.buildbin-libdir && mkdir MetNet.buildbin-libdir && C:\Users\biocbuild\bbs-3.10-bioc\R\bin\R.exe CMD INSTALL --merge-multiarch --build --library=MetNet.buildbin-libdir MetNet_1.4.2.tar.gz && C:\Users\biocbuild\bbs-3.10-bioc\R\bin\R.exe CMD INSTALL MetNet_1.4.2.zip && rm MetNet_1.4.2.tar.gz MetNet_1.4.2.zip
###
##############################################################################
##############################################################################
% Total % Received % Xferd Average Speed Time Time Time Current
Dload Upload Total Spent Left Speed
0 0 0 0 0 0 0 0 --:--:-- --:--:-- --:--:-- 0
70 3513k 70 2464k 0 0 4737k 0 --:--:-- --:--:-- --:--:-- 4765k
100 3513k 100 3513k 0 0 5946k 0 --:--:-- --:--:-- --:--:-- 5975k
install for i386
* installing *source* package 'MetNet' ...
** using staged installation
** R
** data
** inst
** byte-compile and prepare package for lazy loading
** help
*** installing help indices
converting help for package 'MetNet'
finding HTML links ... done
MetNet-package html
addToList html
aracne html
bayes html
clr html
combine html
correlation html
getLinks html
lasso html
mat_test html
mat_test_z html
peaklist html
randomForest html
rtCorrection html
statistical html
structural html
threeDotsCall html
threshold html
topKnet html
x_test html
** building package indices
** installing vignettes
** testing if installed package can be loaded from temporary location
** testing if installed package can be loaded from final location
** testing if installed package keeps a record of temporary installation path
install for x64
* installing *source* package 'MetNet' ...
** testing if installed package can be loaded
* MD5 sums
packaged installation of 'MetNet' as MetNet_1.4.2.zip
* DONE (MetNet)
* installing to library 'C:/Users/biocbuild/bbs-3.10-bioc/R/library'
package 'MetNet' successfully unpacked and MD5 sums checked