| Back to Multiple platform build/check report for BioC 3.10 |
|
This page was generated on 2020-04-15 12:31:15 -0400 (Wed, 15 Apr 2020).
| Package 1108/1823 | Hostname | OS / Arch | INSTALL | BUILD | CHECK | BUILD BIN | ||||||
| MSstatsTMT 1.4.6 Ting Huang
| malbec1 | Linux (Ubuntu 18.04.4 LTS) / x86_64 | OK | OK | OK | |||||||
| tokay1 | Windows Server 2012 R2 Standard / x64 | OK | OK | [ OK ] | OK | |||||||
| merida1 | OS X 10.11.6 El Capitan / x86_64 | OK | OK | OK | OK |
| Package: MSstatsTMT |
| Version: 1.4.6 |
| Command: C:\Users\biocbuild\bbs-3.10-bioc\R\bin\R.exe CMD check --force-multiarch --install=check:MSstatsTMT.install-out.txt --library=C:\Users\biocbuild\bbs-3.10-bioc\R\library --no-vignettes --timings MSstatsTMT_1.4.6.tar.gz |
| StartedAt: 2020-04-15 04:58:59 -0400 (Wed, 15 Apr 2020) |
| EndedAt: 2020-04-15 05:04:22 -0400 (Wed, 15 Apr 2020) |
| EllapsedTime: 323.4 seconds |
| RetCode: 0 |
| Status: OK |
| CheckDir: MSstatsTMT.Rcheck |
| Warnings: 0 |
##############################################################################
##############################################################################
###
### Running command:
###
### C:\Users\biocbuild\bbs-3.10-bioc\R\bin\R.exe CMD check --force-multiarch --install=check:MSstatsTMT.install-out.txt --library=C:\Users\biocbuild\bbs-3.10-bioc\R\library --no-vignettes --timings MSstatsTMT_1.4.6.tar.gz
###
##############################################################################
##############################################################################
* using log directory 'C:/Users/biocbuild/bbs-3.10-bioc/meat/MSstatsTMT.Rcheck'
* using R version 3.6.3 (2020-02-29)
* using platform: x86_64-w64-mingw32 (64-bit)
* using session charset: ISO8859-1
* using option '--no-vignettes'
* checking for file 'MSstatsTMT/DESCRIPTION' ... OK
* this is package 'MSstatsTMT' version '1.4.6'
* package encoding: UTF-8
* checking package namespace information ... OK
* checking package dependencies ... OK
* checking if this is a source package ... OK
* checking if there is a namespace ... OK
* checking for hidden files and directories ... OK
* checking for portable file names ... OK
* checking whether package 'MSstatsTMT' can be installed ... OK
* checking installed package size ... OK
* checking package directory ... OK
* checking 'build' directory ... OK
* checking DESCRIPTION meta-information ... OK
* checking top-level files ... OK
* checking for left-over files ... OK
* checking index information ... OK
* checking package subdirectories ... OK
* checking R files for non-ASCII characters ... OK
* checking R files for syntax errors ... OK
* loading checks for arch 'i386'
** checking whether the package can be loaded ... OK
** checking whether the package can be loaded with stated dependencies ... OK
** checking whether the package can be unloaded cleanly ... OK
** checking whether the namespace can be loaded with stated dependencies ... OK
** checking whether the namespace can be unloaded cleanly ... OK
* loading checks for arch 'x64'
** checking whether the package can be loaded ... OK
** checking whether the package can be loaded with stated dependencies ... OK
** checking whether the package can be unloaded cleanly ... OK
** checking whether the namespace can be loaded with stated dependencies ... OK
** checking whether the namespace can be unloaded cleanly ... OK
* checking dependencies in R code ... OK
* checking S3 generic/method consistency ... OK
* checking replacement functions ... OK
* checking foreign function calls ... OK
* checking R code for possible problems ... OK
* checking Rd files ... OK
* checking Rd metadata ... OK
* checking Rd cross-references ... OK
* checking for missing documentation entries ... OK
* checking for code/documentation mismatches ... OK
* checking Rd \usage sections ... OK
* checking Rd contents ... OK
* checking for unstated dependencies in examples ... OK
* checking contents of 'data' directory ... OK
* checking data for non-ASCII characters ... OK
* checking data for ASCII and uncompressed saves ... OK
* checking files in 'vignettes' ... OK
* checking examples ...
** running examples for arch 'i386' ... OK
Examples with CPU or elapsed time > 5s
user system elapsed
dataProcessPlotsTMT 47.86 0.44 48.30
groupComparisonTMT 14.61 0.35 14.83
proteinSummarization 6.81 0.31 7.10
** running examples for arch 'x64' ... OK
Examples with CPU or elapsed time > 5s
user system elapsed
dataProcessPlotsTMT 52.91 0.36 53.16
groupComparisonTMT 12.41 0.25 18.84
proteinSummarization 5.79 0.29 7.25
proteinGroups 0.13 0.10 6.61
* checking for unstated dependencies in 'tests' ... OK
* checking tests ...
** running tests for arch 'i386' ...
Running 'testthat.R'
OK
** running tests for arch 'x64' ...
Running 'testthat.R'
OK
* checking for unstated dependencies in vignettes ... OK
* checking package vignettes in 'inst/doc' ... OK
* checking running R code from vignettes ... SKIPPED
* checking re-building of vignette outputs ... SKIPPED
* checking PDF version of manual ... OK
* DONE
Status: OK
MSstatsTMT.Rcheck/00install.out
##############################################################################
##############################################################################
###
### Running command:
###
### C:\cygwin\bin\curl.exe -O https://malbec1.bioconductor.org/BBS/3.10/bioc/src/contrib/MSstatsTMT_1.4.6.tar.gz && rm -rf MSstatsTMT.buildbin-libdir && mkdir MSstatsTMT.buildbin-libdir && C:\Users\biocbuild\bbs-3.10-bioc\R\bin\R.exe CMD INSTALL --merge-multiarch --build --library=MSstatsTMT.buildbin-libdir MSstatsTMT_1.4.6.tar.gz && C:\Users\biocbuild\bbs-3.10-bioc\R\bin\R.exe CMD INSTALL MSstatsTMT_1.4.6.zip && rm MSstatsTMT_1.4.6.tar.gz MSstatsTMT_1.4.6.zip
###
##############################################################################
##############################################################################
% Total % Received % Xferd Average Speed Time Time Time Current
Dload Upload Total Spent Left Speed
0 0 0 0 0 0 0 0 --:--:-- --:--:-- --:--:-- 0
100 1351k 100 1351k 0 0 22.8M 0 --:--:-- --:--:-- --:--:-- 24.4M
install for i386
* installing *source* package 'MSstatsTMT' ...
** using staged installation
** R
** data
*** moving datasets to lazyload DB
** inst
** byte-compile and prepare package for lazy loading
** help
*** installing help indices
converting help for package 'MSstatsTMT'
finding HTML links ... done
MSstatsTMT html
MaxQtoMSstatsTMTFormat html
OpenMStoMSstatsTMTFormat html
PDtoMSstatsTMTFormat html
SpectroMinetoMSstatsTMTFormat html
annotation.mine html
annotation.mq html
annotation.pd html
dataProcessPlotsTMT html
evidence html
groupComparisonTMT html
input.pd html
proteinGroups html
proteinSummarization html
quant.pd.msstats html
raw.mine html
raw.om html
raw.pd html
test.pairwise html
** building package indices
** installing vignettes
** testing if installed package can be loaded from temporary location
** testing if installed package can be loaded from final location
** testing if installed package keeps a record of temporary installation path
install for x64
* installing *source* package 'MSstatsTMT' ...
** testing if installed package can be loaded
* MD5 sums
packaged installation of 'MSstatsTMT' as MSstatsTMT_1.4.6.zip
* DONE (MSstatsTMT)
* installing to library 'C:/Users/biocbuild/bbs-3.10-bioc/R/library'
package 'MSstatsTMT' successfully unpacked and MD5 sums checked
|
MSstatsTMT.Rcheck/tests_i386/testthat.Rout
R version 3.6.3 (2020-02-29) -- "Holding the Windsock"
Copyright (C) 2020 The R Foundation for Statistical Computing
Platform: i386-w64-mingw32/i386 (32-bit)
R is free software and comes with ABSOLUTELY NO WARRANTY.
You are welcome to redistribute it under certain conditions.
Type 'license()' or 'licence()' for distribution details.
R is a collaborative project with many contributors.
Type 'contributors()' for more information and
'citation()' on how to cite R or R packages in publications.
Type 'demo()' for some demos, 'help()' for on-line help, or
'help.start()' for an HTML browser interface to help.
Type 'q()' to quit R.
> library(testthat)
> library(MSstatsTMT)
>
> test_check("MSstatsTMT")
Summary of Features :
count
# of Protein 10
# of Peptides/Protein 4-29
# of Transitions/Peptide 1-1
Summary of Samples :
0.125 0.5 0.667 1 Norm
# of MS runs 2 2 2 2 2
# of Biological Replicates 1 1 1 1 1
# of Technical Replicates 2 2 2 2 2
|
| | 0%
|
|======= | 10%
|
|============== | 20%
|
|===================== | 30%
|
|============================ | 40%
|
|=================================== | 50%
|
|========================================== | 60%
|
|================================================= | 70%
|
|======================================================== | 80%
|
|=============================================================== | 90%
|
|======================================================================| 100%
Summary of Features :
count
# of Protein 10
# of Peptides/Protein 3-33
# of Transitions/Peptide 1-1
Summary of Samples :
0.125 0.5 0.667 1 Norm
# of MS runs 2 2 2 2 2
# of Biological Replicates 1 1 1 1 1
# of Technical Replicates 2 2 2 2 2
|
| | 0%
|
|======= | 10%
|
|============== | 20%
|
|===================== | 30%
|
|============================ | 40%
|
|=================================== | 50%
|
|========================================== | 60%
|
|================================================= | 70%
|
|======================================================== | 80%
|
|=============================================================== | 90%
|
|======================================================================| 100%
Summary of Features :
count
# of Protein 10
# of Peptides/Protein 3-29
# of Transitions/Peptide 1-1
Summary of Samples :
0.125 0.5 0.667 1 Norm
# of MS runs 2 2 2 2 2
# of Biological Replicates 1 1 1 1 1
# of Technical Replicates 2 2 2 2 2
|
| | 0%
|
|======= | 10%
|
|============== | 20%
|
|===================== | 30%
|
|============================ | 40%
|
|=================================== | 50%
|
|========================================== | 60%
|
|================================================= | 70%
|
|======================================================== | 80%
|
|=============================================================== | 90%
|
|======================================================================| 100%
Summary of Features :
count
# of Protein 10
# of Peptides/Protein 1-28
# of Transitions/Peptide 1-1
Summary of Samples :
0.125 0.5 0.667 1 Norm
# of MS runs 2 2 2 2 2
# of Biological Replicates 1 1 1 1 1
# of Technical Replicates 2 2 2 2 2
|
| | 0%
|
|======= | 10%
|
|============== | 20%
|
|===================== | 30%
|
|============================ | 40%
|
|=================================== | 50%
|
|========================================== | 60%
|
|================================================= | 70%
|
|======================================================== | 80%
|
|=============================================================== | 90%
|
|======================================================================| 100%
Summary of Features :
count
# of Protein 10
# of Peptides/Protein 1-30
# of Transitions/Peptide 1-1
Summary of Samples :
0.125 0.5 0.667 1 Norm
# of MS runs 2 2 2 2 2
# of Biological Replicates 1 1 1 1 1
# of Technical Replicates 2 2 2 2 2
|
| | 0%
|
|======= | 10%
|
|============== | 20%
|
|===================== | 30%
|
|============================ | 40%
|
|=================================== | 50%
|
|========================================== | 60%
|
|================================================= | 70%
|
|======================================================== | 80%
|
|=============================================================== | 90%
|
|======================================================================| 100%
Summary of Features :
count
# of Protein 10
# of Peptides/Protein 2-30
# of Transitions/Peptide 1-1
Summary of Samples :
0.125 0.5 0.667 1 Norm
# of MS runs 2 2 2 2 2
# of Biological Replicates 1 1 1 1 1
# of Technical Replicates 2 2 2 2 2
|
| | 0%
|
|======= | 10%
|
|============== | 20%
|
|===================== | 30%
|
|============================ | 40%
|
|=================================== | 50%
|
|========================================== | 60%
|
|================================================= | 70%
|
|======================================================== | 80%
|
|=============================================================== | 90%
|
|======================================================================| 100%
Summary of Features :
count
# of Protein 10
# of Peptides/Protein 4-31
# of Transitions/Peptide 1-1
Summary of Samples :
0.125 0.5 0.667 1 Norm
# of MS runs 2 2 2 2 2
# of Biological Replicates 1 1 1 1 1
# of Technical Replicates 2 2 2 2 2
|
| | 0%
|
|======= | 10%
|
|============== | 20%
|
|===================== | 30%
|
|============================ | 40%
|
|=================================== | 50%
|
|========================================== | 60%
|
|================================================= | 70%
|
|======================================================== | 80%
|
|=============================================================== | 90%
|
|======================================================================| 100%
Summary of Features :
count
# of Protein 10
# of Peptides/Protein 3-30
# of Transitions/Peptide 1-1
Summary of Samples :
0.125 0.5 0.667 1 Norm
# of MS runs 2 2 2 2 2
# of Biological Replicates 1 1 1 1 1
# of Technical Replicates 2 2 2 2 2
|
| | 0%
|
|======= | 10%
|
|============== | 20%
|
|===================== | 30%
|
|============================ | 40%
|
|=================================== | 50%
|
|========================================== | 60%
|
|================================================= | 70%
|
|======================================================== | 80%
|
|=============================================================== | 90%
|
|======================================================================| 100%
Summary of Features :
count
# of Protein 10
# of Peptides/Protein 5-30
# of Transitions/Peptide 1-1
Summary of Samples :
0.125 0.5 0.667 1 Norm
# of MS runs 2 2 2 2 2
# of Biological Replicates 1 1 1 1 1
# of Technical Replicates 2 2 2 2 2
|
| | 0%
|
|======= | 10%
|
|============== | 20%
|
|===================== | 30%
|
|============================ | 40%
|
|=================================== | 50%
|
|========================================== | 60%
|
|================================================= | 70%
|
|======================================================== | 80%
|
|=============================================================== | 90%
|
|======================================================================| 100%
Summary of Features :
count
# of Protein 10
# of Peptides/Protein 3-31
# of Transitions/Peptide 1-1
Summary of Samples :
0.125 0.5 0.667 1 Norm
# of MS runs 2 2 2 2 2
# of Biological Replicates 1 1 1 1 1
# of Technical Replicates 2 2 2 2 2
|
| | 0%
|
|======= | 10%
|
|============== | 20%
|
|===================== | 30%
|
|============================ | 40%
|
|=================================== | 50%
|
|========================================== | 60%
|
|================================================= | 70%
|
|======================================================== | 80%
|
|=============================================================== | 90%
|
|======================================================================| 100%
Summary of Features :
count
# of Protein 10
# of Peptides/Protein 3-31
# of Transitions/Peptide 1-1
Summary of Samples :
0.125 0.5 0.667 1 Norm
# of MS runs 2 2 2 2 2
# of Biological Replicates 1 1 1 1 1
# of Technical Replicates 2 2 2 2 2
|
| | 0%
|
|======= | 10%
|
|============== | 20%
|
|===================== | 30%
|
|============================ | 40%
|
|=================================== | 50%
|
|========================================== | 60%
|
|================================================= | 70%
|
|======================================================== | 80%
|
|=============================================================== | 90%
|
|======================================================================| 100%
Summary of Features :
count
# of Protein 10
# of Peptides/Protein 1-31
# of Transitions/Peptide 1-1
Summary of Samples :
0.125 0.5 0.667 1 Norm
# of MS runs 2 2 2 2 2
# of Biological Replicates 1 1 1 1 1
# of Technical Replicates 2 2 2 2 2
|
| | 0%
|
|======= | 10%
|
|============== | 20%
|
|===================== | 30%
|
|============================ | 40%
|
|=================================== | 50%
|
|========================================== | 60%
|
|================================================= | 70%
|
|======================================================== | 80%
|
|=============================================================== | 90%
|
|======================================================================| 100%
Summary of Features :
count
# of Protein 10
# of Peptides/Protein 3-34
# of Transitions/Peptide 1-1
Summary of Samples :
0.125 0.5 0.667 1 Norm
# of MS runs 2 2 2 2 2
# of Biological Replicates 1 1 1 1 1
# of Technical Replicates 2 2 2 2 2
|
| | 0%
|
|======= | 10%
|
|============== | 20%
|
|===================== | 30%
|
|============================ | 40%
|
|=================================== | 50%
|
|========================================== | 60%
|
|================================================= | 70%
|
|======================================================== | 80%
|
|=============================================================== | 90%
|
|======================================================================| 100%
Summary of Features :
count
# of Protein 10
# of Peptides/Protein 2-30
# of Transitions/Peptide 1-1
Summary of Samples :
0.125 0.5 0.667 1 Norm
# of MS runs 2 2 2 2 2
# of Biological Replicates 1 1 1 1 1
# of Technical Replicates 2 2 2 2 2
|
| | 0%
|
|======= | 10%
|
|============== | 20%
|
|===================== | 30%
|
|============================ | 40%
|
|=================================== | 50%
|
|========================================== | 60%
|
|================================================= | 70%
|
|======================================================== | 80%
|
|=============================================================== | 90%
|
|======================================================================| 100%
Summary of Features :
count
# of Protein 10
# of Peptides/Protein 5-32
# of Transitions/Peptide 1-1
Summary of Samples :
0.125 0.5 0.667 1 Norm
# of MS runs 2 2 2 2 2
# of Biological Replicates 1 1 1 1 1
# of Technical Replicates 2 2 2 2 2
|
| | 0%
|
|======= | 10%
|
|============== | 20%
|
|===================== | 30%
|
|============================ | 40%
|
|=================================== | 50%
|
|========================================== | 60%
|
|================================================= | 70%
|
|======================================================== | 80%
|
|=============================================================== | 90%
|
|======================================================================| 100%
== testthat results ===========================================================
[ OK: 33 | SKIPPED: 0 | WARNINGS: 0 | FAILED: 0 ]
>
> proc.time()
user system elapsed
17.67 0.76 26.61
|
MSstatsTMT.Rcheck/tests_x64/testthat.Rout
R version 3.6.3 (2020-02-29) -- "Holding the Windsock"
Copyright (C) 2020 The R Foundation for Statistical Computing
Platform: x86_64-w64-mingw32/x64 (64-bit)
R is free software and comes with ABSOLUTELY NO WARRANTY.
You are welcome to redistribute it under certain conditions.
Type 'license()' or 'licence()' for distribution details.
R is a collaborative project with many contributors.
Type 'contributors()' for more information and
'citation()' on how to cite R or R packages in publications.
Type 'demo()' for some demos, 'help()' for on-line help, or
'help.start()' for an HTML browser interface to help.
Type 'q()' to quit R.
> library(testthat)
> library(MSstatsTMT)
>
> test_check("MSstatsTMT")
Summary of Features :
count
# of Protein 10
# of Peptides/Protein 4-29
# of Transitions/Peptide 1-1
Summary of Samples :
0.125 0.5 0.667 1 Norm
# of MS runs 2 2 2 2 2
# of Biological Replicates 1 1 1 1 1
# of Technical Replicates 2 2 2 2 2
|
| | 0%
|
|======= | 10%
|
|============== | 20%
|
|===================== | 30%
|
|============================ | 40%
|
|=================================== | 50%
|
|========================================== | 60%
|
|================================================= | 70%
|
|======================================================== | 80%
|
|=============================================================== | 90%
|
|======================================================================| 100%
Summary of Features :
count
# of Protein 10
# of Peptides/Protein 3-33
# of Transitions/Peptide 1-1
Summary of Samples :
0.125 0.5 0.667 1 Norm
# of MS runs 2 2 2 2 2
# of Biological Replicates 1 1 1 1 1
# of Technical Replicates 2 2 2 2 2
|
| | 0%
|
|======= | 10%
|
|============== | 20%
|
|===================== | 30%
|
|============================ | 40%
|
|=================================== | 50%
|
|========================================== | 60%
|
|================================================= | 70%
|
|======================================================== | 80%
|
|=============================================================== | 90%
|
|======================================================================| 100%
Summary of Features :
count
# of Protein 10
# of Peptides/Protein 3-29
# of Transitions/Peptide 1-1
Summary of Samples :
0.125 0.5 0.667 1 Norm
# of MS runs 2 2 2 2 2
# of Biological Replicates 1 1 1 1 1
# of Technical Replicates 2 2 2 2 2
|
| | 0%
|
|======= | 10%
|
|============== | 20%
|
|===================== | 30%
|
|============================ | 40%
|
|=================================== | 50%
|
|========================================== | 60%
|
|================================================= | 70%
|
|======================================================== | 80%
|
|=============================================================== | 90%
|
|======================================================================| 100%
Summary of Features :
count
# of Protein 10
# of Peptides/Protein 1-28
# of Transitions/Peptide 1-1
Summary of Samples :
0.125 0.5 0.667 1 Norm
# of MS runs 2 2 2 2 2
# of Biological Replicates 1 1 1 1 1
# of Technical Replicates 2 2 2 2 2
|
| | 0%
|
|======= | 10%
|
|============== | 20%
|
|===================== | 30%
|
|============================ | 40%
|
|=================================== | 50%
|
|========================================== | 60%
|
|================================================= | 70%
|
|======================================================== | 80%
|
|=============================================================== | 90%
|
|======================================================================| 100%
Summary of Features :
count
# of Protein 10
# of Peptides/Protein 1-30
# of Transitions/Peptide 1-1
Summary of Samples :
0.125 0.5 0.667 1 Norm
# of MS runs 2 2 2 2 2
# of Biological Replicates 1 1 1 1 1
# of Technical Replicates 2 2 2 2 2
|
| | 0%
|
|======= | 10%
|
|============== | 20%
|
|===================== | 30%
|
|============================ | 40%
|
|=================================== | 50%
|
|========================================== | 60%
|
|================================================= | 70%
|
|======================================================== | 80%
|
|=============================================================== | 90%
|
|======================================================================| 100%
Summary of Features :
count
# of Protein 10
# of Peptides/Protein 2-30
# of Transitions/Peptide 1-1
Summary of Samples :
0.125 0.5 0.667 1 Norm
# of MS runs 2 2 2 2 2
# of Biological Replicates 1 1 1 1 1
# of Technical Replicates 2 2 2 2 2
|
| | 0%
|
|======= | 10%
|
|============== | 20%
|
|===================== | 30%
|
|============================ | 40%
|
|=================================== | 50%
|
|========================================== | 60%
|
|================================================= | 70%
|
|======================================================== | 80%
|
|=============================================================== | 90%
|
|======================================================================| 100%
Summary of Features :
count
# of Protein 10
# of Peptides/Protein 4-31
# of Transitions/Peptide 1-1
Summary of Samples :
0.125 0.5 0.667 1 Norm
# of MS runs 2 2 2 2 2
# of Biological Replicates 1 1 1 1 1
# of Technical Replicates 2 2 2 2 2
|
| | 0%
|
|======= | 10%
|
|============== | 20%
|
|===================== | 30%
|
|============================ | 40%
|
|=================================== | 50%
|
|========================================== | 60%
|
|================================================= | 70%
|
|======================================================== | 80%
|
|=============================================================== | 90%
|
|======================================================================| 100%
Summary of Features :
count
# of Protein 10
# of Peptides/Protein 3-30
# of Transitions/Peptide 1-1
Summary of Samples :
0.125 0.5 0.667 1 Norm
# of MS runs 2 2 2 2 2
# of Biological Replicates 1 1 1 1 1
# of Technical Replicates 2 2 2 2 2
|
| | 0%
|
|======= | 10%
|
|============== | 20%
|
|===================== | 30%
|
|============================ | 40%
|
|=================================== | 50%
|
|========================================== | 60%
|
|================================================= | 70%
|
|======================================================== | 80%
|
|=============================================================== | 90%
|
|======================================================================| 100%
Summary of Features :
count
# of Protein 10
# of Peptides/Protein 5-30
# of Transitions/Peptide 1-1
Summary of Samples :
0.125 0.5 0.667 1 Norm
# of MS runs 2 2 2 2 2
# of Biological Replicates 1 1 1 1 1
# of Technical Replicates 2 2 2 2 2
|
| | 0%
|
|======= | 10%
|
|============== | 20%
|
|===================== | 30%
|
|============================ | 40%
|
|=================================== | 50%
|
|========================================== | 60%
|
|================================================= | 70%
|
|======================================================== | 80%
|
|=============================================================== | 90%
|
|======================================================================| 100%
Summary of Features :
count
# of Protein 10
# of Peptides/Protein 3-31
# of Transitions/Peptide 1-1
Summary of Samples :
0.125 0.5 0.667 1 Norm
# of MS runs 2 2 2 2 2
# of Biological Replicates 1 1 1 1 1
# of Technical Replicates 2 2 2 2 2
|
| | 0%
|
|======= | 10%
|
|============== | 20%
|
|===================== | 30%
|
|============================ | 40%
|
|=================================== | 50%
|
|========================================== | 60%
|
|================================================= | 70%
|
|======================================================== | 80%
|
|=============================================================== | 90%
|
|======================================================================| 100%
Summary of Features :
count
# of Protein 10
# of Peptides/Protein 3-31
# of Transitions/Peptide 1-1
Summary of Samples :
0.125 0.5 0.667 1 Norm
# of MS runs 2 2 2 2 2
# of Biological Replicates 1 1 1 1 1
# of Technical Replicates 2 2 2 2 2
|
| | 0%
|
|======= | 10%
|
|============== | 20%
|
|===================== | 30%
|
|============================ | 40%
|
|=================================== | 50%
|
|========================================== | 60%
|
|================================================= | 70%
|
|======================================================== | 80%
|
|=============================================================== | 90%
|
|======================================================================| 100%
Summary of Features :
count
# of Protein 10
# of Peptides/Protein 1-31
# of Transitions/Peptide 1-1
Summary of Samples :
0.125 0.5 0.667 1 Norm
# of MS runs 2 2 2 2 2
# of Biological Replicates 1 1 1 1 1
# of Technical Replicates 2 2 2 2 2
|
| | 0%
|
|======= | 10%
|
|============== | 20%
|
|===================== | 30%
|
|============================ | 40%
|
|=================================== | 50%
|
|========================================== | 60%
|
|================================================= | 70%
|
|======================================================== | 80%
|
|=============================================================== | 90%
|
|======================================================================| 100%
Summary of Features :
count
# of Protein 10
# of Peptides/Protein 3-34
# of Transitions/Peptide 1-1
Summary of Samples :
0.125 0.5 0.667 1 Norm
# of MS runs 2 2 2 2 2
# of Biological Replicates 1 1 1 1 1
# of Technical Replicates 2 2 2 2 2
|
| | 0%
|
|======= | 10%
|
|============== | 20%
|
|===================== | 30%
|
|============================ | 40%
|
|=================================== | 50%
|
|========================================== | 60%
|
|================================================= | 70%
|
|======================================================== | 80%
|
|=============================================================== | 90%
|
|======================================================================| 100%
Summary of Features :
count
# of Protein 10
# of Peptides/Protein 2-30
# of Transitions/Peptide 1-1
Summary of Samples :
0.125 0.5 0.667 1 Norm
# of MS runs 2 2 2 2 2
# of Biological Replicates 1 1 1 1 1
# of Technical Replicates 2 2 2 2 2
|
| | 0%
|
|======= | 10%
|
|============== | 20%
|
|===================== | 30%
|
|============================ | 40%
|
|=================================== | 50%
|
|========================================== | 60%
|
|================================================= | 70%
|
|======================================================== | 80%
|
|=============================================================== | 90%
|
|======================================================================| 100%
Summary of Features :
count
# of Protein 10
# of Peptides/Protein 5-32
# of Transitions/Peptide 1-1
Summary of Samples :
0.125 0.5 0.667 1 Norm
# of MS runs 2 2 2 2 2
# of Biological Replicates 1 1 1 1 1
# of Technical Replicates 2 2 2 2 2
|
| | 0%
|
|======= | 10%
|
|============== | 20%
|
|===================== | 30%
|
|============================ | 40%
|
|=================================== | 50%
|
|========================================== | 60%
|
|================================================= | 70%
|
|======================================================== | 80%
|
|=============================================================== | 90%
|
|======================================================================| 100%
== testthat results ===========================================================
[ OK: 33 | SKIPPED: 0 | WARNINGS: 0 | FAILED: 0 ]
>
> proc.time()
user system elapsed
18.90 0.78 21.59
|
|
MSstatsTMT.Rcheck/examples_i386/MSstatsTMT-Ex.timings
|
MSstatsTMT.Rcheck/examples_x64/MSstatsTMT-Ex.timings
|