| Back to Multiple platform build/check report for BioC 3.10 |
|
This page was generated on 2020-04-15 12:29:07 -0400 (Wed, 15 Apr 2020).
| Package 1105/1823 | Hostname | OS / Arch | INSTALL | BUILD | CHECK | BUILD BIN | ||||||
| MSstatsQC 2.4.1 Eralp Dogu
| malbec1 | Linux (Ubuntu 18.04.4 LTS) / x86_64 | ERROR | ERROR | skipped | |||||||
| tokay1 | Windows Server 2012 R2 Standard / x64 | [ ERROR ] | ERROR | skipped | skipped | |||||||
| merida1 | OS X 10.11.6 El Capitan / x86_64 | ERROR | ERROR | skipped | skipped |
| Package: MSstatsQC |
| Version: 2.4.1 |
| Command: C:\cygwin\bin\curl.exe -O https://malbec1.bioconductor.org/BBS/3.10/bioc/src/contrib/MSstatsQC_2.4.1.tar.gz && rm -rf MSstatsQC.buildbin-libdir && mkdir MSstatsQC.buildbin-libdir && C:\Users\biocbuild\bbs-3.10-bioc\R\bin\R.exe CMD INSTALL --merge-multiarch --build --library=MSstatsQC.buildbin-libdir MSstatsQC_2.4.1.tar.gz && C:\Users\biocbuild\bbs-3.10-bioc\R\bin\R.exe CMD INSTALL MSstatsQC_2.4.1.zip && rm MSstatsQC_2.4.1.tar.gz MSstatsQC_2.4.1.zip |
| StartedAt: 2020-04-14 19:47:24 -0400 (Tue, 14 Apr 2020) |
| EndedAt: 2020-04-14 19:47:54 -0400 (Tue, 14 Apr 2020) |
| EllapsedTime: 30.0 seconds |
| RetCode: 1 |
| Status: ERROR |
##############################################################################
##############################################################################
###
### Running command:
###
### C:\cygwin\bin\curl.exe -O https://malbec1.bioconductor.org/BBS/3.10/bioc/src/contrib/MSstatsQC_2.4.1.tar.gz && rm -rf MSstatsQC.buildbin-libdir && mkdir MSstatsQC.buildbin-libdir && C:\Users\biocbuild\bbs-3.10-bioc\R\bin\R.exe CMD INSTALL --merge-multiarch --build --library=MSstatsQC.buildbin-libdir MSstatsQC_2.4.1.tar.gz && C:\Users\biocbuild\bbs-3.10-bioc\R\bin\R.exe CMD INSTALL MSstatsQC_2.4.1.zip && rm MSstatsQC_2.4.1.tar.gz MSstatsQC_2.4.1.zip
###
##############################################################################
##############################################################################
% Total % Received % Xferd Average Speed Time Time Time Current
Dload Upload Total Spent Left Speed
0 0 0 0 0 0 0 0 --:--:-- --:--:-- --:--:-- 0
100 429k 100 429k 0 0 9642k 0 --:--:-- --:--:-- --:--:-- 10.2M
install for i386
* installing *source* package 'MSstatsQC' ...
** using staged installation
** R
Error in parse(outFile) :
C:/Users/biocbuild/bbs-3.10-bioc/tmpdir/RtmpugxUJw/R.INSTALL1a24343f32e1/MSstatsQC/R/DataValidation.R:48:1: unexpected input
47: #auotomatically change RT to Retention Time)
48: <<
^
ERROR: unable to collate and parse R files for package 'MSstatsQC'
* removing 'C:/Users/biocbuild/bbs-3.10-bioc/meat/MSstatsQC.buildbin-libdir/MSstatsQC'