| Back to Multiple platform build/check report for BioC 3.10 |
|
This page was generated on 2020-04-15 12:18:40 -0400 (Wed, 15 Apr 2020).
| Package 975/1823 | Hostname | OS / Arch | INSTALL | BUILD | CHECK | BUILD BIN | ||||||
| MCRestimate 2.42.0 Marc Johannes
| malbec1 | Linux (Ubuntu 18.04.4 LTS) / x86_64 | OK | OK | OK | |||||||
| tokay1 | Windows Server 2012 R2 Standard / x64 | OK | OK | OK | [ OK ] | |||||||
| merida1 | OS X 10.11.6 El Capitan / x86_64 | OK | OK | OK | OK |
| Package: MCRestimate |
| Version: 2.42.0 |
| Command: rm -rf MCRestimate.buildbin-libdir && mkdir MCRestimate.buildbin-libdir && C:\Users\biocbuild\bbs-3.10-bioc\R\bin\R.exe CMD INSTALL --merge-multiarch --build --library=MCRestimate.buildbin-libdir MCRestimate_2.42.0.tar.gz |
| StartedAt: 2020-04-15 09:06:30 -0400 (Wed, 15 Apr 2020) |
| EndedAt: 2020-04-15 09:07:11 -0400 (Wed, 15 Apr 2020) |
| EllapsedTime: 40.4 seconds |
| RetCode: 0 |
| Status: OK |
| PackageFile: MCRestimate_2.42.0.zip |
| PackageFileSize: 262.8 KiB |
##############################################################################
##############################################################################
###
### Running command:
###
### rm -rf MCRestimate.buildbin-libdir && mkdir MCRestimate.buildbin-libdir && C:\Users\biocbuild\bbs-3.10-bioc\R\bin\R.exe CMD INSTALL --merge-multiarch --build --library=MCRestimate.buildbin-libdir MCRestimate_2.42.0.tar.gz
###
##############################################################################
##############################################################################
install for i386
* installing *source* package 'MCRestimate' ...
** using staged installation
** R
** inst
** byte-compile and prepare package for lazy loading
** help
*** installing help indices
converting help for package 'MCRestimate'
finding HTML links ... done
ClassifierBuild html
MCRconfusion html
MCRestimate html
MCRestimateMerge html
PLR html
SVM.OVA.wrap html
class.factor.format html
geneReduction html
important.variable.names html
indVotes html
intersectList html
plot.MCRestimate html
replace.NA html
select.NA.elements html
wrapper.fkt html
** building package indices
** installing vignettes
** testing if installed package can be loaded from temporary location
** testing if installed package can be loaded from final location
** testing if installed package keeps a record of temporary installation path
install for x64
* installing *source* package 'MCRestimate' ...
** testing if installed package can be loaded
* MD5 sums
packaged installation of 'MCRestimate' as MCRestimate_2.42.0.zip
* DONE (MCRestimate)