| Back to Multiple platform build/check report for BioC 3.10 |
|
This page was generated on 2020-04-15 12:23:24 -0400 (Wed, 15 Apr 2020).
| Package 932/1823 | Hostname | OS / Arch | INSTALL | BUILD | CHECK | BUILD BIN | ||||||
| M3D 1.20.0 Tom Mayo
| malbec1 | Linux (Ubuntu 18.04.4 LTS) / x86_64 | OK | OK | OK | |||||||
| tokay1 | Windows Server 2012 R2 Standard / x64 | [ OK ] | OK | OK | OK | |||||||
| merida1 | OS X 10.11.6 El Capitan / x86_64 | OK | OK | OK | OK |
| Package: M3D |
| Version: 1.20.0 |
| Command: C:\Users\biocbuild\bbs-3.10-bioc\R\bin\R.exe --arch x64 CMD INSTALL --no-multiarch M3D |
| StartedAt: 2020-04-14 20:37:47 -0400 (Tue, 14 Apr 2020) |
| EndedAt: 2020-04-14 20:38:41 -0400 (Tue, 14 Apr 2020) |
| EllapsedTime: 54.3 seconds |
| RetCode: 0 |
| Status: OK |
##############################################################################
##############################################################################
###
### Running command:
###
### C:\Users\biocbuild\bbs-3.10-bioc\R\bin\R.exe --arch x64 CMD INSTALL --no-multiarch M3D
###
##############################################################################
##############################################################################
* installing to library 'C:/Users/biocbuild/bbs-3.10-bioc/R/library'
* installing *source* package 'M3D' ...
** using staged installation
** libs
C:/Rtools/mingw_64/bin/g++ -std=gnu++11 -I"C:/Users/biocbuild/bbs-3.10-bioc/R/include" -DNDEBUG -I"C:/Users/biocbuild/bbs-3.10-bioc/R/library/Rcpp/include" -I"C:/extsoft/include" -O2 -Wall -mtune=core2 -c RcppExports.cpp -o RcppExports.o
C:/Rtools/mingw_64/bin/g++ -std=gnu++11 -I"C:/Users/biocbuild/bbs-3.10-bioc/R/include" -DNDEBUG -I"C:/Users/biocbuild/bbs-3.10-bioc/R/library/Rcpp/include" -I"C:/extsoft/include" -O2 -Wall -mtune=core2 -c cpp_fns.cpp -o cpp_fns.o
C:/Rtools/mingw_64/bin/g++ -std=gnu++11 -shared -s -static-libgcc -o M3D.dll tmp.def RcppExports.o cpp_fns.o -LC:/extsoft/lib/x64 -LC:/extsoft/lib -LC:/Users/biocbuild/bbs-3.10-bioc/R/bin/x64 -lR
installing to C:/Users/biocbuild/bbs-3.10-bioc/R/library/00LOCK-M3D/00new/M3D/libs/x64
** R
** data
** byte-compile and prepare package for lazy loading
** help
*** installing help indices
converting help for package 'M3D'
finding HTML links ... done
CpGsDemo html
M3D-package html
M3D_Single html
M3D_Wrapper html
M3D_Wrapper_lite html
MMDlistDemo html
PDemo html
determineGroupComps html
findComps html
medianFreq html
median_freq html
plotCoverageSampleProfiles html
plotMethProfile html
plotMethSampleProfiles html
pvals html
pvals_lite html
readBedFiles html
readBedRaw html
rrbsDemo html
test_colData_structure html
** building package indices
** installing vignettes
** testing if installed package can be loaded from temporary location
** testing if installed package can be loaded from final location
** testing if installed package keeps a record of temporary installation path
* DONE (M3D)
Making 'packages.html' ... done