| Back to Multiple platform build/check report for BioC 3.10 |
|
This page was generated on 2020-04-15 12:50:19 -0400 (Wed, 15 Apr 2020).
| Package 907/1823 | Hostname | OS / Arch | INSTALL | BUILD | CHECK | BUILD BIN | ||||||
| LinkHD 1.0.0 "Laura M Zingaretti"
| malbec1 | Linux (Ubuntu 18.04.4 LTS) / x86_64 | OK | OK | OK | |||||||
| tokay1 | Windows Server 2012 R2 Standard / x64 | OK | OK | OK | OK | |||||||
| merida1 | OS X 10.11.6 El Capitan / x86_64 | OK | OK | [ OK ] | OK |
| Package: LinkHD |
| Version: 1.0.0 |
| Command: /Library/Frameworks/R.framework/Versions/Current/Resources/bin/R CMD check --install=check:LinkHD.install-out.txt --library=/Library/Frameworks/R.framework/Versions/Current/Resources/library --no-vignettes --timings LinkHD_1.0.0.tar.gz |
| StartedAt: 2020-04-15 03:25:09 -0400 (Wed, 15 Apr 2020) |
| EndedAt: 2020-04-15 03:28:54 -0400 (Wed, 15 Apr 2020) |
| EllapsedTime: 224.8 seconds |
| RetCode: 0 |
| Status: OK |
| CheckDir: LinkHD.Rcheck |
| Warnings: 0 |
############################################################################## ############################################################################## ### ### Running command: ### ### /Library/Frameworks/R.framework/Versions/Current/Resources/bin/R CMD check --install=check:LinkHD.install-out.txt --library=/Library/Frameworks/R.framework/Versions/Current/Resources/library --no-vignettes --timings LinkHD_1.0.0.tar.gz ### ############################################################################## ############################################################################## * using log directory ‘/Users/biocbuild/bbs-3.10-bioc/meat/LinkHD.Rcheck’ * using R version 3.6.3 (2020-02-29) * using platform: x86_64-apple-darwin15.6.0 (64-bit) * using session charset: UTF-8 * using option ‘--no-vignettes’ * checking for file ‘LinkHD/DESCRIPTION’ ... OK * checking extension type ... Package * this is package ‘LinkHD’ version ‘1.0.0’ * package encoding: UTF-8 * checking package namespace information ... OK * checking package dependencies ... OK * checking if this is a source package ... OK * checking if there is a namespace ... OK * checking for hidden files and directories ... OK * checking for portable file names ... OK * checking for sufficient/correct file permissions ... OK * checking whether package ‘LinkHD’ can be installed ... OK * checking installed package size ... OK * checking package directory ... OK * checking ‘build’ directory ... OK * checking DESCRIPTION meta-information ... OK * checking top-level files ... OK * checking for left-over files ... OK * checking index information ... OK * checking package subdirectories ... OK * checking R files for non-ASCII characters ... OK * checking R files for syntax errors ... OK * checking whether the package can be loaded ... OK * checking whether the package can be loaded with stated dependencies ... OK * checking whether the package can be unloaded cleanly ... OK * checking whether the namespace can be loaded with stated dependencies ... OK * checking whether the namespace can be unloaded cleanly ... OK * checking dependencies in R code ... OK * checking S3 generic/method consistency ... OK * checking replacement functions ... OK * checking foreign function calls ... OK * checking R code for possible problems ... OK * checking Rd files ... OK * checking Rd metadata ... OK * checking Rd cross-references ... OK * checking for missing documentation entries ... OK * checking for code/documentation mismatches ... OK * checking Rd \usage sections ... OK * checking Rd contents ... OK * checking for unstated dependencies in examples ... OK * checking contents of ‘data’ directory ... OK * checking data for non-ASCII characters ... OK * checking data for ASCII and uncompressed saves ... OK * checking files in ‘vignettes’ ... OK * checking examples ... OK * checking for unstated dependencies in vignettes ... OK * checking package vignettes in ‘inst/doc’ ... OK * checking running R code from vignettes ... SKIPPED * checking re-building of vignette outputs ... SKIPPED * checking PDF version of manual ... OK * DONE Status: OK
LinkHD.Rcheck/00install.out
############################################################################## ############################################################################## ### ### Running command: ### ### /Library/Frameworks/R.framework/Versions/Current/Resources/bin/R CMD INSTALL LinkHD ### ############################################################################## ############################################################################## * installing to library ‘/Library/Frameworks/R.framework/Versions/3.6/Resources/library’ * installing *source* package ‘LinkHD’ ... ** using staged installation ** R ** data *** moving datasets to lazyload DB ** byte-compile and prepare package for lazy loading ** help *** installing help indices ** building package indices ** installing vignettes ** testing if installed package can be loaded from temporary location ** testing if installed package can be loaded from final location ** testing if installed package keeps a record of temporary installation path * DONE (LinkHD)
LinkHD.Rcheck/LinkHD-Ex.timings
| name | user | system | elapsed | |
| Compromise_matrix-methods | 1.484 | 0.127 | 1.627 | |
| DataProcessing | 0.012 | 0.002 | 0.014 | |
| DistStatis-Class | 0.001 | 0.001 | 0.001 | |
| DistStatis-CompromisePlot | 0.953 | 0.059 | 1.021 | |
| DistStatis-CorrelationPlot | 0.861 | 0.043 | 0.915 | |
| DistStatis-GlobalPlot | 1.768 | 0.073 | 1.858 | |
| Euclid_Im-methods | 0.559 | 0.037 | 0.603 | |
| Inertia_RV-methods | 0.504 | 0.030 | 0.536 | |
| Inertia_comp-methods | 0.520 | 0.029 | 0.555 | |
| LinkData-LinkData | 0.536 | 0.022 | 0.560 | |
| OTU2Taxa-OTU2Taxa | 4.636 | 0.099 | 4.760 | |
| RQO-methods | 0.591 | 0.052 | 0.650 | |
| Read_Data | 0 | 0 | 0 | |
| Ruminotypes | 0.001 | 0.001 | 0.001 | |
| Taraoceans | 0.001 | 0.001 | 0.002 | |
| Trajectories-methods | 1.606 | 0.303 | 1.916 | |
| VarSelection-Class | 0.001 | 0.000 | 0.001 | |
| VarSelection | 2.957 | 0.059 | 3.043 | |
| VarTable-methods | 2.799 | 0.054 | 2.865 | |
| Var_coordinates-methods | 3.304 | 0.071 | 3.393 | |
| Variables-methods | 2.538 | 0.038 | 2.593 | |
| compromise_coords-methods | 0.565 | 0.023 | 0.591 | |
| correl-methods | 0.545 | 0.022 | 0.571 | |
| dAB-dAB | 0.972 | 0.034 | 1.007 | |
| sign_values-methods | 2.881 | 0.086 | 2.994 | |