| Back to Multiple platform build/check report for BioC 3.10 | 
  | 
This page was generated on 2020-04-15 12:43:40 -0400 (Wed, 15 Apr 2020).
| Package 838/1823 | Hostname | OS / Arch | INSTALL | BUILD | CHECK | BUILD BIN | ||||||
| ImmuneSpaceR 1.14.1 ImmuneSpace Package Maintainer 
  | malbec1 | Linux (Ubuntu 18.04.4 LTS) / x86_64 | OK | OK | OK | |||||||
| tokay1 | Windows Server 2012 R2 Standard / x64 | OK | OK | OK | OK | |||||||
| merida1 | OS X 10.11.6 El Capitan / x86_64 | OK | OK | OK | [ OK ] | 
| Package: ImmuneSpaceR | 
| Version: 1.14.1 | 
| Command: rm -rf ImmuneSpaceR.buildbin-libdir && mkdir ImmuneSpaceR.buildbin-libdir && /Users/biocbuild/BBS/utils/build-universal.sh ImmuneSpaceR_1.14.1.tar.gz /Library/Frameworks/R.framework/Versions/Current/Resources/bin/R ImmuneSpaceR.buildbin-libdir | 
| StartedAt: 2020-04-15 07:47:30 -0400 (Wed, 15 Apr 2020) | 
| EndedAt: 2020-04-15 07:48:31 -0400 (Wed, 15 Apr 2020) | 
| EllapsedTime: 61.4 seconds | 
| RetCode: 0 | 
| Status: OK | 
| PackageFile: ImmuneSpaceR_1.14.1.tgz | 
| PackageFileSize: 1.291 MiB | 
############################################################################## ############################################################################## ### ### Running command: ### ### rm -rf ImmuneSpaceR.buildbin-libdir && mkdir ImmuneSpaceR.buildbin-libdir && /Users/biocbuild/BBS/utils/build-universal.sh ImmuneSpaceR_1.14.1.tar.gz /Library/Frameworks/R.framework/Versions/Current/Resources/bin/R ImmuneSpaceR.buildbin-libdir ### ############################################################################## ############################################################################## >>>>>>> >>>>>>> INSTALLATION WITH 'R CMD INSTALL --preclean --no-multiarch --library=ImmuneSpaceR.buildbin-libdir ImmuneSpaceR_1.14.1.tar.gz' >>>>>>> * installing *source* package ‘ImmuneSpaceR’ ... ** using staged installation ** R ** inst ** byte-compile and prepare package for lazy loading ** help *** installing help indices *** copying figures ** building package indices ** installing vignettes ** testing if installed package can be loaded from temporary location ** testing if installed package can be loaded from final location ** testing if installed package keeps a record of temporary installation path * DONE (ImmuneSpaceR)