| Back to Multiple platform build/check report for BioC 3.10 |
|
This page was generated on 2020-04-15 12:09:23 -0400 (Wed, 15 Apr 2020).
| Package 840/1823 | Hostname | OS / Arch | INSTALL | BUILD | CHECK | BUILD BIN | ||||||
| IMPCdata 1.22.0 Jeremy Mason
| malbec1 | Linux (Ubuntu 18.04.4 LTS) / x86_64 | OK | OK | [ OK ] | |||||||
| tokay1 | Windows Server 2012 R2 Standard / x64 | OK | OK | OK | OK | |||||||
| merida1 | OS X 10.11.6 El Capitan / x86_64 | OK | OK | OK | OK |
| Package: IMPCdata |
| Version: 1.22.0 |
| Command: /home/biocbuild/bbs-3.10-bioc/R/bin/R CMD check --install=check:IMPCdata.install-out.txt --library=/home/biocbuild/bbs-3.10-bioc/R/library --no-vignettes --timings IMPCdata_1.22.0.tar.gz |
| StartedAt: 2020-04-15 02:37:28 -0400 (Wed, 15 Apr 2020) |
| EndedAt: 2020-04-15 02:38:55 -0400 (Wed, 15 Apr 2020) |
| EllapsedTime: 86.9 seconds |
| RetCode: 0 |
| Status: OK |
| CheckDir: IMPCdata.Rcheck |
| Warnings: 0 |
##############################################################################
##############################################################################
###
### Running command:
###
### /home/biocbuild/bbs-3.10-bioc/R/bin/R CMD check --install=check:IMPCdata.install-out.txt --library=/home/biocbuild/bbs-3.10-bioc/R/library --no-vignettes --timings IMPCdata_1.22.0.tar.gz
###
##############################################################################
##############################################################################
* using log directory ‘/home/biocbuild/bbs-3.10-bioc/meat/IMPCdata.Rcheck’
* using R version 3.6.3 (2020-02-29)
* using platform: x86_64-pc-linux-gnu (64-bit)
* using session charset: UTF-8
* using option ‘--no-vignettes’
* checking for file ‘IMPCdata/DESCRIPTION’ ... OK
* checking extension type ... Package
* this is package ‘IMPCdata’ version ‘1.22.0’
* checking package namespace information ... OK
* checking package dependencies ... OK
* checking if this is a source package ... OK
* checking if there is a namespace ... OK
* checking for hidden files and directories ... OK
* checking for portable file names ... OK
* checking for sufficient/correct file permissions ... OK
* checking whether package ‘IMPCdata’ can be installed ... OK
* checking installed package size ... OK
* checking package directory ... OK
* checking ‘build’ directory ... OK
* checking DESCRIPTION meta-information ... OK
* checking top-level files ... OK
* checking for left-over files ... OK
* checking index information ... OK
* checking package subdirectories ... OK
* checking R files for non-ASCII characters ... OK
* checking R files for syntax errors ... OK
* checking whether the package can be loaded ... OK
* checking whether the package can be loaded with stated dependencies ... OK
* checking whether the package can be unloaded cleanly ... OK
* checking whether the namespace can be loaded with stated dependencies ... OK
* checking whether the namespace can be unloaded cleanly ... OK
* checking dependencies in R code ... OK
* checking S3 generic/method consistency ... OK
* checking replacement functions ... OK
* checking foreign function calls ... OK
* checking R code for possible problems ... OK
* checking Rd files ... OK
* checking Rd metadata ... OK
* checking Rd cross-references ... OK
* checking for missing documentation entries ... OK
* checking for code/documentation mismatches ... OK
* checking Rd \usage sections ... OK
* checking Rd contents ... OK
* checking for unstated dependencies in examples ... OK
* checking files in ‘vignettes’ ... OK
* checking examples ... OK
Examples with CPU or elapsed time > 5s
user system elapsed
getPhenCenters 1.1 0.068 13.717
printProcedures 0.5 0.012 5.297
* checking for unstated dependencies in vignettes ... OK
* checking package vignettes in ‘inst/doc’ ... OK
* checking running R code from vignettes ... SKIPPED
* checking re-building of vignette outputs ... SKIPPED
* checking PDF version of manual ... OK
* DONE
Status: OK
IMPCdata.Rcheck/00install.out
############################################################################## ############################################################################## ### ### Running command: ### ### /home/biocbuild/bbs-3.10-bioc/R/bin/R CMD INSTALL IMPCdata ### ############################################################################## ############################################################################## * installing to library ‘/home/biocbuild/bbs-3.10-bioc/R/library’ * installing *source* package ‘IMPCdata’ ... ** using staged installation ** R ** inst ** byte-compile and prepare package for lazy loading ** help *** installing help indices ** building package indices ** installing vignettes ** testing if installed package can be loaded from temporary location ** testing if installed package can be loaded from final location ** testing if installed package keeps a record of temporary installation path * DONE (IMPCdata)
IMPCdata.Rcheck/IMPCdata-Ex.timings
| name | user | system | elapsed | |
| getAlleles | 0.472 | 0.052 | 3.819 | |
| getGenes | 0.440 | 0.020 | 3.839 | |
| getIMPCDataset | 0.844 | 0.020 | 3.734 | |
| getIMPCTable | 0.32 | 0.02 | 3.00 | |
| getName | 0.072 | 0.000 | 0.816 | |
| getParameters | 0.448 | 0.020 | 3.440 | |
| getPhenCenters | 1.100 | 0.068 | 13.717 | |
| getPipelines | 0.372 | 0.048 | 3.394 | |
| getProcedures | 0.484 | 0.020 | 4.881 | |
| getStrains | 0.256 | 0.020 | 3.269 | |
| getZygosities | 0.092 | 0.004 | 0.595 | |
| printAlleles | 0.476 | 0.024 | 3.451 | |
| printGenes | 0.468 | 0.020 | 3.464 | |
| printParameters | 0.488 | 0.024 | 3.574 | |
| printPhenCenters | 0.148 | 0.024 | 4.688 | |
| printPipelines | 0.376 | 0.028 | 4.171 | |
| printProcedures | 0.500 | 0.012 | 5.297 | |
| printStrains | 0.248 | 0.012 | 2.808 | |