| Back to Multiple platform build/check report for BioC 3.10 |
|
This page was generated on 2020-04-15 12:28:19 -0400 (Wed, 15 Apr 2020).
| Package 835/1823 | Hostname | OS / Arch | INSTALL | BUILD | CHECK | BUILD BIN | ||||||
| IMAS 1.10.0 Seonggyun Han
| malbec1 | Linux (Ubuntu 18.04.4 LTS) / x86_64 | OK | OK | OK | |||||||
| tokay1 | Windows Server 2012 R2 Standard / x64 | OK | OK | OK | [ OK ] | |||||||
| merida1 | OS X 10.11.6 El Capitan / x86_64 | OK | OK | OK | OK |
| Package: IMAS |
| Version: 1.10.0 |
| Command: rm -rf IMAS.buildbin-libdir && mkdir IMAS.buildbin-libdir && C:\Users\biocbuild\bbs-3.10-bioc\R\bin\R.exe CMD INSTALL --merge-multiarch --build --library=IMAS.buildbin-libdir IMAS_1.10.0.tar.gz |
| StartedAt: 2020-04-15 08:58:32 -0400 (Wed, 15 Apr 2020) |
| EndedAt: 2020-04-15 08:59:57 -0400 (Wed, 15 Apr 2020) |
| EllapsedTime: 85.6 seconds |
| RetCode: 0 |
| Status: OK |
| PackageFile: IMAS_1.10.0.zip |
| PackageFileSize: 789.3 KiB |
##############################################################################
##############################################################################
###
### Running command:
###
### rm -rf IMAS.buildbin-libdir && mkdir IMAS.buildbin-libdir && C:\Users\biocbuild\bbs-3.10-bioc\R\bin\R.exe CMD INSTALL --merge-multiarch --build --library=IMAS.buildbin-libdir IMAS_1.10.0.tar.gz
###
##############################################################################
##############################################################################
install for i386
* installing *source* package 'IMAS' ...
** using staged installation
** R
** data
** inst
** byte-compile and prepare package for lazy loading
** help
*** installing help indices
converting help for package 'IMAS'
finding HTML links ... done
ASvisualization html
finding level-2 HTML links ... done
ClinicAnalysis html
Clinical.data html
CompGroupAlt html
ExonsCluster html
GroupSam html
IMAS-package html
MEsQTLFinder html
RatioFromReads html
SplicingReads html
sampleMedata html
sampleMelocus html
samplebamfiles html
samplesnp html
samplesnplocus html
** building package indices
** installing vignettes
** testing if installed package can be loaded from temporary location
** testing if installed package can be loaded from final location
** testing if installed package keeps a record of temporary installation path
install for x64
* installing *source* package 'IMAS' ...
** testing if installed package can be loaded
* MD5 sums
packaged installation of 'IMAS' as IMAS_1.10.0.zip
* DONE (IMAS)