| Back to Multiple platform build/check report for BioC 3.10 |
|
This page was generated on 2020-04-15 12:32:20 -0400 (Wed, 15 Apr 2020).
| Package 805/1823 | Hostname | OS / Arch | INSTALL | BUILD | CHECK | BUILD BIN | ||||||
| HumanTranscriptomeCompendium 1.2.0 VJ Carey
| malbec1 | Linux (Ubuntu 18.04.4 LTS) / x86_64 | OK | OK | OK | |||||||
| tokay1 | Windows Server 2012 R2 Standard / x64 | [ OK ] | ERROR | skipped | skipped | |||||||
| merida1 | OS X 10.11.6 El Capitan / x86_64 | OK | OK | OK | OK |
| Package: HumanTranscriptomeCompendium |
| Version: 1.2.0 |
| Command: C:\cygwin\bin\curl.exe -O https://malbec1.bioconductor.org/BBS/3.10/bioc/src/contrib/HumanTranscriptomeCompendium_1.2.0.tar.gz && rm -rf HumanTranscriptomeCompendium.buildbin-libdir && mkdir HumanTranscriptomeCompendium.buildbin-libdir && C:\Users\biocbuild\bbs-3.10-bioc\R\bin\R.exe CMD INSTALL --merge-multiarch --build --library=HumanTranscriptomeCompendium.buildbin-libdir HumanTranscriptomeCompendium_1.2.0.tar.gz && C:\Users\biocbuild\bbs-3.10-bioc\R\bin\R.exe CMD INSTALL HumanTranscriptomeCompendium_1.2.0.zip && rm HumanTranscriptomeCompendium_1.2.0.tar.gz HumanTranscriptomeCompendium_1.2.0.zip |
| StartedAt: 2020-04-14 19:36:47 -0400 (Tue, 14 Apr 2020) |
| EndedAt: 2020-04-14 19:37:23 -0400 (Tue, 14 Apr 2020) |
| EllapsedTime: 35.3 seconds |
| RetCode: 0 |
| Status: OK |
##############################################################################
##############################################################################
###
### Running command:
###
### C:\cygwin\bin\curl.exe -O https://malbec1.bioconductor.org/BBS/3.10/bioc/src/contrib/HumanTranscriptomeCompendium_1.2.0.tar.gz && rm -rf HumanTranscriptomeCompendium.buildbin-libdir && mkdir HumanTranscriptomeCompendium.buildbin-libdir && C:\Users\biocbuild\bbs-3.10-bioc\R\bin\R.exe CMD INSTALL --merge-multiarch --build --library=HumanTranscriptomeCompendium.buildbin-libdir HumanTranscriptomeCompendium_1.2.0.tar.gz && C:\Users\biocbuild\bbs-3.10-bioc\R\bin\R.exe CMD INSTALL HumanTranscriptomeCompendium_1.2.0.zip && rm HumanTranscriptomeCompendium_1.2.0.tar.gz HumanTranscriptomeCompendium_1.2.0.zip
###
##############################################################################
##############################################################################
% Total % Received % Xferd Average Speed Time Time Time Current
Dload Upload Total Spent Left Speed
0 0 0 0 0 0 0 0 --:--:-- --:--:-- --:--:-- 0
100 2159k 100 2159k 0 0 26.2M 0 --:--:-- --:--:-- --:--:-- 27.7M
install for i386
Warning in untar2(tarfile, files, list, exdir, restore_times) :
failed to copy 'HumanTranscriptomeCompendium/vignettes/htxcomp.Rmd' to 'HumanTranscriptomeCompendium/README.md'
* installing *source* package 'HumanTranscriptomeCompendium' ...
** using staged installation
** R
** data
*** moving datasets to lazyload DB
** inst
** byte-compile and prepare package for lazy loading
** help
*** installing help indices
converting help for package 'HumanTranscriptomeCompendium'
finding HTML links ... done
HumanTranscriptomeCompendium.colnames html
addRD html
ca43k html
get_ds4841 html
htx_app html
htx_load html
htx_query_by_study_accession html
htx_query_by_text html
load_bigrnaFiles html
load_experTable html
load_studTable html
path_doc4842 html
procExpToGene html
tx2gene_gencode27 html
uniqueAcc_120518 html
** building package indices
** installing vignettes
** testing if installed package can be loaded from temporary location
** testing if installed package can be loaded from final location
** testing if installed package keeps a record of temporary installation path
install for x64
Warning in untar2(tarfile, files, list, exdir, restore_times) :
failed to copy 'HumanTranscriptomeCompendium/vignettes/htxcomp.Rmd' to 'HumanTranscriptomeCompendium/README.md'
* installing *source* package 'HumanTranscriptomeCompendium' ...
** testing if installed package can be loaded
* MD5 sums
packaged installation of 'HumanTranscriptomeCompendium' as HumanTranscriptomeCompendium_1.2.0.zip
* DONE (HumanTranscriptomeCompendium)
* installing to library 'C:/Users/biocbuild/bbs-3.10-bioc/R/library'
package 'HumanTranscriptomeCompendium' successfully unpacked and MD5 sums checked