| Back to Multiple platform build/check report for BioC 3.10 |
|
This page was generated on 2020-04-15 12:12:58 -0400 (Wed, 15 Apr 2020).
| Package 784/1823 | Hostname | OS / Arch | INSTALL | BUILD | CHECK | BUILD BIN | ||||||
| HiCcompare 1.8.0 John Stansfield
| malbec1 | Linux (Ubuntu 18.04.4 LTS) / x86_64 | OK | OK | [ OK ] | |||||||
| tokay1 | Windows Server 2012 R2 Standard / x64 | OK | OK | OK | OK | |||||||
| merida1 | OS X 10.11.6 El Capitan / x86_64 | OK | OK | OK | OK |
| Package: HiCcompare |
| Version: 1.8.0 |
| Command: /home/biocbuild/bbs-3.10-bioc/R/bin/R CMD check --install=check:HiCcompare.install-out.txt --library=/home/biocbuild/bbs-3.10-bioc/R/library --no-vignettes --timings HiCcompare_1.8.0.tar.gz |
| StartedAt: 2020-04-15 05:00:07 -0400 (Wed, 15 Apr 2020) |
| EndedAt: 2020-04-15 05:14:44 -0400 (Wed, 15 Apr 2020) |
| EllapsedTime: 877.2 seconds |
| RetCode: 0 |
| Status: OK |
| CheckDir: HiCcompare.Rcheck |
| Warnings: 0 |
##############################################################################
##############################################################################
###
### Running command:
###
### /home/biocbuild/bbs-3.10-bioc/R/bin/R CMD check --install=check:HiCcompare.install-out.txt --library=/home/biocbuild/bbs-3.10-bioc/R/library --no-vignettes --timings HiCcompare_1.8.0.tar.gz
###
##############################################################################
##############################################################################
* using log directory ‘/home/biocbuild/bbs-3.10-bioc/meat/HiCcompare.Rcheck’
* using R version 3.6.3 (2020-02-29)
* using platform: x86_64-pc-linux-gnu (64-bit)
* using session charset: UTF-8
* using option ‘--no-vignettes’
* checking for file ‘HiCcompare/DESCRIPTION’ ... OK
* this is package ‘HiCcompare’ version ‘1.8.0’
* package encoding: UTF-8
* checking package namespace information ... OK
* checking package dependencies ... OK
* checking if this is a source package ... OK
* checking if there is a namespace ... OK
* checking for hidden files and directories ... OK
* checking for portable file names ... OK
* checking for sufficient/correct file permissions ... OK
* checking whether package ‘HiCcompare’ can be installed ... OK
* checking installed package size ... NOTE
installed size is 5.9Mb
sub-directories of 1Mb or more:
data 5.6Mb
* checking package directory ... OK
* checking ‘build’ directory ... OK
* checking DESCRIPTION meta-information ... OK
* checking top-level files ... OK
* checking for left-over files ... OK
* checking index information ... OK
* checking package subdirectories ... OK
* checking R files for non-ASCII characters ... OK
* checking R files for syntax errors ... OK
* checking whether the package can be loaded ... OK
* checking whether the package can be loaded with stated dependencies ... OK
* checking whether the package can be unloaded cleanly ... OK
* checking whether the namespace can be loaded with stated dependencies ... OK
* checking whether the namespace can be unloaded cleanly ... OK
* checking dependencies in R code ... OK
* checking S3 generic/method consistency ... OK
* checking replacement functions ... OK
* checking foreign function calls ... OK
* checking R code for possible problems ... NOTE
.adjust_pval : <anonymous>: no visible binding for global variable
‘p.adj’
.adjust_pval : <anonymous>: no visible binding for global variable
‘p.value’
.adjust_pval: no visible binding for global variable ‘p.value’
.adjust_pval: no visible binding for global variable ‘p.adj’
.calc.diff.thresh: no visible global function definition for ‘sd’
.calc.pval: no visible binding for global variable ‘D’
.calc.pval: no visible binding for global variable ‘p.value’
.calc.pval: no visible binding for global variable ‘p.adj’
.calc.pval: no visible binding for global variable ‘adj.M’
.calc.pval: no visible binding for global variable ‘fold.change’
.calc.pval: no visible binding for global variable ‘adj.IF2’
.calc.pval: no visible binding for global variable ‘adj.IF1’
.calc_z2: no visible global function definition for ‘sd’
.calc_z2: no visible binding for global variable ‘Z’
.calc_z2: no visible global function definition for ‘pnorm’
.calc_z2: no visible binding for global variable ‘p.value’
.loess.matrix: no visible binding for global variable ‘adj.IF1’
.loess.matrix: no visible binding for global variable ‘IF1’
.loess.matrix: no visible binding for global variable ‘adj.IF2’
.loess.matrix: no visible binding for global variable ‘IF2’
.loess.matrix: no visible binding for global variable ‘adj.M’
.loess.matrix: no visible binding for global variable ‘A’
.sim.mat: no visible global function definition for ‘head’
.split_cent: no visible binding for global variable
‘centromere_locations’
.split_cent: no visible binding for global variable ‘start1’
.split_cent: no visible binding for global variable ‘start2’
.split_cent: no visible binding for global variable ‘chr1’
.split_cent: no visible binding for global variable ‘chr2’
MA_norm: no visible binding for global variable ‘D’
MA_norm: no visible binding for global variable ‘M’
MA_norm: no visible binding for global variable ‘adj.IF1’
MA_norm: no visible binding for global variable ‘IF1’
MA_norm: no visible binding for global variable ‘adj.IF2’
MA_norm: no visible binding for global variable ‘IF2’
MA_norm: no visible binding for global variable ‘adj.M’
cooler2sparse: no visible binding for global variable ‘chr1’
cooler2sparse: no visible binding for global variable ‘chr2’
cooler2sparse: no visible binding for global variable ‘IF’
create.hic.table: no visible binding for global variable ‘D’
create.hic.table: no visible binding for global variable ‘region2’
create.hic.table: no visible binding for global variable ‘region1’
create.hic.table: no visible binding for global variable ‘IF2’
create.hic.table: no visible binding for global variable ‘M’
create.hic.table: no visible binding for global variable ‘IF1’
create.hic.table: no visible binding for global variable ‘i’
create.hic.table: no visible binding for global variable ‘j’
filter_params: no visible binding for global variable ‘M’
filter_params: no visible binding for global variable ‘IF1’
filter_params: no visible binding for global variable ‘IF2’
filter_params: no visible global function definition for ‘axis’
full2sparse: no visible binding for global variable ‘IF’
hic_compare : <anonymous>: no visible binding for global variable
‘p.adj’
hic_simulate: no visible binding for global variable ‘bias.slope’
hic_simulate: no visible global function definition for ‘na.omit’
hicpro2bedpe: no visible binding for global variable ‘chr1’
hicpro2bedpe: no visible binding for global variable ‘chr2’
manhattan_plot: no visible binding for global variable ‘bp’
manhattan_plot: no visible binding for global variable ‘count’
sim.other.methods: no visible binding for global variable ‘adj.IF1’
sim.other.methods: no visible binding for global variable ‘IF1’
sim.other.methods: no visible binding for global variable ‘adj.IF2’
sim.other.methods: no visible binding for global variable ‘IF2’
sim.other.methods: no visible binding for global variable ‘adj.M’
sim.other.methods: no visible binding for global variable ‘M’
sim.other.methods: no visible global function definition for ‘na.omit’
sim_matrix: no visible binding for global variable ‘bias.slope’
total_sum: no visible binding for global variable ‘IF2’
total_sum: no visible binding for global variable ‘M’
total_sum: no visible binding for global variable ‘IF1’
total_sum: no visible binding for global variable ‘chr1’
volcano: no visible binding for global variable ‘A’
volcano: no visible binding for global variable ‘adj.IF1’
volcano: no visible binding for global variable ‘adj.IF2’
volcano: no visible binding for global variable ‘p.value’
volcano: no visible binding for global variable ‘D’
Undefined global functions or variables:
A D IF IF1 IF2 M Z adj.IF1 adj.IF2 adj.M axis bias.slope bp
centromere_locations chr1 chr2 count fold.change head i j na.omit
p.adj p.value pnorm region1 region2 sd start1 start2
Consider adding
importFrom("graphics", "axis")
importFrom("stats", "D", "na.omit", "pnorm", "sd")
importFrom("utils", "head")
to your NAMESPACE file.
* checking Rd files ... OK
* checking Rd metadata ... OK
* checking Rd cross-references ... OK
* checking for missing documentation entries ... OK
* checking for code/documentation mismatches ... OK
* checking Rd \usage sections ... OK
* checking Rd contents ... OK
* checking for unstated dependencies in examples ... OK
* checking contents of ‘data’ directory ... OK
* checking data for non-ASCII characters ... OK
* checking data for ASCII and uncompressed saves ... OK
* checking files in ‘vignettes’ ... OK
* checking examples ... OK
Examples with CPU or elapsed time > 5s
user system elapsed
filter_params 1842.128 8.660 442.246
hic_simulate 104.404 0.616 28.778
sim.other.methods 100.692 0.564 31.002
sim_matrix 99.448 0.384 28.337
visualize_pvals 36.944 0.148 10.795
manhattan_plot 36.004 0.152 10.376
hic_compare 35.684 0.252 9.938
MD.plot2 31.928 0.212 6.714
hic_diff 30.652 0.196 12.332
cooler2sparse 9.144 0.116 2.555
* checking for unstated dependencies in ‘tests’ ... OK
* checking tests ...
Running ‘testthat.R’
OK
* checking for unstated dependencies in vignettes ... OK
* checking package vignettes in ‘inst/doc’ ... OK
* checking running R code from vignettes ... SKIPPED
* checking re-building of vignette outputs ... SKIPPED
* checking PDF version of manual ... OK
* DONE
Status: 2 NOTEs
See
‘/home/biocbuild/bbs-3.10-bioc/meat/HiCcompare.Rcheck/00check.log’
for details.
HiCcompare.Rcheck/00install.out
############################################################################## ############################################################################## ### ### Running command: ### ### /home/biocbuild/bbs-3.10-bioc/R/bin/R CMD INSTALL HiCcompare ### ############################################################################## ############################################################################## * installing to library ‘/home/biocbuild/bbs-3.10-bioc/R/library’ * installing *source* package ‘HiCcompare’ ... ** using staged installation ** R ** data *** moving datasets to lazyload DB ** byte-compile and prepare package for lazy loading Note: wrong number of arguments to 'ceiling' ** help *** installing help indices ** building package indices ** installing vignettes ** testing if installed package can be loaded from temporary location ** testing if installed package can be loaded from final location ** testing if installed package keeps a record of temporary installation path * DONE (HiCcompare)
HiCcompare.Rcheck/tests/testthat.Rout
R version 3.6.3 (2020-02-29) -- "Holding the Windsock"
Copyright (C) 2020 The R Foundation for Statistical Computing
Platform: x86_64-pc-linux-gnu (64-bit)
R is free software and comes with ABSOLUTELY NO WARRANTY.
You are welcome to redistribute it under certain conditions.
Type 'license()' or 'licence()' for distribution details.
R is a collaborative project with many contributors.
Type 'contributors()' for more information and
'citation()' on how to cite R or R packages in publications.
Type 'demo()' for some demos, 'help()' for on-line help, or
'help.start()' for an HTML browser interface to help.
Type 'q()' to quit R.
> library(testthat)
> library(HiCcompare)
Loading required package: dplyr
Attaching package: 'dplyr'
The following object is masked from 'package:testthat':
matches
The following objects are masked from 'package:stats':
filter, lag
The following objects are masked from 'package:base':
intersect, setdiff, setequal, union
>
> test_check("HiCcompare")
══ testthat results ═══════════════════════════════════════════════════════════
[ OK: 28 | SKIPPED: 0 | WARNINGS: 0 | FAILED: 0 ]
>
> proc.time()
user system elapsed
151.336 1.084 49.107
HiCcompare.Rcheck/HiCcompare-Ex.timings
| name | user | system | elapsed | |
| KRnorm | 0.004 | 0.000 | 0.003 | |
| MA_norm | 0.092 | 0.004 | 0.098 | |
| MD.plot1 | 0.256 | 0.000 | 0.256 | |
| MD.plot2 | 31.928 | 0.212 | 6.714 | |
| SCN | 0.004 | 0.000 | 0.001 | |
| cooler2bedpe | 0 | 0 | 0 | |
| cooler2sparse | 9.144 | 0.116 | 2.555 | |
| create.hic.table | 0.640 | 0.000 | 0.201 | |
| filter_params | 1842.128 | 8.660 | 442.246 | |
| full2sparse | 0.152 | 0.000 | 0.082 | |
| get_CNV | 0 | 0 | 0 | |
| hic_compare | 35.684 | 0.252 | 9.938 | |
| hic_diff | 30.652 | 0.196 | 12.332 | |
| hic_loess | 0.332 | 0.000 | 0.332 | |
| hic_simulate | 104.404 | 0.616 | 28.778 | |
| hicpro2bedpe | 0 | 0 | 0 | |
| make_InteractionSet | 0.360 | 0.000 | 0.361 | |
| manhattan_plot | 36.004 | 0.152 | 10.376 | |
| remove_centromere | 0.000 | 0.000 | 0.002 | |
| sim.other.methods | 100.692 | 0.564 | 31.002 | |
| sim_matrix | 99.448 | 0.384 | 28.337 | |
| sparse2full | 0.000 | 0.004 | 0.003 | |
| split_centromere | 0.528 | 0.004 | 0.183 | |
| total_sum | 0.816 | 0.012 | 0.438 | |
| visualize_pvals | 36.944 | 0.148 | 10.795 | |