| Back to Multiple platform build/check report for BioC 3.10 | 
  | 
This page was generated on 2020-04-15 12:23:03 -0400 (Wed, 15 Apr 2020).
| Package 775/1823 | Hostname | OS / Arch | INSTALL | BUILD | CHECK | BUILD BIN | ||||||
| HDTD 1.20.0 Anestis Touloumis 
  | malbec1 | Linux (Ubuntu 18.04.4 LTS) / x86_64 | OK | OK | OK | |||||||
| tokay1 | Windows Server 2012 R2 Standard / x64 | OK | OK | OK | [ OK ] | |||||||
| merida1 | OS X 10.11.6 El Capitan / x86_64 | OK | OK | OK | OK | 
| Package: HDTD | 
| Version: 1.20.0 | 
| Command: rm -rf HDTD.buildbin-libdir && mkdir HDTD.buildbin-libdir && C:\Users\biocbuild\bbs-3.10-bioc\R\bin\R.exe CMD INSTALL --merge-multiarch --build --library=HDTD.buildbin-libdir HDTD_1.20.0.tar.gz | 
| StartedAt: 2020-04-15 08:55:26 -0400 (Wed, 15 Apr 2020) | 
| EndedAt: 2020-04-15 08:56:51 -0400 (Wed, 15 Apr 2020) | 
| EllapsedTime: 85.2 seconds | 
| RetCode: 0 | 
| Status: OK | 
| PackageFile: HDTD_1.20.0.zip | 
| PackageFileSize: 845.9 KiB | 
##############################################################################
##############################################################################
###
### Running command:
###
###   rm -rf HDTD.buildbin-libdir && mkdir HDTD.buildbin-libdir && C:\Users\biocbuild\bbs-3.10-bioc\R\bin\R.exe CMD INSTALL --merge-multiarch --build --library=HDTD.buildbin-libdir HDTD_1.20.0.tar.gz
###
##############################################################################
##############################################################################
install for i386
* installing *source* package 'HDTD' ...
** using staged installation
** libs
C:/Rtools/mingw_32/bin/g++ -std=gnu++11  -I"C:/Users/BIOCBU~1/BBS-3~1.10-/R/include" -DNDEBUG  -I"C:/Users/biocbuild/bbs-3.10-bioc/R/library/Rcpp/include" -I"C:/Users/biocbuild/bbs-3.10-bioc/R/library/RcppArmadillo/include"   -I"C:/extsoft/include"  -fopenmp    -O2 -Wall  -mtune=core2 -c HDTDcpp.cpp -o HDTDcpp.o
C:/Rtools/mingw_32/bin/g++ -std=gnu++11  -I"C:/Users/BIOCBU~1/BBS-3~1.10-/R/include" -DNDEBUG  -I"C:/Users/biocbuild/bbs-3.10-bioc/R/library/Rcpp/include" -I"C:/Users/biocbuild/bbs-3.10-bioc/R/library/RcppArmadillo/include"   -I"C:/extsoft/include"  -fopenmp    -O2 -Wall  -mtune=core2 -c RcppExports.cpp -o RcppExports.o
C:/Rtools/mingw_32/bin/g++ -std=gnu++11 -shared -s -static-libgcc -o HDTD.dll tmp.def HDTDcpp.o RcppExports.o -fopenmp -LC:/Users/BIOCBU~1/BBS-3~1.10-/R/bin/i386 -lRlapack -LC:/Users/BIOCBU~1/BBS-3~1.10-/R/bin/i386 -lRblas -lgfortran -lm -lquadmath -LC:/extsoft/lib/i386 -LC:/extsoft/lib -LC:/Users/BIOCBU~1/BBS-3~1.10-/R/bin/i386 -lR
installing to C:/Users/biocbuild/bbs-3.10-bioc/meat/HDTD.buildbin-libdir/00LOCK-HDTD/00new/HDTD/libs/i386
** R
** data
*** moving datasets to lazyload DB
** inst
** byte-compile and prepare package for lazy loading
** help
*** installing help indices
  converting help for package 'HDTD'
    finding HTML links ... done
    HDTD-package                            html  
    VEGFmouse                               html  
    centerdata                              html  
    covmat.hat                              html  
    covmat.ts                               html  
    meanmat.hat                             html  
    meanmat.ts                              html  
    orderdata                               html  
    transposedata                           html  
** building package indices
** installing vignettes
** testing if installed package can be loaded from temporary location
** testing if installed package can be loaded from final location
** testing if installed package keeps a record of temporary installation path
install for x64
* installing *source* package 'HDTD' ...
** libs
C:/Rtools/mingw_64/bin/g++ -std=gnu++11  -I"C:/Users/BIOCBU~1/BBS-3~1.10-/R/include" -DNDEBUG  -I"C:/Users/biocbuild/bbs-3.10-bioc/R/library/Rcpp/include" -I"C:/Users/biocbuild/bbs-3.10-bioc/R/library/RcppArmadillo/include"   -I"C:/extsoft/include"  -fopenmp    -O2 -Wall  -mtune=core2 -c HDTDcpp.cpp -o HDTDcpp.o
C:/Rtools/mingw_64/bin/g++ -std=gnu++11  -I"C:/Users/BIOCBU~1/BBS-3~1.10-/R/include" -DNDEBUG  -I"C:/Users/biocbuild/bbs-3.10-bioc/R/library/Rcpp/include" -I"C:/Users/biocbuild/bbs-3.10-bioc/R/library/RcppArmadillo/include"   -I"C:/extsoft/include"  -fopenmp    -O2 -Wall  -mtune=core2 -c RcppExports.cpp -o RcppExports.o
C:/Rtools/mingw_64/bin/g++ -std=gnu++11 -shared -s -static-libgcc -o HDTD.dll tmp.def HDTDcpp.o RcppExports.o -fopenmp -LC:/Users/BIOCBU~1/BBS-3~1.10-/R/bin/x64 -lRlapack -LC:/Users/BIOCBU~1/BBS-3~1.10-/R/bin/x64 -lRblas -lgfortran -lm -lquadmath -LC:/extsoft/lib/x64 -LC:/extsoft/lib -LC:/Users/BIOCBU~1/BBS-3~1.10-/R/bin/x64 -lR
installing to C:/Users/biocbuild/bbs-3.10-bioc/meat/HDTD.buildbin-libdir/HDTD/libs/x64
** testing if installed package can be loaded
* MD5 sums
packaged installation of 'HDTD' as HDTD_1.20.0.zip
* DONE (HDTD)