| Back to Multiple platform build/check report for BioC 3.10 |
|
This page was generated on 2020-04-15 12:17:00 -0400 (Wed, 15 Apr 2020).
| Package 742/1823 | Hostname | OS / Arch | INSTALL | BUILD | CHECK | BUILD BIN | ||||||
| GraphAT 1.58.0 Thomas LaFramboise
| malbec1 | Linux (Ubuntu 18.04.4 LTS) / x86_64 | OK | OK | OK | |||||||
| tokay1 | Windows Server 2012 R2 Standard / x64 | OK | OK | OK | [ OK ] | |||||||
| merida1 | OS X 10.11.6 El Capitan / x86_64 | OK | OK | OK | OK |
| Package: GraphAT |
| Version: 1.58.0 |
| Command: rm -rf GraphAT.buildbin-libdir && mkdir GraphAT.buildbin-libdir && C:\Users\biocbuild\bbs-3.10-bioc\R\bin\R.exe CMD INSTALL --merge-multiarch --build --library=GraphAT.buildbin-libdir GraphAT_1.58.0.tar.gz |
| StartedAt: 2020-04-15 08:53:32 -0400 (Wed, 15 Apr 2020) |
| EndedAt: 2020-04-15 08:54:10 -0400 (Wed, 15 Apr 2020) |
| EllapsedTime: 37.9 seconds |
| RetCode: 0 |
| Status: OK |
| PackageFile: GraphAT_1.58.0.zip |
| PackageFileSize: 1.933 MiB |
##############################################################################
##############################################################################
###
### Running command:
###
### rm -rf GraphAT.buildbin-libdir && mkdir GraphAT.buildbin-libdir && C:\Users\biocbuild\bbs-3.10-bioc\R\bin\R.exe CMD INSTALL --merge-multiarch --build --library=GraphAT.buildbin-libdir GraphAT_1.58.0.tar.gz
###
##############################################################################
##############################################################################
install for i386
* installing *source* package 'GraphAT' ...
** using staged installation
** R
** data
** byte-compile and prepare package for lazy loading
** help
*** installing help indices
converting help for package 'GraphAT'
finding HTML links ... done
Phenoclusters html
causton html
cellcycle html
clust2Mat html
depthmat html
getpvalue html
giaever html
mRNAclusters html
makeClustM html
mat2UndirG html
permPower html
perms html
** building package indices
** testing if installed package can be loaded from temporary location
** testing if installed package can be loaded from final location
** testing if installed package keeps a record of temporary installation path
install for x64
* installing *source* package 'GraphAT' ...
** testing if installed package can be loaded
* MD5 sums
packaged installation of 'GraphAT' as GraphAT_1.58.0.zip
* DONE (GraphAT)