| Back to Multiple platform build/check report for BioC 3.10 |
|
This page was generated on 2020-04-15 12:45:17 -0400 (Wed, 15 Apr 2020).
| Package 686/1823 | Hostname | OS / Arch | INSTALL | BUILD | CHECK | BUILD BIN | ||||||
| GenomicScores 1.10.0 Robert Castelo
| malbec1 | Linux (Ubuntu 18.04.4 LTS) / x86_64 | OK | OK | OK | |||||||
| tokay1 | Windows Server 2012 R2 Standard / x64 | OK | OK | WARNINGS | OK | |||||||
| merida1 | OS X 10.11.6 El Capitan / x86_64 | OK | OK | OK | [ OK ] |
| Package: GenomicScores |
| Version: 1.10.0 |
| Command: rm -rf GenomicScores.buildbin-libdir && mkdir GenomicScores.buildbin-libdir && /Users/biocbuild/BBS/utils/build-universal.sh GenomicScores_1.10.0.tar.gz /Library/Frameworks/R.framework/Versions/Current/Resources/bin/R GenomicScores.buildbin-libdir |
| StartedAt: 2020-04-15 07:36:06 -0400 (Wed, 15 Apr 2020) |
| EndedAt: 2020-04-15 07:36:57 -0400 (Wed, 15 Apr 2020) |
| EllapsedTime: 51.3 seconds |
| RetCode: 0 |
| Status: OK |
| PackageFile: GenomicScores_1.10.0.tgz |
| PackageFileSize: 2.665 MiB |
############################################################################## ############################################################################## ### ### Running command: ### ### rm -rf GenomicScores.buildbin-libdir && mkdir GenomicScores.buildbin-libdir && /Users/biocbuild/BBS/utils/build-universal.sh GenomicScores_1.10.0.tar.gz /Library/Frameworks/R.framework/Versions/Current/Resources/bin/R GenomicScores.buildbin-libdir ### ############################################################################## ############################################################################## >>>>>>> >>>>>>> INSTALLATION WITH 'R CMD INSTALL --preclean --no-multiarch --library=GenomicScores.buildbin-libdir GenomicScores_1.10.0.tar.gz' >>>>>>> * installing *source* package ‘GenomicScores’ ... ** using staged installation ** R ** inst ** byte-compile and prepare package for lazy loading ** help *** installing help indices ** building package indices ** installing vignettes ** testing if installed package can be loaded from temporary location ** testing if installed package can be loaded from final location ** testing if installed package keeps a record of temporary installation path * DONE (GenomicScores)