| Back to Multiple platform build/check report for BioC 3.10 |
|
This page was generated on 2020-04-15 12:08:47 -0400 (Wed, 15 Apr 2020).
| Package 751/1823 | Hostname | OS / Arch | INSTALL | BUILD | CHECK | BUILD BIN | ||||||
| GSAR 1.20.0 Yasir Rahmatallah
| malbec1 | Linux (Ubuntu 18.04.4 LTS) / x86_64 | OK | OK | [ OK ] | |||||||
| tokay1 | Windows Server 2012 R2 Standard / x64 | OK | OK | OK | OK | |||||||
| merida1 | OS X 10.11.6 El Capitan / x86_64 | OK | OK | OK | OK |
| Package: GSAR |
| Version: 1.20.0 |
| Command: /home/biocbuild/bbs-3.10-bioc/R/bin/R CMD check --install=check:GSAR.install-out.txt --library=/home/biocbuild/bbs-3.10-bioc/R/library --no-vignettes --timings GSAR_1.20.0.tar.gz |
| StartedAt: 2020-04-15 02:17:30 -0400 (Wed, 15 Apr 2020) |
| EndedAt: 2020-04-15 02:18:11 -0400 (Wed, 15 Apr 2020) |
| EllapsedTime: 41.8 seconds |
| RetCode: 0 |
| Status: OK |
| CheckDir: GSAR.Rcheck |
| Warnings: 0 |
##############################################################################
##############################################################################
###
### Running command:
###
### /home/biocbuild/bbs-3.10-bioc/R/bin/R CMD check --install=check:GSAR.install-out.txt --library=/home/biocbuild/bbs-3.10-bioc/R/library --no-vignettes --timings GSAR_1.20.0.tar.gz
###
##############################################################################
##############################################################################
* using log directory ‘/home/biocbuild/bbs-3.10-bioc/meat/GSAR.Rcheck’
* using R version 3.6.3 (2020-02-29)
* using platform: x86_64-pc-linux-gnu (64-bit)
* using session charset: UTF-8
* using option ‘--no-vignettes’
* checking for file ‘GSAR/DESCRIPTION’ ... OK
* checking extension type ... Package
* this is package ‘GSAR’ version ‘1.20.0’
* checking package namespace information ... OK
* checking package dependencies ... OK
* checking if this is a source package ... OK
* checking if there is a namespace ... OK
* checking for hidden files and directories ... OK
* checking for portable file names ... OK
* checking for sufficient/correct file permissions ... OK
* checking whether package ‘GSAR’ can be installed ... OK
* checking installed package size ... OK
* checking package directory ... OK
* checking ‘build’ directory ... OK
* checking DESCRIPTION meta-information ... OK
* checking top-level files ... OK
* checking for left-over files ... OK
* checking index information ... OK
* checking package subdirectories ... OK
* checking R files for non-ASCII characters ... OK
* checking R files for syntax errors ... OK
* checking whether the package can be loaded ... OK
* checking whether the package can be loaded with stated dependencies ... OK
* checking whether the package can be unloaded cleanly ... OK
* checking whether the namespace can be loaded with stated dependencies ... OK
* checking whether the namespace can be unloaded cleanly ... OK
* checking dependencies in R code ... OK
* checking S3 generic/method consistency ... OK
* checking replacement functions ... OK
* checking foreign function calls ... OK
* checking R code for possible problems ... OK
* checking Rd files ... OK
* checking Rd metadata ... OK
* checking Rd cross-references ... OK
* checking for missing documentation entries ... OK
* checking for code/documentation mismatches ... OK
* checking Rd \usage sections ... OK
* checking Rd contents ... OK
* checking for unstated dependencies in examples ... OK
* checking contents of ‘data’ directory ... OK
* checking data for non-ASCII characters ... OK
* checking data for ASCII and uncompressed saves ... OK
* checking files in ‘vignettes’ ... OK
* checking examples ... OK
Examples with CPU or elapsed time > 5s
user system elapsed
WWtest 6.46 0 6.487
AggrFtest 5.88 0 5.902
* checking for unstated dependencies in vignettes ... OK
* checking package vignettes in ‘inst/doc’ ... OK
* checking running R code from vignettes ... SKIPPED
* checking re-building of vignette outputs ... SKIPPED
* checking PDF version of manual ... OK
* DONE
Status: OK
GSAR.Rcheck/00install.out
############################################################################## ############################################################################## ### ### Running command: ### ### /home/biocbuild/bbs-3.10-bioc/R/bin/R CMD INSTALL GSAR ### ############################################################################## ############################################################################## * installing to library ‘/home/biocbuild/bbs-3.10-bioc/R/library’ * installing *source* package ‘GSAR’ ... ** using staged installation ** R ** data *** moving datasets to lazyload DB ** inst ** byte-compile and prepare package for lazy loading ** help *** installing help indices ** building package indices ** installing vignettes ** testing if installed package can be loaded from temporary location ** testing if installed package can be loaded from final location ** testing if installed package keeps a record of temporary installation path * DONE (GSAR)
GSAR.Rcheck/GSAR-Ex.timings
| name | user | system | elapsed | |
| AggrFtest | 5.880 | 0.000 | 5.902 | |
| GSNCAtest | 3.268 | 0.004 | 3.289 | |
| HDP.ranking | 0.056 | 0.000 | 0.058 | |
| KStest | 0.508 | 0.008 | 0.515 | |
| MDtest | 0.868 | 0.008 | 0.877 | |
| RKStest | 0.284 | 0.000 | 0.284 | |
| RMDtest | 0.604 | 0.000 | 0.605 | |
| TestGeneSets | 1.188 | 0.004 | 1.192 | |
| WWtest | 6.460 | 0.000 | 6.487 | |
| findMST2.PPI | 0.008 | 0.000 | 0.009 | |
| findMST2 | 0.020 | 0.000 | 0.019 | |
| p53DataSet | 0.024 | 0.012 | 0.036 | |
| plotMST2.pathway | 0.100 | 0.000 | 0.096 | |
| radial.ranking | 0.004 | 0.000 | 0.006 | |