| Back to Multiple platform build/check report for BioC 3.10 | 
  | 
This page was generated on 2020-04-15 12:27:38 -0400 (Wed, 15 Apr 2020).
| Package 749/1823 | Hostname | OS / Arch | INSTALL | BUILD | CHECK | BUILD BIN | ||||||
| GRridge 1.10.0 Mark A. van de Wiel 
  | malbec1 | Linux (Ubuntu 18.04.4 LTS) / x86_64 | OK | OK | WARNINGS | |||||||
| tokay1 | Windows Server 2012 R2 Standard / x64 | OK | OK | WARNINGS | [ OK ] | |||||||
| merida1 | OS X 10.11.6 El Capitan / x86_64 | OK | OK | WARNINGS | OK | 
| Package: GRridge | 
| Version: 1.10.0 | 
| Command: rm -rf GRridge.buildbin-libdir && mkdir GRridge.buildbin-libdir && C:\Users\biocbuild\bbs-3.10-bioc\R\bin\R.exe CMD INSTALL --merge-multiarch --build --library=GRridge.buildbin-libdir GRridge_1.10.0.tar.gz | 
| StartedAt: 2020-04-15 08:53:57 -0400 (Wed, 15 Apr 2020) | 
| EndedAt: 2020-04-15 08:54:31 -0400 (Wed, 15 Apr 2020) | 
| EllapsedTime: 33.9 seconds | 
| RetCode: 0 | 
| Status: OK | 
| PackageFile: GRridge_1.10.0.zip | 
| PackageFileSize: 9.064 MiB | 
##############################################################################
##############################################################################
###
### Running command:
###
###   rm -rf GRridge.buildbin-libdir && mkdir GRridge.buildbin-libdir && C:\Users\biocbuild\bbs-3.10-bioc\R\bin\R.exe CMD INSTALL --merge-multiarch --build --library=GRridge.buildbin-libdir GRridge_1.10.0.tar.gz
###
##############################################################################
##############################################################################
install for i386
* installing *source* package 'GRridge' ...
** using staged installation
** R
** data
** inst
** byte-compile and prepare package for lazy loading
** help
*** installing help indices
  converting help for package 'GRridge'
    finding HTML links ... done
    CreatePartition                         html  
    GRridge-package                         html  
    PartitionsSelection                     html  
    auc                                     html  
    dataFarkas                              html  
    dataSimlin                              html  
    dataVerlaat                             html  
    dataWurdinger                           html  
    grridge                                 html  
    grridgeCV                               html  
    hello                                   html  
    matchGeneSets                           html  
    mergeGroups                             html  
    predict.grridge                         html  
    roc                                     html  
** building package indices
** installing vignettes
** testing if installed package can be loaded from temporary location
** testing if installed package can be loaded from final location
** testing if installed package keeps a record of temporary installation path
install for x64
* installing *source* package 'GRridge' ...
** testing if installed package can be loaded
* MD5 sums
packaged installation of 'GRridge' as GRridge_1.10.0.zip
* DONE (GRridge)