| Back to Multiple platform build/check report for BioC 3.10 |
|
This page was generated on 2020-04-15 12:16:59 -0400 (Wed, 15 Apr 2020).
| Package 728/1823 | Hostname | OS / Arch | INSTALL | BUILD | CHECK | BUILD BIN | ||||||
| GOstats 2.52.0 Bioconductor Package Maintainer
| malbec1 | Linux (Ubuntu 18.04.4 LTS) / x86_64 | OK | OK | OK | |||||||
| tokay1 | Windows Server 2012 R2 Standard / x64 | OK | OK | WARNINGS | [ OK ] | |||||||
| merida1 | OS X 10.11.6 El Capitan / x86_64 | OK | OK | OK | OK |
| Package: GOstats |
| Version: 2.52.0 |
| Command: rm -rf GOstats.buildbin-libdir && mkdir GOstats.buildbin-libdir && C:\Users\biocbuild\bbs-3.10-bioc\R\bin\R.exe CMD INSTALL --merge-multiarch --build --library=GOstats.buildbin-libdir GOstats_2.52.0.tar.gz |
| StartedAt: 2020-04-15 08:52:41 -0400 (Wed, 15 Apr 2020) |
| EndedAt: 2020-04-15 08:53:42 -0400 (Wed, 15 Apr 2020) |
| EllapsedTime: 61.5 seconds |
| RetCode: 0 |
| Status: OK |
| PackageFile: GOstats_2.52.0.zip |
| PackageFileSize: 2.077 MiB |
##############################################################################
##############################################################################
###
### Running command:
###
### rm -rf GOstats.buildbin-libdir && mkdir GOstats.buildbin-libdir && C:\Users\biocbuild\bbs-3.10-bioc\R\bin\R.exe CMD INSTALL --merge-multiarch --build --library=GOstats.buildbin-libdir GOstats_2.52.0.tar.gz
###
##############################################################################
##############################################################################
install for i386
* installing *source* package 'GOstats' ...
** using staged installation
** R
** data
** inst
** byte-compile and prepare package for lazy loading
** help
*** installing help indices
converting help for package 'GOstats'
finding HTML links ... done
GOHyperGResult-class html
GOstats-defunct html
GOstats-package html
Ndists html
OBOHyperGResult-class html
compCorrGraph html
compGdist html
hyperGTest html
Rd warning: C:/Users/biocbuild/bbs-3.10-bioc/tmpdir/RtmpmCFbGs/R.INSTALLfc85b71458a/GOstats/man/hyperGTest.Rd:47: file link 'geneGoHyperGeoTest' in package 'Category' does not exist and so has been treated as a topic
Rd warning: C:/Users/biocbuild/bbs-3.10-bioc/tmpdir/RtmpmCFbGs/R.INSTALLfc85b71458a/GOstats/man/hyperGTest.Rd:48: file link 'geneKeggHyperGeoTest' in package 'Category' does not exist and so has been treated as a topic
idx2dimnames html
makeGOGraph html
notConn html
oneGOGraph html
probeSetSummary html
shortestPath html
simLL html
termGraphs html
triadCensus html
** building package indices
** installing vignettes
** testing if installed package can be loaded from temporary location
** testing if installed package can be loaded from final location
** testing if installed package keeps a record of temporary installation path
install for x64
* installing *source* package 'GOstats' ...
** testing if installed package can be loaded
* MD5 sums
packaged installation of 'GOstats' as GOstats_2.52.0.zip
* DONE (GOstats)