| Back to Multiple platform build/check report for BioC 3.10 | 
  | 
This page was generated on 2020-04-15 12:26:41 -0400 (Wed, 15 Apr 2020).
| Package 511/1823 | Hostname | OS / Arch | INSTALL | BUILD | CHECK | BUILD BIN | ||||||
| EGSEA 1.14.0 Monther Alhamdoosh 
  | malbec1 | Linux (Ubuntu 18.04.4 LTS) / x86_64 | OK | OK | OK | |||||||
| tokay1 | Windows Server 2012 R2 Standard / x64 | OK | OK | OK | [ OK ] | |||||||
| merida1 | OS X 10.11.6 El Capitan / x86_64 | OK | OK | OK | OK | 
| Package: EGSEA | 
| Version: 1.14.0 | 
| Command: rm -rf EGSEA.buildbin-libdir && mkdir EGSEA.buildbin-libdir && C:\Users\biocbuild\bbs-3.10-bioc\R\bin\R.exe CMD INSTALL --merge-multiarch --build --library=EGSEA.buildbin-libdir EGSEA_1.14.0.tar.gz | 
| StartedAt: 2020-04-15 08:38:45 -0400 (Wed, 15 Apr 2020) | 
| EndedAt: 2020-04-15 08:40:18 -0400 (Wed, 15 Apr 2020) | 
| EllapsedTime: 92.8 seconds | 
| RetCode: 0 | 
| Status: OK | 
| PackageFile: EGSEA_1.14.0.zip | 
| PackageFileSize: 1.683 MiB | 
##############################################################################
##############################################################################
###
### Running command:
###
###   rm -rf EGSEA.buildbin-libdir && mkdir EGSEA.buildbin-libdir && C:\Users\biocbuild\bbs-3.10-bioc\R\bin\R.exe CMD INSTALL --merge-multiarch --build --library=EGSEA.buildbin-libdir EGSEA_1.14.0.tar.gz
###
##############################################################################
##############################################################################
install for i386
* installing *source* package 'EGSEA' ...
** using staged installation
** R
** inst
** byte-compile and prepare package for lazy loading
groupGOTerms: 	GOBPTerm, GOMFTerm, GOCCTerm environments built.
** help
*** installing help indices
  converting help for package 'EGSEA'
    finding HTML links ... done
    EGSEA-package                           html  
    EGSEAResults-methods                    html  
    GSCollectionIndex-methods               html  
    egsea-aux                               html  
    egsea-index                             html  
    egsea-main                              html  
** building package indices
** installing vignettes
** testing if installed package can be loaded from temporary location
groupGOTerms: 	GOBPTerm, GOMFTerm, GOCCTerm environments built.
** testing if installed package can be loaded from final location
groupGOTerms: 	GOBPTerm, GOMFTerm, GOCCTerm environments built.
** testing if installed package keeps a record of temporary installation path
install for x64
* installing *source* package 'EGSEA' ...
** testing if installed package can be loaded
groupGOTerms: 	GOBPTerm, GOMFTerm, GOCCTerm environments built.
* MD5 sums
packaged installation of 'EGSEA' as EGSEA_1.14.0.zip
* DONE (EGSEA)