| Back to Multiple platform build/check report for BioC 3.10 |
|
This page was generated on 2020-04-15 12:31:56 -0400 (Wed, 15 Apr 2020).
| Package 364/1823 | Hostname | OS / Arch | INSTALL | BUILD | CHECK | BUILD BIN | ||||||
| CoRegFlux 1.2.0 Pauline Trébulle and Mohamed Elati
| malbec1 | Linux (Ubuntu 18.04.4 LTS) / x86_64 | OK | OK | OK | |||||||
| tokay1 | Windows Server 2012 R2 Standard / x64 | OK | OK | [ OK ] | OK | |||||||
| merida1 | OS X 10.11.6 El Capitan / x86_64 | OK | OK | OK | OK |
| Package: CoRegFlux |
| Version: 1.2.0 |
| Command: C:\Users\biocbuild\bbs-3.10-bioc\R\bin\R.exe CMD check --force-multiarch --install=check:CoRegFlux.install-out.txt --library=C:\Users\biocbuild\bbs-3.10-bioc\R\library --no-vignettes --timings CoRegFlux_1.2.0.tar.gz |
| StartedAt: 2020-04-15 02:19:42 -0400 (Wed, 15 Apr 2020) |
| EndedAt: 2020-04-15 02:25:37 -0400 (Wed, 15 Apr 2020) |
| EllapsedTime: 354.9 seconds |
| RetCode: 0 |
| Status: OK |
| CheckDir: CoRegFlux.Rcheck |
| Warnings: 0 |
##############################################################################
##############################################################################
###
### Running command:
###
### C:\Users\biocbuild\bbs-3.10-bioc\R\bin\R.exe CMD check --force-multiarch --install=check:CoRegFlux.install-out.txt --library=C:\Users\biocbuild\bbs-3.10-bioc\R\library --no-vignettes --timings CoRegFlux_1.2.0.tar.gz
###
##############################################################################
##############################################################################
* using log directory 'C:/Users/biocbuild/bbs-3.10-bioc/meat/CoRegFlux.Rcheck'
* using R version 3.6.3 (2020-02-29)
* using platform: x86_64-w64-mingw32 (64-bit)
* using session charset: ISO8859-1
* using option '--no-vignettes'
* checking for file 'CoRegFlux/DESCRIPTION' ... OK
* checking extension type ... Package
* this is package 'CoRegFlux' version '1.2.0'
* package encoding: UTF-8
* checking package namespace information ... OK
* checking package dependencies ... OK
* checking if this is a source package ... OK
* checking if there is a namespace ... OK
* checking for hidden files and directories ... OK
* checking for portable file names ... OK
* checking whether package 'CoRegFlux' can be installed ... OK
* checking installed package size ... OK
* checking package directory ... OK
* checking 'build' directory ... OK
* checking DESCRIPTION meta-information ... OK
* checking top-level files ... OK
* checking for left-over files ... OK
* checking index information ... OK
* checking package subdirectories ... OK
* checking R files for non-ASCII characters ... OK
* checking R files for syntax errors ... OK
* loading checks for arch 'i386'
** checking whether the package can be loaded ... OK
** checking whether the package can be loaded with stated dependencies ... OK
** checking whether the package can be unloaded cleanly ... OK
** checking whether the namespace can be loaded with stated dependencies ... OK
** checking whether the namespace can be unloaded cleanly ... OK
* loading checks for arch 'x64'
** checking whether the package can be loaded ... OK
** checking whether the package can be loaded with stated dependencies ... OK
** checking whether the package can be unloaded cleanly ... OK
** checking whether the namespace can be loaded with stated dependencies ... OK
** checking whether the namespace can be unloaded cleanly ... OK
* checking dependencies in R code ... OK
* checking S3 generic/method consistency ... OK
* checking replacement functions ... OK
* checking foreign function calls ... OK
* checking R code for possible problems ... OK
* checking Rd files ... OK
* checking Rd metadata ... OK
* checking Rd cross-references ... OK
* checking for missing documentation entries ... OK
* checking for code/documentation mismatches ... OK
* checking Rd \usage sections ... OK
* checking Rd contents ... OK
* checking for unstated dependencies in examples ... OK
* checking contents of 'data' directory ... OK
* checking data for non-ASCII characters ... OK
* checking data for ASCII and uncompressed saves ... OK
* checking files in 'vignettes' ... OK
* checking examples ...
** running examples for arch 'i386' ... OK
Examples with CPU or elapsed time > 5s
user system elapsed
predict_linear_model_influence 29.65 0.41 30.08
ODCurveToFluxCurves 18.61 0.12 18.83
ODCurveToMetabolicGeneCurves 9.69 0.35 10.06
Simulation 8.35 0.31 8.66
get_fva_intervals_from_observations 5.20 0.04 5.25
** running examples for arch 'x64' ... OK
Examples with CPU or elapsed time > 5s
user system elapsed
predict_linear_model_influence 24.34 0.53 24.88
ODCurveToFluxCurves 21.43 0.19 21.63
ODCurveToMetabolicGeneCurves 10.42 0.22 10.67
Simulation 6.58 0.28 6.86
* checking for unstated dependencies in 'tests' ... OK
* checking tests ...
** running tests for arch 'i386' ...
Running 'Test.R'
OK
** running tests for arch 'x64' ...
Running 'Test.R'
OK
* checking for unstated dependencies in vignettes ... OK
* checking package vignettes in 'inst/doc' ... OK
* checking running R code from vignettes ... SKIPPED
* checking re-building of vignette outputs ... SKIPPED
* checking PDF version of manual ... OK
* DONE
Status: OK
CoRegFlux.Rcheck/00install.out
##############################################################################
##############################################################################
###
### Running command:
###
### C:\cygwin\bin\curl.exe -O https://malbec1.bioconductor.org/BBS/3.10/bioc/src/contrib/CoRegFlux_1.2.0.tar.gz && rm -rf CoRegFlux.buildbin-libdir && mkdir CoRegFlux.buildbin-libdir && C:\Users\biocbuild\bbs-3.10-bioc\R\bin\R.exe CMD INSTALL --merge-multiarch --build --library=CoRegFlux.buildbin-libdir CoRegFlux_1.2.0.tar.gz && C:\Users\biocbuild\bbs-3.10-bioc\R\bin\R.exe CMD INSTALL CoRegFlux_1.2.0.zip && rm CoRegFlux_1.2.0.tar.gz CoRegFlux_1.2.0.zip
###
##############################################################################
##############################################################################
% Total % Received % Xferd Average Speed Time Time Time Current
Dload Upload Total Spent Left Speed
0 0 0 0 0 0 0 0 --:--:-- --:--:-- --:--:-- 0
100 4574k 100 4574k 0 0 47.7M 0 --:--:-- --:--:-- --:--:-- 49.6M
install for i386
* installing *source* package 'CoRegFlux' ...
** using staged installation
** R
** data
** byte-compile and prepare package for lazy loading
** help
*** installing help indices
converting help for package 'CoRegFlux'
finding HTML links ... done
FBA_step html
ODCurveToFluxCurves html
ODCurveToMetabolicGeneCurves html
ODToFluxBounds html
ODcurveToMetCurve html
ODtoflux html
PredictedGeneState html
SC_EXP_DATA html
SC_GRN_1 html
SC_Test_data html
SC_experiment_influence html
Simulation html
Simulation_Step html
adjust_constraints_to_observed_rates html
aliases_SC html
build_exchange_met html
continuous_gpr html
convert_metabolites_to_model_names html
coregflux_static html
euler_step_biomass html
euler_step_metabolites html
get_biomass_flux_position html
get_fba_fluxes_from_observations html
get_fva_intervals_from_observations html
get_linear_model html
get_metabolites_exchange_fluxes html
gpr_expression html
iMM904 html
perturbation_function html
predict_linear_model_influence html
train_continuous_model html
update_fluxes_constraints_GRegulation html
update_fluxes_constraints_geneKOOV html
update_fluxes_constraints_influence html
update_fluxes_state html
update_system_state html
update_uptake_fluxes_constraints_metabolites
html
visFluxCurves html
visMetabolicGeneCurves html
** building package indices
** installing vignettes
** testing if installed package can be loaded from temporary location
** testing if installed package can be loaded from final location
** testing if installed package keeps a record of temporary installation path
install for x64
* installing *source* package 'CoRegFlux' ...
** testing if installed package can be loaded
* MD5 sums
packaged installation of 'CoRegFlux' as CoRegFlux_1.2.0.zip
* DONE (CoRegFlux)
* installing to library 'C:/Users/biocbuild/bbs-3.10-bioc/R/library'
package 'CoRegFlux' successfully unpacked and MD5 sums checked
|
CoRegFlux.Rcheck/tests_i386/Test.Rout
R version 3.6.3 (2020-02-29) -- "Holding the Windsock"
Copyright (C) 2020 The R Foundation for Statistical Computing
Platform: i386-w64-mingw32/i386 (32-bit)
R is free software and comes with ABSOLUTELY NO WARRANTY.
You are welcome to redistribute it under certain conditions.
Type 'license()' or 'licence()' for distribution details.
R is a collaborative project with many contributors.
Type 'contributors()' for more information and
'citation()' on how to cite R or R packages in publications.
Type 'demo()' for some demos, 'help()' for on-line help, or
'help.start()' for an HTML browser interface to help.
Type 'q()' to quit R.
> library(CoRegFlux)
> library(testthat)
>
> testthat::test_dir("testthat/")
v | OK F W S | Context
/ | 0 | CoregfluxAndFVAFonctions
- | 1 | CoregfluxAndFVAFonctions
| | 3 | CoregfluxAndFVAFonctions
v | 6 | CoregfluxAndFVAFonctions [43.8 s]
/ | 0 | DFBAsimulationFunctions
- | 1 | DFBAsimulationFunctions
/ | 5 3 | DFBAsimulationFunctions
x | 17 3 | DFBAsimulationFunctions [2.4 s]
--------------------------------------------------------------------------------
test_DFBAsimulationFunctions.R:41: error: uptake fluxes diminish metabolite concentrations
could not find function "euler_step_metabolites"
Backtrace:
1. testthat::expect_lt(...) test_DFBAsimulationFunctions.R:41:5
2. testthat::quasi_label(enquo(object), label, arg = "object")
3. rlang::eval_bare(expr, quo_get_env(quo))
test_DFBAsimulationFunctions.R:49: error: positive fluxes increase metabolite concentrations
could not find function "euler_step_metabolites"
Backtrace:
1. testthat::expect_gt(...) test_DFBAsimulationFunctions.R:49:5
2. testthat::quasi_label(enquo(object), label, arg = "object")
3. rlang::eval_bare(expr, quo_get_env(quo))
test_DFBAsimulationFunctions.R:59: error: update_uptake_fluxes_constraints_metabolites check that
bounds are changed
could not find function "update_uptake_fluxes_constraints_metabolites"
--------------------------------------------------------------------------------
/ | 0 | MetabolicModelFunctions
- | 0 1 | MetabolicModelFunctions
x | 6 1 | MetabolicModelFunctions [0.2 s]
--------------------------------------------------------------------------------
test_MetabolicModelFunctions.R:13: error: Metabolites names to model names works and return a
data.frame
could not find function "convert_metabolites_to_model_names"
Backtrace:
1. testthat::expect_true(...) test_MetabolicModelFunctions.R:13:5
4. base::is.data.frame(...)
--------------------------------------------------------------------------------
== Results =====================================================================
Duration: 46.6 s
OK: 29
Failed: 4
Warnings: 0
Skipped: 0
>
> proc.time()
user system elapsed
49.39 0.81 50.20
|
CoRegFlux.Rcheck/tests_x64/Test.Rout
R version 3.6.3 (2020-02-29) -- "Holding the Windsock"
Copyright (C) 2020 The R Foundation for Statistical Computing
Platform: x86_64-w64-mingw32/x64 (64-bit)
R is free software and comes with ABSOLUTELY NO WARRANTY.
You are welcome to redistribute it under certain conditions.
Type 'license()' or 'licence()' for distribution details.
R is a collaborative project with many contributors.
Type 'contributors()' for more information and
'citation()' on how to cite R or R packages in publications.
Type 'demo()' for some demos, 'help()' for on-line help, or
'help.start()' for an HTML browser interface to help.
Type 'q()' to quit R.
> library(CoRegFlux)
> library(testthat)
>
> testthat::test_dir("testthat/")
v | OK F W S | Context
/ | 0 | CoregfluxAndFVAFonctions
- | 1 | CoregfluxAndFVAFonctions
| | 3 | CoregfluxAndFVAFonctions
v | 6 | CoregfluxAndFVAFonctions [44.8 s]
/ | 0 | DFBAsimulationFunctions
- | 1 | DFBAsimulationFunctions
/ | 5 3 | DFBAsimulationFunctions
/ | 17 3 | DFBAsimulationFunctions
x | 17 3 | DFBAsimulationFunctions [3.6 s]
--------------------------------------------------------------------------------
test_DFBAsimulationFunctions.R:41: error: uptake fluxes diminish metabolite concentrations
could not find function "euler_step_metabolites"
Backtrace:
1. testthat::expect_lt(...) test_DFBAsimulationFunctions.R:41:5
2. testthat::quasi_label(enquo(object), label, arg = "object")
3. rlang::eval_bare(expr, quo_get_env(quo))
test_DFBAsimulationFunctions.R:49: error: positive fluxes increase metabolite concentrations
could not find function "euler_step_metabolites"
Backtrace:
1. testthat::expect_gt(...) test_DFBAsimulationFunctions.R:49:5
2. testthat::quasi_label(enquo(object), label, arg = "object")
3. rlang::eval_bare(expr, quo_get_env(quo))
test_DFBAsimulationFunctions.R:59: error: update_uptake_fluxes_constraints_metabolites check that
bounds are changed
could not find function "update_uptake_fluxes_constraints_metabolites"
--------------------------------------------------------------------------------
/ | 0 | MetabolicModelFunctions
- | 0 1 | MetabolicModelFunctions
x | 6 1 | MetabolicModelFunctions [0.2 s]
--------------------------------------------------------------------------------
test_MetabolicModelFunctions.R:13: error: Metabolites names to model names works and return a
data.frame
could not find function "convert_metabolites_to_model_names"
Backtrace:
1. testthat::expect_true(...) test_MetabolicModelFunctions.R:13:5
4. base::is.data.frame(...)
--------------------------------------------------------------------------------
== Results =====================================================================
Duration: 48.8 s
OK: 29
Failed: 4
Warnings: 0
Skipped: 0
>
> proc.time()
user system elapsed
50.46 0.87 51.35
|
|
CoRegFlux.Rcheck/examples_i386/CoRegFlux-Ex.timings
|
CoRegFlux.Rcheck/examples_x64/CoRegFlux-Ex.timings
|