| Back to Multiple platform build/check report for BioC 3.10 |
|
This page was generated on 2020-04-15 12:06:09 -0400 (Wed, 15 Apr 2020).
| Package 302/1823 | Hostname | OS / Arch | INSTALL | BUILD | CHECK | BUILD BIN | ||||||
| Clonality 1.34.0 Irina Ostrovnaya
| malbec1 | Linux (Ubuntu 18.04.4 LTS) / x86_64 | OK | OK | [ OK ] | |||||||
| tokay1 | Windows Server 2012 R2 Standard / x64 | OK | OK | OK | OK | |||||||
| merida1 | OS X 10.11.6 El Capitan / x86_64 | OK | OK | OK | OK |
| Package: Clonality |
| Version: 1.34.0 |
| Command: /home/biocbuild/bbs-3.10-bioc/R/bin/R CMD check --install=check:Clonality.install-out.txt --library=/home/biocbuild/bbs-3.10-bioc/R/library --no-vignettes --timings Clonality_1.34.0.tar.gz |
| StartedAt: 2020-04-15 00:56:20 -0400 (Wed, 15 Apr 2020) |
| EndedAt: 2020-04-15 00:59:17 -0400 (Wed, 15 Apr 2020) |
| EllapsedTime: 177.4 seconds |
| RetCode: 0 |
| Status: OK |
| CheckDir: Clonality.Rcheck |
| Warnings: 0 |
##############################################################################
##############################################################################
###
### Running command:
###
### /home/biocbuild/bbs-3.10-bioc/R/bin/R CMD check --install=check:Clonality.install-out.txt --library=/home/biocbuild/bbs-3.10-bioc/R/library --no-vignettes --timings Clonality_1.34.0.tar.gz
###
##############################################################################
##############################################################################
* using log directory ‘/home/biocbuild/bbs-3.10-bioc/meat/Clonality.Rcheck’
* using R version 3.6.3 (2020-02-29)
* using platform: x86_64-pc-linux-gnu (64-bit)
* using session charset: UTF-8
* using option ‘--no-vignettes’
* checking for file ‘Clonality/DESCRIPTION’ ... OK
* checking extension type ... Package
* this is package ‘Clonality’ version ‘1.34.0’
* checking package namespace information ... OK
* checking package dependencies ... OK
* checking if this is a source package ... OK
* checking if there is a namespace ... OK
* checking for hidden files and directories ... OK
* checking for portable file names ... OK
* checking for sufficient/correct file permissions ... OK
* checking whether package ‘Clonality’ can be installed ... OK
* checking installed package size ... OK
* checking package directory ... OK
* checking ‘build’ directory ... OK
* checking DESCRIPTION meta-information ... NOTE
Malformed Description field: should contain one or more complete sentences.
* checking top-level files ... OK
* checking for left-over files ... OK
* checking index information ... OK
* checking package subdirectories ... OK
* checking R files for non-ASCII characters ... OK
* checking R files for syntax errors ... OK
* checking whether the package can be loaded ... OK
* checking whether the package can be loaded with stated dependencies ... OK
* checking whether the package can be unloaded cleanly ... OK
* checking whether the namespace can be loaded with stated dependencies ... OK
* checking whether the namespace can be unloaded cleanly ... OK
* checking dependencies in R code ... OK
* checking S3 generic/method consistency ... OK
* checking replacement functions ... OK
* checking foreign function calls ... NOTE
Foreign function call to a different package:
.Fortran("fndcpt", ..., PACKAGE = "DNAcopy")
See chapter ‘System and foreign language interfaces’ in the ‘Writing R
Extensions’ manual.
* checking R code for possible problems ... NOTE
get.mutation.frequencies: no visible binding for global variable
‘freqdata’
Undefined global functions or variables:
freqdata
* checking Rd files ... OK
* checking Rd metadata ... OK
* checking Rd cross-references ... OK
* checking for missing documentation entries ... OK
* checking for code/documentation mismatches ... OK
* checking Rd \usage sections ... OK
* checking Rd contents ... OK
* checking for unstated dependencies in examples ... OK
* checking contents of ‘data’ directory ... OK
* checking data for non-ASCII characters ... OK
* checking data for ASCII and uncompressed saves ... OK
* checking installed files from ‘inst/doc’ ... OK
* checking files in ‘vignettes’ ... OK
* checking examples ... OK
Examples with CPU or elapsed time > 5s
user system elapsed
clonality.analysis 68.452 0.064 68.661
LRtesting3or4tumors 37.488 0.012 37.580
LOHclonality 9.252 0.000 9.266
ECMtesting 8.788 0.000 8.810
* checking for unstated dependencies in vignettes ... OK
* checking package vignettes in ‘inst/doc’ ... OK
* checking running R code from vignettes ... SKIPPED
* checking re-building of vignette outputs ... SKIPPED
* checking PDF version of manual ... OK
* DONE
Status: 3 NOTEs
See
‘/home/biocbuild/bbs-3.10-bioc/meat/Clonality.Rcheck/00check.log’
for details.
Clonality.Rcheck/00install.out
############################################################################## ############################################################################## ### ### Running command: ### ### /home/biocbuild/bbs-3.10-bioc/R/bin/R CMD INSTALL Clonality ### ############################################################################## ############################################################################## * installing to library ‘/home/biocbuild/bbs-3.10-bioc/R/library’ * installing *source* package ‘Clonality’ ... ** using staged installation ** R ** data ** inst ** byte-compile and prepare package for lazy loading ** help *** installing help indices ** building package indices ** installing vignettes ‘Clonality.Rnw’ ** testing if installed package can be loaded from temporary location ** testing if installed package can be loaded from final location ** testing if installed package keeps a record of temporary installation path * DONE (Clonality)
Clonality.Rcheck/Clonality-Ex.timings
| name | user | system | elapsed | |
| ECMtesting | 8.788 | 0.000 | 8.810 | |
| LOHclonality | 9.252 | 0.000 | 9.266 | |
| LRtesting3or4tumors | 37.488 | 0.012 | 37.580 | |
| SNVtest | 3.096 | 0.072 | 3.172 | |
| SNVtest2 | 0.608 | 0.000 | 0.608 | |
| ave.adj.probes | 2.116 | 0.012 | 2.131 | |
| chromosomePlots | 0 | 0 | 0 | |
| clonality.analysis | 68.452 | 0.064 | 68.661 | |
| create.mutation.matrix | 1.736 | 0.024 | 1.764 | |
| genomewidePlots | 0.000 | 0.000 | 0.001 | |
| get.mutation.frequencies | 1.656 | 0.044 | 1.703 | |
| histogramPlot | 0 | 0 | 0 | |
| mutation.proba | 1.548 | 0.008 | 1.556 | |
| mutation.rem | 2.512 | 0.016 | 2.528 | |
| splitChromosomes | 0.008 | 0.000 | 0.006 | |