| Back to Multiple platform build/check report for BioC 3.10 |
|
This page was generated on 2020-04-15 12:23:00 -0400 (Wed, 15 Apr 2020).
| Package 276/1823 | Hostname | OS / Arch | INSTALL | BUILD | CHECK | BUILD BIN | ||||||
| ChIPseeker 1.22.1 Guangchuang Yu
| malbec1 | Linux (Ubuntu 18.04.4 LTS) / x86_64 | OK | OK | OK | |||||||
| tokay1 | Windows Server 2012 R2 Standard / x64 | OK | OK | WARNINGS | [ OK ] | |||||||
| merida1 | OS X 10.11.6 El Capitan / x86_64 | OK | OK | OK | OK |
| Package: ChIPseeker |
| Version: 1.22.1 |
| Command: rm -rf ChIPseeker.buildbin-libdir && mkdir ChIPseeker.buildbin-libdir && C:\Users\biocbuild\bbs-3.10-bioc\R\bin\R.exe CMD INSTALL --merge-multiarch --build --library=ChIPseeker.buildbin-libdir ChIPseeker_1.22.1.tar.gz |
| StartedAt: 2020-04-15 08:23:44 -0400 (Wed, 15 Apr 2020) |
| EndedAt: 2020-04-15 08:25:06 -0400 (Wed, 15 Apr 2020) |
| EllapsedTime: 81.9 seconds |
| RetCode: 0 |
| Status: OK |
| PackageFile: ChIPseeker_1.22.1.zip |
| PackageFileSize: 4.378 MiB |
##############################################################################
##############################################################################
###
### Running command:
###
### rm -rf ChIPseeker.buildbin-libdir && mkdir ChIPseeker.buildbin-libdir && C:\Users\biocbuild\bbs-3.10-bioc\R\bin\R.exe CMD INSTALL --merge-multiarch --build --library=ChIPseeker.buildbin-libdir ChIPseeker_1.22.1.tar.gz
###
##############################################################################
##############################################################################
install for i386
* installing *source* package 'ChIPseeker' ...
** using staged installation
** R
** data
** inst
** byte-compile and prepare package for lazy loading
** help
*** installing help indices
converting help for package 'ChIPseeker'
finding HTML links ... done
ChIPseeker-package html
annotatePeak html
as.GRanges html
as.data.frame.csAnno html
covplot html
csAnno-class html
dotFun html
downloadGEObedFiles html
downloadGSMbedFiles html
dropAnno html
enrichAnnoOverlap html
enrichPeakOverlap html
Rd warning: C:/Users/biocbuild/bbs-3.10-bioc/tmpdir/Rtmp8cMjec/R.INSTALL408851cffd0/ChIPseeker/man/enrichPeakOverlap.Rd:34: file link 'mclapply' in package 'parallel' does not exist and so has been treated as a topic
getBioRegion html
getGEOInfo html
getGEOgenomeVersion html
getGEOspecies html
getGeneAnno html
getGenomicAnnotation html
getNearestFeatureIndicesAndDistances html
getPromoters html
getSampleFiles html
getTagMatrix html
info html
overlap html
peakHeatmap html
plotAnnoBar-methods html
plotAnnoBar.data.frame html
plotAnnoPie-methods html
plotAnnoPie.csAnno html
plotAvgProf html
plotAvgProf2 html
plotDistToTSS-methods html
plotDistToTSS.data.frame html
readPeakFile html
reexports html
Rd warning: C:/Users/biocbuild/bbs-3.10-bioc/tmpdir/Rtmp8cMjec/R.INSTALL408851cffd0/ChIPseeker/man/reexports.Rd:14: file link 'GRangesList' in package 'GenomicRanges' does not exist and so has been treated as a topic
seq2gene html
show-methods html
shuffle html
tagHeatmap html
upsetplot-methods html
vennpie-methods html
vennplot html
vennplot.peakfile html
** building package indices
** installing vignettes
** testing if installed package can be loaded from temporary location
** testing if installed package can be loaded from final location
** testing if installed package keeps a record of temporary installation path
install for x64
* installing *source* package 'ChIPseeker' ...
** testing if installed package can be loaded
* MD5 sums
packaged installation of 'ChIPseeker' as ChIPseeker_1.22.1.zip
* DONE (ChIPseeker)