| Back to Multiple platform build/check report for BioC 3.10 |
|
This page was generated on 2020-04-15 12:27:48 -0400 (Wed, 15 Apr 2020).
| Package 273/1823 | Hostname | OS / Arch | INSTALL | BUILD | CHECK | BUILD BIN | ||||||
| ChIPexoQual 1.10.0 Rene Welch
| malbec1 | Linux (Ubuntu 18.04.4 LTS) / x86_64 | OK | OK | OK | |||||||
| tokay1 | Windows Server 2012 R2 Standard / x64 | [ OK ] | OK | OK | OK | |||||||
| merida1 | OS X 10.11.6 El Capitan / x86_64 | OK | OK | OK | OK |
| Package: ChIPexoQual |
| Version: 1.10.0 |
| Command: C:\cygwin\bin\curl.exe -O https://malbec1.bioconductor.org/BBS/3.10/bioc/src/contrib/ChIPexoQual_1.10.0.tar.gz && rm -rf ChIPexoQual.buildbin-libdir && mkdir ChIPexoQual.buildbin-libdir && C:\Users\biocbuild\bbs-3.10-bioc\R\bin\R.exe CMD INSTALL --merge-multiarch --build --library=ChIPexoQual.buildbin-libdir ChIPexoQual_1.10.0.tar.gz && C:\Users\biocbuild\bbs-3.10-bioc\R\bin\R.exe CMD INSTALL ChIPexoQual_1.10.0.zip && rm ChIPexoQual_1.10.0.tar.gz ChIPexoQual_1.10.0.zip |
| StartedAt: 2020-04-14 20:03:30 -0400 (Tue, 14 Apr 2020) |
| EndedAt: 2020-04-14 20:04:47 -0400 (Tue, 14 Apr 2020) |
| EllapsedTime: 76.3 seconds |
| RetCode: 0 |
| Status: OK |
##############################################################################
##############################################################################
###
### Running command:
###
### C:\cygwin\bin\curl.exe -O https://malbec1.bioconductor.org/BBS/3.10/bioc/src/contrib/ChIPexoQual_1.10.0.tar.gz && rm -rf ChIPexoQual.buildbin-libdir && mkdir ChIPexoQual.buildbin-libdir && C:\Users\biocbuild\bbs-3.10-bioc\R\bin\R.exe CMD INSTALL --merge-multiarch --build --library=ChIPexoQual.buildbin-libdir ChIPexoQual_1.10.0.tar.gz && C:\Users\biocbuild\bbs-3.10-bioc\R\bin\R.exe CMD INSTALL ChIPexoQual_1.10.0.zip && rm ChIPexoQual_1.10.0.tar.gz ChIPexoQual_1.10.0.zip
###
##############################################################################
##############################################################################
% Total % Received % Xferd Average Speed Time Time Time Current
Dload Upload Total Spent Left Speed
0 0 0 0 0 0 0 0 --:--:-- --:--:-- --:--:-- 0
66 2143k 66 1424k 0 0 4092k 0 --:--:-- --:--:-- --:--:-- 4127k
100 2143k 100 2143k 0 0 4220k 0 --:--:-- --:--:-- --:--:-- 4245k
install for i386
* installing *source* package 'ChIPexoQual' ...
** using staged installation
** R
** data
** inst
** byte-compile and prepare package for lazy loading
** help
*** installing help indices
converting help for package 'ChIPexoQual'
finding HTML links ... done
ARCvURCplot html
ExoData html
ExoDataBlacklist html
ExoDataSubsampling html
FSRDistplot html
MAplot html
beta1-methods html
beta2-methods html
blacklists html
calculateParamDist html
exoExample html
formatRegions html
nreads-methods html
paramDist-methods html
paramDistBoxplot html
regionCompplot html
** building package indices
** installing vignettes
** testing if installed package can be loaded from temporary location
** testing if installed package can be loaded from final location
** testing if installed package keeps a record of temporary installation path
install for x64
* installing *source* package 'ChIPexoQual' ...
** testing if installed package can be loaded
* MD5 sums
packaged installation of 'ChIPexoQual' as ChIPexoQual_1.10.0.zip
* DONE (ChIPexoQual)
* installing to library 'C:/Users/biocbuild/bbs-3.10-bioc/R/library'
package 'ChIPexoQual' successfully unpacked and MD5 sums checked