| Back to Multiple platform build/check report for BioC 3.10 |
|
This page was generated on 2020-04-15 12:13:08 -0400 (Wed, 15 Apr 2020).
| Package 270/1823 | Hostname | OS / Arch | INSTALL | BUILD | CHECK | BUILD BIN | ||||||
| ChIPanalyser 1.8.0 Patrick C.N. Martin
| malbec1 | Linux (Ubuntu 18.04.4 LTS) / x86_64 | OK | [ OK ] | OK | |||||||
| tokay1 | Windows Server 2012 R2 Standard / x64 | OK | OK | WARNINGS | OK | |||||||
| merida1 | OS X 10.11.6 El Capitan / x86_64 | OK | OK | OK | OK |
| Package: ChIPanalyser |
| Version: 1.8.0 |
| Command: /home/biocbuild/bbs-3.10-bioc/R/bin/R CMD build --keep-empty-dirs --no-resave-data ChIPanalyser |
| StartedAt: 2020-04-14 22:39:47 -0400 (Tue, 14 Apr 2020) |
| EndedAt: 2020-04-14 22:44:04 -0400 (Tue, 14 Apr 2020) |
| EllapsedTime: 257.2 seconds |
| RetCode: 0 |
| Status: OK |
| PackageFile: ChIPanalyser_1.8.0.tar.gz |
| PackageFileSize: 556.6 KiB |
############################################################################## ############################################################################## ### ### Running command: ### ### /home/biocbuild/bbs-3.10-bioc/R/bin/R CMD build --keep-empty-dirs --no-resave-data ChIPanalyser ### ############################################################################## ############################################################################## * checking for file ‘ChIPanalyser/DESCRIPTION’ ... OK * preparing ‘ChIPanalyser’: * checking DESCRIPTION meta-information ... OK * installing the package to process help pages * saving partial Rd database * creating vignettes ... OK * checking for LF line-endings in source and make files and shell scripts * checking for empty or unneeded directories * looking to see if a ‘data/datalist’ file should be added * building ‘ChIPanalyser_1.8.0.tar.gz’