| Back to Multiple platform build/check report for BioC 3.10 | 
  | 
This page was generated on 2020-04-15 12:32:12 -0400 (Wed, 15 Apr 2020).
| Package 245/1823 | Hostname | OS / Arch | INSTALL | BUILD | CHECK | BUILD BIN | ||||||
| CellMixS 1.2.6 Almut Lütge 
  | malbec1 | Linux (Ubuntu 18.04.4 LTS) / x86_64 | OK | OK | OK | |||||||
| tokay1 | Windows Server 2012 R2 Standard / x64 | OK | OK | OK | [ OK ] | |||||||
| merida1 | OS X 10.11.6 El Capitan / x86_64 | OK | OK | OK | OK | 
| Package: CellMixS | 
| Version: 1.2.6 | 
| Command: rm -rf CellMixS.buildbin-libdir && mkdir CellMixS.buildbin-libdir && C:\Users\biocbuild\bbs-3.10-bioc\R\bin\R.exe CMD INSTALL --merge-multiarch --build --library=CellMixS.buildbin-libdir CellMixS_1.2.6.tar.gz | 
| StartedAt: 2020-04-15 08:21:56 -0400 (Wed, 15 Apr 2020) | 
| EndedAt: 2020-04-15 08:22:51 -0400 (Wed, 15 Apr 2020) | 
| EllapsedTime: 55.1 seconds | 
| RetCode: 0 | 
| Status: OK | 
| PackageFile: CellMixS_1.2.6.zip | 
| PackageFileSize: 2.205 MiB | 
##############################################################################
##############################################################################
###
### Running command:
###
###   rm -rf CellMixS.buildbin-libdir && mkdir CellMixS.buildbin-libdir && C:\Users\biocbuild\bbs-3.10-bioc\R\bin\R.exe CMD INSTALL --merge-multiarch --build --library=CellMixS.buildbin-libdir CellMixS_1.2.6.tar.gz
###
##############################################################################
##############################################################################
install for i386
* installing *source* package 'CellMixS' ...
** using staged installation
** R
** inst
** byte-compile and prepare package for lazy loading
** help
*** installing help indices
  converting help for package 'CellMixS'
    finding HTML links ... done
    CellMixS-package                        html  
    cms                                     html  
    finding level-2 HTML links ... done
    dot-cmsCell                             html  
    dot-defineSubspace                      html  
    dot-filterKnn                           html  
    dot-filterLocMin                        html  
    dot-ldfKnn                              html  
    dot-smoothCms                           html  
    entropy                                 html  
    evalIntegration                         html  
    isi                                     html  
    ldfDiff                                 html  
    ldfSce                                  html  
    locStructure                            html  
    mixMetric                               html  
    visCluster                              html  
    visGroup                                html  
    visHist                                 html  
    visIntegration                          html  
    visMetric                               html  
    visOverview                             html  
** building package indices
** installing vignettes
** testing if installed package can be loaded from temporary location
** testing if installed package can be loaded from final location
** testing if installed package keeps a record of temporary installation path
install for x64
* installing *source* package 'CellMixS' ...
** testing if installed package can be loaded
* MD5 sums
packaged installation of 'CellMixS' as CellMixS_1.2.6.zip
* DONE (CellMixS)