| Back to Multiple platform build/check report for BioC 3.10 |
|
This page was generated on 2020-04-15 12:26:30 -0400 (Wed, 15 Apr 2020).
| Package 350/1823 | Hostname | OS / Arch | INSTALL | BUILD | CHECK | BUILD BIN | ||||||
| CONFESS 1.14.0 Diana LOW
| malbec1 | Linux (Ubuntu 18.04.4 LTS) / x86_64 | OK | OK | WARNINGS | |||||||
| tokay1 | Windows Server 2012 R2 Standard / x64 | [ ERROR ] | OK | ERROR | ERROR | |||||||
| merida1 | OS X 10.11.6 El Capitan / x86_64 | OK | OK | WARNINGS | OK |
| Package: CONFESS |
| Version: 1.14.0 |
| Command: C:\cygwin\bin\curl.exe -O https://malbec1.bioconductor.org/BBS/3.10/bioc/src/contrib/CONFESS_1.14.0.tar.gz && rm -rf CONFESS.buildbin-libdir && mkdir CONFESS.buildbin-libdir && C:\Users\biocbuild\bbs-3.10-bioc\R\bin\R.exe CMD INSTALL --merge-multiarch --build --library=CONFESS.buildbin-libdir CONFESS_1.14.0.tar.gz && C:\Users\biocbuild\bbs-3.10-bioc\R\bin\R.exe CMD INSTALL CONFESS_1.14.0.zip && rm CONFESS_1.14.0.tar.gz CONFESS_1.14.0.zip |
| StartedAt: 2020-04-14 20:36:31 -0400 (Tue, 14 Apr 2020) |
| EndedAt: 2020-04-14 20:36:41 -0400 (Tue, 14 Apr 2020) |
| EllapsedTime: 10.3 seconds |
| RetCode: 1 |
| Status: ERROR |
##############################################################################
##############################################################################
###
### Running command:
###
### C:\cygwin\bin\curl.exe -O https://malbec1.bioconductor.org/BBS/3.10/bioc/src/contrib/CONFESS_1.14.0.tar.gz && rm -rf CONFESS.buildbin-libdir && mkdir CONFESS.buildbin-libdir && C:\Users\biocbuild\bbs-3.10-bioc\R\bin\R.exe CMD INSTALL --merge-multiarch --build --library=CONFESS.buildbin-libdir CONFESS_1.14.0.tar.gz && C:\Users\biocbuild\bbs-3.10-bioc\R\bin\R.exe CMD INSTALL CONFESS_1.14.0.zip && rm CONFESS_1.14.0.tar.gz CONFESS_1.14.0.zip
###
##############################################################################
##############################################################################
% Total % Received % Xferd Average Speed Time Time Time Current
Dload Upload Total Spent Left Speed
0 0 0 0 0 0 0 0 --:--:-- --:--:-- --:--:-- 0
100 1325k 100 1325k 0 0 22.7M 0 --:--:-- --:--:-- --:--:-- 24.4M
install for i386
* installing *source* package 'CONFESS' ...
** using staged installation
** R
** data
*** moving datasets to lazyload DB
** inst
** byte-compile and prepare package for lazy loading
Error in library.dynam(dynlib, pkg, lib) :
DLL 'rgl' not found: maybe not installed for this architecture?
Error: .onLoad failed in loadNamespace() for 'rgl', details:
call: NULL
error: Loading rgl's DLL failed.
Execution halted
ERROR: lazy loading failed for package 'CONFESS'
* removing 'C:/Users/biocbuild/bbs-3.10-bioc/meat/CONFESS.buildbin-libdir/CONFESS'