| Back to Multiple platform build/check report for BioC 3.10 |
|
This page was generated on 2020-04-15 12:24:15 -0400 (Wed, 15 Apr 2020).
| Package 335/1823 | Hostname | OS / Arch | INSTALL | BUILD | CHECK | BUILD BIN | ||||||
| CODEX 1.18.0 Yuchao Jiang
| malbec1 | Linux (Ubuntu 18.04.4 LTS) / x86_64 | OK | OK | OK | |||||||
| tokay1 | Windows Server 2012 R2 Standard / x64 | [ OK ] | OK | OK | OK | |||||||
| merida1 | OS X 10.11.6 El Capitan / x86_64 | OK | OK | OK | OK |
| Package: CODEX |
| Version: 1.18.0 |
| Command: C:\cygwin\bin\curl.exe -O https://malbec1.bioconductor.org/BBS/3.10/bioc/src/contrib/CODEX_1.18.0.tar.gz && rm -rf CODEX.buildbin-libdir && mkdir CODEX.buildbin-libdir && C:\Users\biocbuild\bbs-3.10-bioc\R\bin\R.exe CMD INSTALL --merge-multiarch --build --library=CODEX.buildbin-libdir CODEX_1.18.0.tar.gz && C:\Users\biocbuild\bbs-3.10-bioc\R\bin\R.exe CMD INSTALL CODEX_1.18.0.zip && rm CODEX_1.18.0.tar.gz CODEX_1.18.0.zip |
| StartedAt: 2020-04-14 20:03:07 -0400 (Tue, 14 Apr 2020) |
| EndedAt: 2020-04-14 20:03:46 -0400 (Tue, 14 Apr 2020) |
| EllapsedTime: 38.1 seconds |
| RetCode: 0 |
| Status: OK |
##############################################################################
##############################################################################
###
### Running command:
###
### C:\cygwin\bin\curl.exe -O https://malbec1.bioconductor.org/BBS/3.10/bioc/src/contrib/CODEX_1.18.0.tar.gz && rm -rf CODEX.buildbin-libdir && mkdir CODEX.buildbin-libdir && C:\Users\biocbuild\bbs-3.10-bioc\R\bin\R.exe CMD INSTALL --merge-multiarch --build --library=CODEX.buildbin-libdir CODEX_1.18.0.tar.gz && C:\Users\biocbuild\bbs-3.10-bioc\R\bin\R.exe CMD INSTALL CODEX_1.18.0.zip && rm CODEX_1.18.0.tar.gz CODEX_1.18.0.zip
###
##############################################################################
##############################################################################
% Total % Received % Xferd Average Speed Time Time Time Current
Dload Upload Total Spent Left Speed
0 0 0 0 0 0 0 0 --:--:-- --:--:-- --:--:-- 0
52 733k 52 384k 0 0 1304k 0 --:--:-- --:--:-- --:--:-- 1315k
100 733k 100 733k 0 0 1948k 0 --:--:-- --:--:-- --:--:-- 1962k
install for i386
* installing *source* package 'CODEX' ...
** using staged installation
** R
** data
*** moving datasets to lazyload DB
** byte-compile and prepare package for lazy loading
** help
*** installing help indices
converting help for package 'CODEX'
finding HTML links ... done
CODEX-package html
bambedObjDemo html
choiceofK html
coverageObjDemo html
gcDemo html
getbambed html
getcoverage html
getgc html
getmapp html
mappDemo html
mapp_ref html
mappability html
normObjDemo html
normalize html
normalize2 html
qc html
qcObjDemo html
segment html
** building package indices
** installing vignettes
** testing if installed package can be loaded from temporary location
** testing if installed package can be loaded from final location
** testing if installed package keeps a record of temporary installation path
install for x64
* installing *source* package 'CODEX' ...
** testing if installed package can be loaded
* MD5 sums
packaged installation of 'CODEX' as CODEX_1.18.0.zip
* DONE (CODEX)
* installing to library 'C:/Users/biocbuild/bbs-3.10-bioc/R/library'
package 'CODEX' successfully unpacked and MD5 sums checked