| Back to Multiple platform build/check report for BioC 3.10 | 
  | 
This page was generated on 2020-04-15 12:29:42 -0400 (Wed, 15 Apr 2020).
| Package 261/1823 | Hostname | OS / Arch | INSTALL | BUILD | CHECK | BUILD BIN | ||||||
| CHARGE 1.6.0 Benjamin Mayne 
  | malbec1 | Linux (Ubuntu 18.04.4 LTS) / x86_64 | ERROR | ERROR | skipped | |||||||
| tokay1 | Windows Server 2012 R2 Standard / x64 | ERROR | [ ERROR ] | skipped | skipped | |||||||
| merida1 | OS X 10.11.6 El Capitan / x86_64 | ERROR | ERROR | skipped | skipped | 
| Package: CHARGE | 
| Version: 1.6.0 | 
| Command: chmod a+r CHARGE -R && C:\Users\biocbuild\bbs-3.10-bioc\R\bin\R.exe CMD build --keep-empty-dirs --no-resave-data CHARGE | 
| StartedAt: 2020-04-14 23:55:17 -0400 (Tue, 14 Apr 2020) | 
| EndedAt: 2020-04-14 23:55:33 -0400 (Tue, 14 Apr 2020) | 
| EllapsedTime: 15.7 seconds | 
| RetCode: 1 | 
| Status: ERROR | 
| PackageFile: CHARGE_1.6.0.tar.gz | 
| PackageFileSize: 840.5 KiB | 
##############################################################################
##############################################################################
###
### Running command:
###
###   chmod a+r CHARGE -R && C:\Users\biocbuild\bbs-3.10-bioc\R\bin\R.exe CMD build --keep-empty-dirs --no-resave-data CHARGE
###
##############################################################################
##############################################################################
* checking for file 'CHARGE/DESCRIPTION' ... OK
* preparing 'CHARGE':
* checking DESCRIPTION meta-information ... OK
* installing the package to build vignettes
      -----------------------------------
ERROR: dependency 'modes' is not available for package 'CHARGE'
* removing 'C:/Users/biocbuild/bbs-3.10-bioc/tmpdir/Rtmpa6fdnf/Rinst1b3868ca7b79/CHARGE'
      -----------------------------------
ERROR: package installation failed