| Back to Multiple platform build/check report for BioC 3.10 |
|
This page was generated on 2020-04-15 12:28:48 -0400 (Wed, 15 Apr 2020).
| Package 160/1823 | Hostname | OS / Arch | INSTALL | BUILD | CHECK | BUILD BIN | ||||||
| BiocSklearn 1.8.1 VJ Carey
| malbec1 | Linux (Ubuntu 18.04.4 LTS) / x86_64 | OK | OK | OK | |||||||
| tokay1 | Windows Server 2012 R2 Standard / x64 | [ OK ] | ERROR | skipped | skipped | |||||||
| merida1 | OS X 10.11.6 El Capitan / x86_64 | OK | OK | OK | OK |
| Package: BiocSklearn |
| Version: 1.8.1 |
| Command: C:\Users\biocbuild\bbs-3.10-bioc\R\bin\R.exe --arch x64 CMD INSTALL --no-multiarch BiocSklearn |
| StartedAt: 2020-04-14 19:34:26 -0400 (Tue, 14 Apr 2020) |
| EndedAt: 2020-04-14 19:37:08 -0400 (Tue, 14 Apr 2020) |
| EllapsedTime: 162.1 seconds |
| RetCode: 0 |
| Status: OK |
##############################################################################
##############################################################################
###
### Running command:
###
### C:\Users\biocbuild\bbs-3.10-bioc\R\bin\R.exe --arch x64 CMD INSTALL --no-multiarch BiocSklearn
###
##############################################################################
##############################################################################
* installing to library 'C:/Users/biocbuild/bbs-3.10-bioc/R/library'
* installing *source* package 'BiocSklearn' ...
** using staged installation
** R
** inst
** byte-compile and prepare package for lazy loading
** help
*** installing help indices
converting help for package 'BiocSklearn'
finding HTML links ... done
H5matref html
SkDecomp-class html
SklearnEls html
h5mat html
skIncrPCA html
skIncrPPCA html
skKMeans html
skPCA html
skPartialPCA_step html
** building package indices
** installing vignettes
** testing if installed package can be loaded from temporary location
** testing if installed package can be loaded from final location
** testing if installed package keeps a record of temporary installation path
* DONE (BiocSklearn)
Making 'packages.html' ... done