| Back to Multiple platform build/check report for BioC 3.10 | 
  | 
This page was generated on 2020-04-15 12:31:25 -0400 (Wed, 15 Apr 2020).
| Package 92/1823 | Hostname | OS / Arch | INSTALL | BUILD | CHECK | BUILD BIN | ||||||
| AssessORF 1.4.0 Deepank Korandla 
  | malbec1 | Linux (Ubuntu 18.04.4 LTS) / x86_64 | OK | OK | OK | |||||||
| tokay1 | Windows Server 2012 R2 Standard / x64 | OK | OK | OK | [ OK ] | |||||||
| merida1 | OS X 10.11.6 El Capitan / x86_64 | OK | OK | OK | OK | 
| Package: AssessORF | 
| Version: 1.4.0 | 
| Command: rm -rf AssessORF.buildbin-libdir && mkdir AssessORF.buildbin-libdir && C:\Users\biocbuild\bbs-3.10-bioc\R\bin\R.exe CMD INSTALL --merge-multiarch --build --library=AssessORF.buildbin-libdir AssessORF_1.4.0.tar.gz | 
| StartedAt: 2020-04-15 08:12:51 -0400 (Wed, 15 Apr 2020) | 
| EndedAt: 2020-04-15 08:13:22 -0400 (Wed, 15 Apr 2020) | 
| EllapsedTime: 31.2 seconds | 
| RetCode: 0 | 
| Status: OK | 
| PackageFile: AssessORF_1.4.0.zip | 
| PackageFileSize: 4.723 MiB | 
##############################################################################
##############################################################################
###
### Running command:
###
###   rm -rf AssessORF.buildbin-libdir && mkdir AssessORF.buildbin-libdir && C:\Users\biocbuild\bbs-3.10-bioc\R\bin\R.exe CMD INSTALL --merge-multiarch --build --library=AssessORF.buildbin-libdir AssessORF_1.4.0.tar.gz
###
##############################################################################
##############################################################################
install for i386
* installing *source* package 'AssessORF' ...
** using staged installation
** R
** inst
** byte-compile and prepare package for lazy loading
** help
*** installing help indices
  converting help for package 'AssessORF'
    finding HTML links ... done
    AssessGenes                             html  
    Assessment-class                        html  
    CompareAssessmentResults                html  
    MapAssessmentData                       html  
    ScoreAssessmentResults                  html  
    as.matrix.Assessment                    html  
    mosaicplot.Assessment                   html  
    plot.Assessment                         html  
    print.Assessment                        html  
** building package indices
** installing vignettes
** testing if installed package can be loaded from temporary location
** testing if installed package can be loaded from final location
** testing if installed package keeps a record of temporary installation path
install for x64
* installing *source* package 'AssessORF' ...
** testing if installed package can be loaded
* MD5 sums
packaged installation of 'AssessORF' as AssessORF_1.4.0.zip
* DONE (AssessORF)