| Back to Multiple platform build/check report for BioC 3.10 |
|
This page was generated on 2020-04-15 12:32:56 -0400 (Wed, 15 Apr 2020).
| Package 72/1823 | Hostname | OS / Arch | INSTALL | BUILD | CHECK | BUILD BIN | ||||||
| APAlyzer 1.0.0 Ruijia Wang
| malbec1 | Linux (Ubuntu 18.04.4 LTS) / x86_64 | OK | OK | OK | |||||||
| tokay1 | Windows Server 2012 R2 Standard / x64 | [ OK ] | OK | OK | OK | |||||||
| merida1 | OS X 10.11.6 El Capitan / x86_64 | OK | OK | OK | OK |
| Package: APAlyzer |
| Version: 1.0.0 |
| Command: C:\Users\biocbuild\bbs-3.10-bioc\R\bin\R.exe CMD INSTALL APAlyzer |
| StartedAt: 2020-04-14 19:54:40 -0400 (Tue, 14 Apr 2020) |
| EndedAt: 2020-04-14 19:55:46 -0400 (Tue, 14 Apr 2020) |
| EllapsedTime: 65.5 seconds |
| RetCode: 0 |
| Status: OK |
##############################################################################
##############################################################################
###
### Running command:
###
### C:\Users\biocbuild\bbs-3.10-bioc\R\bin\R.exe CMD INSTALL APAlyzer
###
##############################################################################
##############################################################################
* installing to library 'C:/Users/biocbuild/bbs-3.10-bioc/R/library'
* installing *source* package 'APAlyzer' ...
** using staged installation
** R
** inst
** byte-compile and prepare package for lazy loading
** help
*** installing help indices
converting help for package 'APAlyzer'
finding HTML links ... done
APAdiff html
GENEXP_CDS html
PASEXP_3UTR html
PASEXP_IPA html
REF3UTR html
REFCDS html
** building package indices
** installing vignettes
** testing if installed package can be loaded from temporary location
*** arch - i386
*** arch - x64
** testing if installed package can be loaded from final location
*** arch - i386
*** arch - x64
** testing if installed package keeps a record of temporary installation path
* DONE (APAlyzer)
Making 'packages.html' ... done