| Back to Multiple platform build/check report for BioC 3.10 |
|
This page was generated on 2020-04-15 12:17:41 -0400 (Wed, 15 Apr 2020).
| Package 8/1823 | Hostname | OS / Arch | INSTALL | BUILD | CHECK | BUILD BIN | ||||||
| ABarray 1.54.0 Yongming Andrew Sun
| malbec1 | Linux (Ubuntu 18.04.4 LTS) / x86_64 | OK | OK | OK | |||||||
| tokay1 | Windows Server 2012 R2 Standard / x64 | [ OK ] | OK | OK | OK | |||||||
| merida1 | OS X 10.11.6 El Capitan / x86_64 | OK | OK | OK | OK |
| Package: ABarray |
| Version: 1.54.0 |
| Command: C:\cygwin\bin\curl.exe -O https://malbec1.bioconductor.org/BBS/3.10/bioc/src/contrib/ABarray_1.54.0.tar.gz && rm -rf ABarray.buildbin-libdir && mkdir ABarray.buildbin-libdir && C:\Users\biocbuild\bbs-3.10-bioc\R\bin\R.exe CMD INSTALL --merge-multiarch --build --library=ABarray.buildbin-libdir ABarray_1.54.0.tar.gz && C:\Users\biocbuild\bbs-3.10-bioc\R\bin\R.exe CMD INSTALL ABarray_1.54.0.zip && rm ABarray_1.54.0.tar.gz ABarray_1.54.0.zip |
| StartedAt: 2020-04-14 19:24:41 -0400 (Tue, 14 Apr 2020) |
| EndedAt: 2020-04-14 19:25:15 -0400 (Tue, 14 Apr 2020) |
| EllapsedTime: 34.7 seconds |
| RetCode: 0 |
| Status: OK |
##############################################################################
##############################################################################
###
### Running command:
###
### C:\cygwin\bin\curl.exe -O https://malbec1.bioconductor.org/BBS/3.10/bioc/src/contrib/ABarray_1.54.0.tar.gz && rm -rf ABarray.buildbin-libdir && mkdir ABarray.buildbin-libdir && C:\Users\biocbuild\bbs-3.10-bioc\R\bin\R.exe CMD INSTALL --merge-multiarch --build --library=ABarray.buildbin-libdir ABarray_1.54.0.tar.gz && C:\Users\biocbuild\bbs-3.10-bioc\R\bin\R.exe CMD INSTALL ABarray_1.54.0.zip && rm ABarray_1.54.0.tar.gz ABarray_1.54.0.zip
###
##############################################################################
##############################################################################
% Total % Received % Xferd Average Speed Time Time Time Current
Dload Upload Total Spent Left Speed
0 0 0 0 0 0 0 0 --:--:-- --:--:-- --:--:-- 0
100 128k 100 128k 0 0 3611k 0 --:--:-- --:--:-- --:--:-- 4018k
install for i386
* installing *source* package 'ABarray' ...
** using staged installation
** R
** byte-compile and prepare package for lazy loading
** help
*** installing help indices
converting help for package 'ABarray'
finding HTML links ... done
ABarray html
ABarrayGUI html
calcsn html
concord html
cvv html
cvvPlot html
doANOVA html
doLPE html
doPlotEset html
doPlotFCT html
doVennDiagram html
drawVennDiagram html
getMemberEset html
getPantherMap html
hclusterPlot html
icpPlot html
imputeFlag html
lpe.fdr.BH html
mamaplot html
matrixPlot html
mvaPair2 html
panel.cor html
panel.scatter html
qnNormalize html
rgcolorsfunc html
savejpg html
scaleColorBar html
snSummary html
** building package indices
** installing vignettes
** testing if installed package can be loaded from temporary location
** testing if installed package can be loaded from final location
** testing if installed package keeps a record of temporary installation path
install for x64
* installing *source* package 'ABarray' ...
** testing if installed package can be loaded
* MD5 sums
packaged installation of 'ABarray' as ABarray_1.54.0.zip
* DONE (ABarray)
* installing to library 'C:/Users/biocbuild/bbs-3.10-bioc/R/library'
package 'ABarray' successfully unpacked and MD5 sums checked