| Back to Multiple platform build/check report for BioC 3.10 |
|
This page was generated on 2020-04-15 12:28:50 -0400 (Wed, 15 Apr 2020).
| Package 1821/1823 | Hostname | OS / Arch | INSTALL | BUILD | CHECK | BUILD BIN | ||||||
| zFPKM 1.8.0 Ron Ammar
| malbec1 | Linux (Ubuntu 18.04.4 LTS) / x86_64 | OK | OK | OK | |||||||
| tokay1 | Windows Server 2012 R2 Standard / x64 | OK | OK | [ OK ] | OK | |||||||
| merida1 | OS X 10.11.6 El Capitan / x86_64 | OK | OK | OK | OK |
| Package: zFPKM |
| Version: 1.8.0 |
| Command: C:\Users\biocbuild\bbs-3.10-bioc\R\bin\R.exe CMD check --force-multiarch --install=check:zFPKM.install-out.txt --library=C:\Users\biocbuild\bbs-3.10-bioc\R\library --no-vignettes --timings zFPKM_1.8.0.tar.gz |
| StartedAt: 2020-04-15 07:30:20 -0400 (Wed, 15 Apr 2020) |
| EndedAt: 2020-04-15 07:33:23 -0400 (Wed, 15 Apr 2020) |
| EllapsedTime: 182.2 seconds |
| RetCode: 0 |
| Status: OK |
| CheckDir: zFPKM.Rcheck |
| Warnings: 0 |
##############################################################################
##############################################################################
###
### Running command:
###
### C:\Users\biocbuild\bbs-3.10-bioc\R\bin\R.exe CMD check --force-multiarch --install=check:zFPKM.install-out.txt --library=C:\Users\biocbuild\bbs-3.10-bioc\R\library --no-vignettes --timings zFPKM_1.8.0.tar.gz
###
##############################################################################
##############################################################################
* using log directory 'C:/Users/biocbuild/bbs-3.10-bioc/meat/zFPKM.Rcheck'
* using R version 3.6.3 (2020-02-29)
* using platform: x86_64-w64-mingw32 (64-bit)
* using session charset: ISO8859-1
* using option '--no-vignettes'
* checking for file 'zFPKM/DESCRIPTION' ... OK
* this is package 'zFPKM' version '1.8.0'
* checking package namespace information ... OK
* checking package dependencies ... OK
* checking if this is a source package ... OK
* checking if there is a namespace ... OK
* checking for hidden files and directories ... OK
* checking for portable file names ... OK
* checking whether package 'zFPKM' can be installed ... OK
* checking installed package size ... OK
* checking package directory ... OK
* checking 'build' directory ... OK
* checking DESCRIPTION meta-information ... OK
* checking top-level files ... OK
* checking for left-over files ... OK
* checking index information ... OK
* checking package subdirectories ... OK
* checking R files for non-ASCII characters ... OK
* checking R files for syntax errors ... OK
* loading checks for arch 'i386'
** checking whether the package can be loaded ... OK
** checking whether the package can be loaded with stated dependencies ... OK
** checking whether the package can be unloaded cleanly ... OK
** checking whether the namespace can be loaded with stated dependencies ... OK
** checking whether the namespace can be unloaded cleanly ... OK
* loading checks for arch 'x64'
** checking whether the package can be loaded ... OK
** checking whether the package can be loaded with stated dependencies ... OK
** checking whether the package can be unloaded cleanly ... OK
** checking whether the namespace can be loaded with stated dependencies ... OK
** checking whether the namespace can be unloaded cleanly ... OK
* checking dependencies in R code ... OK
* checking S3 generic/method consistency ... OK
* checking replacement functions ... OK
* checking foreign function calls ... OK
* checking R code for possible problems ... NOTE
PlotGaussianFitDF: no visible global function definition for 'dnorm'
PlotGaussianFitDF: no visible binding for global variable 'density'
PlotGaussianFitDF: no visible binding for global variable 'log2fpkm'
PlotGaussianFitDF: no visible binding for global variable 'sample_name'
zFPKMCalc: no visible global function definition for 'density'
zFPKMTransform: no visible global function definition for 'is'
Undefined global functions or variables:
density dnorm is log2fpkm sample_name
Consider adding
importFrom("methods", "is")
importFrom("stats", "density", "dnorm")
to your NAMESPACE file (and ensure that your DESCRIPTION Imports field
contains 'methods').
* checking Rd files ... OK
* checking Rd metadata ... OK
* checking Rd cross-references ... OK
* checking for missing documentation entries ... OK
* checking for code/documentation mismatches ... OK
* checking Rd \usage sections ... OK
* checking Rd contents ... OK
* checking for unstated dependencies in examples ... OK
* checking files in 'vignettes' ... OK
* checking examples ...
** running examples for arch 'i386' ... OK
** running examples for arch 'x64' ... OK
* checking for unstated dependencies in vignettes ... OK
* checking package vignettes in 'inst/doc' ... OK
* checking running R code from vignettes ... SKIPPED
* checking re-building of vignette outputs ... SKIPPED
* checking PDF version of manual ... OK
* DONE
Status: 1 NOTE
See
'C:/Users/biocbuild/bbs-3.10-bioc/meat/zFPKM.Rcheck/00check.log'
for details.
zFPKM.Rcheck/00install.out
##############################################################################
##############################################################################
###
### Running command:
###
### C:\cygwin\bin\curl.exe -O https://malbec1.bioconductor.org/BBS/3.10/bioc/src/contrib/zFPKM_1.8.0.tar.gz && rm -rf zFPKM.buildbin-libdir && mkdir zFPKM.buildbin-libdir && C:\Users\biocbuild\bbs-3.10-bioc\R\bin\R.exe CMD INSTALL --merge-multiarch --build --library=zFPKM.buildbin-libdir zFPKM_1.8.0.tar.gz && C:\Users\biocbuild\bbs-3.10-bioc\R\bin\R.exe CMD INSTALL zFPKM_1.8.0.zip && rm zFPKM_1.8.0.tar.gz zFPKM_1.8.0.zip
###
##############################################################################
##############################################################################
% Total % Received % Xferd Average Speed Time Time Time Current
Dload Upload Total Spent Left Speed
0 0 0 0 0 0 0 0 --:--:-- --:--:-- --:--:-- 0
100 86148 100 86148 0 0 2173k 0 --:--:-- --:--:-- --:--:-- 2403k
install for i386
* installing *source* package 'zFPKM' ...
** using staged installation
** R
** byte-compile and prepare package for lazy loading
** help
*** installing help indices
converting help for package 'zFPKM'
finding HTML links ... done
zFPKM html
zFPKMPlot html
** building package indices
** installing vignettes
** testing if installed package can be loaded from temporary location
** testing if installed package can be loaded from final location
** testing if installed package keeps a record of temporary installation path
install for x64
* installing *source* package 'zFPKM' ...
** testing if installed package can be loaded
* MD5 sums
packaged installation of 'zFPKM' as zFPKM_1.8.0.zip
* DONE (zFPKM)
* installing to library 'C:/Users/biocbuild/bbs-3.10-bioc/R/library'
package 'zFPKM' successfully unpacked and MD5 sums checked
|
zFPKM.Rcheck/examples_i386/zFPKM-Ex.timings
|
zFPKM.Rcheck/examples_x64/zFPKM-Ex.timings
|