| Back to Multiple platform build/check report for BioC 3.10 | 
 | 
This page was generated on 2020-04-15 12:21:12 -0400 (Wed, 15 Apr 2020).
| Package 1800/1823 | Hostname | OS / Arch | INSTALL | BUILD | CHECK | BUILD BIN | ||||||
| wateRmelon 1.30.0 Leo 
 | malbec1 | Linux (Ubuntu 18.04.4 LTS) / x86_64 | OK | OK | OK |  | ||||||
| tokay1 | Windows Server 2012 R2 Standard / x64 | [ OK ] | OK | OK | OK |  | ||||||
| merida1 | OS X 10.11.6 El Capitan / x86_64 | OK | OK | OK | OK |  | 
| Package: wateRmelon | 
| Version: 1.30.0 | 
| Command: C:\cygwin\bin\curl.exe -O https://malbec1.bioconductor.org/BBS/3.10/bioc/src/contrib/wateRmelon_1.30.0.tar.gz && rm -rf wateRmelon.buildbin-libdir && mkdir wateRmelon.buildbin-libdir && C:\Users\biocbuild\bbs-3.10-bioc\R\bin\R.exe CMD INSTALL --merge-multiarch --build --library=wateRmelon.buildbin-libdir wateRmelon_1.30.0.tar.gz && C:\Users\biocbuild\bbs-3.10-bioc\R\bin\R.exe CMD INSTALL wateRmelon_1.30.0.zip && rm wateRmelon_1.30.0.tar.gz wateRmelon_1.30.0.zip | 
| StartedAt: 2020-04-14 20:37:25 -0400 (Tue, 14 Apr 2020) | 
| EndedAt: 2020-04-14 20:38:53 -0400 (Tue, 14 Apr 2020) | 
| EllapsedTime: 87.9 seconds | 
| RetCode: 0 | 
| Status: OK | 
##############################################################################
##############################################################################
###
### Running command:
###
###   C:\cygwin\bin\curl.exe -O https://malbec1.bioconductor.org/BBS/3.10/bioc/src/contrib/wateRmelon_1.30.0.tar.gz && rm -rf wateRmelon.buildbin-libdir && mkdir wateRmelon.buildbin-libdir && C:\Users\biocbuild\bbs-3.10-bioc\R\bin\R.exe CMD INSTALL --merge-multiarch --build --library=wateRmelon.buildbin-libdir wateRmelon_1.30.0.tar.gz && C:\Users\biocbuild\bbs-3.10-bioc\R\bin\R.exe CMD INSTALL wateRmelon_1.30.0.zip && rm wateRmelon_1.30.0.tar.gz wateRmelon_1.30.0.zip
###
##############################################################################
##############################################################################
  % Total    % Received % Xferd  Average Speed   Time    Time     Time  Current
                                 Dload  Upload   Total   Spent    Left  Speed
  0     0    0     0    0     0      0      0 --:--:-- --:--:-- --:--:--     0
100 1061k  100 1061k    0     0  6393k      0 --:--:-- --:--:-- --:--:-- 6554k
install for i386
* installing *source* package 'wateRmelon' ...
** using staged installation
** R
** data
** inst
** byte-compile and prepare package for lazy loading
No methods found in package 'RSQLite' for request: 'dbListFields' when loading 'lumi'
Creating a generic function from function 'as.methylumi' in package 'wateRmelon'
** help
*** installing help indices
  converting help for package 'wateRmelon'
    finding HTML links ... done
    BMIQ                                    html  
    Beta2M                                  html  
    adaptRefQuantiles                       html  
    agep                                    html  
    as.methylumi-methods                    html  
    beadc                                   html  
    beadcount                               html  
    bscon                                   html  
    colnames-methods                        html  
    combo                                   html  
    dasen-MethyLumiSet                      html  
    dasen-MethySet                          html  
    dasen-exprmethy450                      html  
    dasen                                   html  
    db1                                     html  
    dmrse-methods                           html  
    dmrse                                   html  
    estimateCellCounts.wmln                 html  
    genki-methods                           html  
    genki                                   html  
    genkme                                  html  
    got                                     html  
    iDMR                                    html  
    melon                                   html  
    metrics                                 html  
    outlyx-methods                          html  
    outlyx                                  html  
    pfilter                                 html  
    predictSex                              html  
    pwod-methods                            html  
    pwod                                    html  
    qual                                    html  
    readEPIC                                html  
    seabi-methods                           html  
    seabi                                   html  
    seabird                                 html  
    sextest                                 html  
    wateRmelon-package                      html  
    wm_internal                             html  
** building package indices
** installing vignettes
   'wateRmelon.Rnw' 
** testing if installed package can be loaded from temporary location
No methods found in package 'RSQLite' for request: 'dbListFields' when loading 'lumi'
** testing if installed package can be loaded from final location
No methods found in package 'RSQLite' for request: 'dbListFields' when loading 'lumi'
** testing if installed package keeps a record of temporary installation path
install for x64
* installing *source* package 'wateRmelon' ...
** testing if installed package can be loaded
No methods found in package 'RSQLite' for request: 'dbListFields' when loading 'lumi'
* MD5 sums
packaged installation of 'wateRmelon' as wateRmelon_1.30.0.zip
* DONE (wateRmelon)
* installing to library 'C:/Users/biocbuild/bbs-3.10-bioc/R/library'
package 'wateRmelon' successfully unpacked and MD5 sums checked