| Back to Multiple platform build/check report for BioC 3.10 | 
 | 
This page was generated on 2020-04-15 12:21:36 -0400 (Wed, 15 Apr 2020).
| Package 1757/1823 | Hostname | OS / Arch | INSTALL | BUILD | CHECK | BUILD BIN | ||||||
| triplex 1.26.0 Jiri Hon 
 | malbec1 | Linux (Ubuntu 18.04.4 LTS) / x86_64 | OK | OK | OK |  | ||||||
| tokay1 | Windows Server 2012 R2 Standard / x64 | [ OK ] | OK | OK | OK |  | ||||||
| merida1 | OS X 10.11.6 El Capitan / x86_64 | OK | OK | OK | OK |  | 
| Package: triplex | 
| Version: 1.26.0 | 
| Command: C:\cygwin\bin\curl.exe -O https://malbec1.bioconductor.org/BBS/3.10/bioc/src/contrib/triplex_1.26.0.tar.gz && rm -rf triplex.buildbin-libdir && mkdir triplex.buildbin-libdir && C:\Users\biocbuild\bbs-3.10-bioc\R\bin\R.exe CMD INSTALL --merge-multiarch --build --library=triplex.buildbin-libdir triplex_1.26.0.tar.gz && C:\Users\biocbuild\bbs-3.10-bioc\R\bin\R.exe CMD INSTALL triplex_1.26.0.zip && rm triplex_1.26.0.tar.gz triplex_1.26.0.zip | 
| StartedAt: 2020-04-14 19:30:08 -0400 (Tue, 14 Apr 2020) | 
| EndedAt: 2020-04-14 19:30:56 -0400 (Tue, 14 Apr 2020) | 
| EllapsedTime: 47.9 seconds | 
| RetCode: 0 | 
| Status: OK | 
##############################################################################
##############################################################################
###
### Running command:
###
###   C:\cygwin\bin\curl.exe -O https://malbec1.bioconductor.org/BBS/3.10/bioc/src/contrib/triplex_1.26.0.tar.gz && rm -rf triplex.buildbin-libdir && mkdir triplex.buildbin-libdir && C:\Users\biocbuild\bbs-3.10-bioc\R\bin\R.exe CMD INSTALL --merge-multiarch --build --library=triplex.buildbin-libdir triplex_1.26.0.tar.gz && C:\Users\biocbuild\bbs-3.10-bioc\R\bin\R.exe CMD INSTALL triplex_1.26.0.zip && rm triplex_1.26.0.tar.gz triplex_1.26.0.zip
###
##############################################################################
##############################################################################
  % Total    % Received % Xferd  Average Speed   Time    Time     Time  Current
                                 Dload  Upload   Total   Spent    Left  Speed
  0     0    0     0    0     0      0      0 --:--:-- --:--:-- --:--:--     0
100  224k  100  224k    0     0  5582k      0 --:--:-- --:--:-- --:--:-- 6069k
install for i386
* installing *source* package 'triplex' ...
** using staged installation
** libs
C:/Rtools/mingw_32/bin/gcc  -I"C:/Users/BIOCBU~1/BBS-3~1.10-/R/include" -DNDEBUG  -I"C:/Users/biocbuild/bbs-3.10-bioc/R/library/S4Vectors/include" -I"C:/Users/biocbuild/bbs-3.10-bioc/R/library/IRanges/include" -I"C:/Users/biocbuild/bbs-3.10-bioc/R/library/XVector/include" -I"C:/Users/biocbuild/bbs-3.10-bioc/R/library/Biostrings/include"   -I"C:/extsoft/include"     -O3 -Wall  -std=gnu99 -mtune=core2 -c Biostrings_stubs.c -o Biostrings_stubs.o
C:/Rtools/mingw_32/bin/gcc  -I"C:/Users/BIOCBU~1/BBS-3~1.10-/R/include" -DNDEBUG  -I"C:/Users/biocbuild/bbs-3.10-bioc/R/library/S4Vectors/include" -I"C:/Users/biocbuild/bbs-3.10-bioc/R/library/IRanges/include" -I"C:/Users/biocbuild/bbs-3.10-bioc/R/library/XVector/include" -I"C:/Users/biocbuild/bbs-3.10-bioc/R/library/Biostrings/include"   -I"C:/extsoft/include"     -O3 -Wall  -std=gnu99 -mtune=core2 -c IRanges_stubs.c -o IRanges_stubs.o
C:/Rtools/mingw_32/bin/gcc  -I"C:/Users/BIOCBU~1/BBS-3~1.10-/R/include" -DNDEBUG  -I"C:/Users/biocbuild/bbs-3.10-bioc/R/library/S4Vectors/include" -I"C:/Users/biocbuild/bbs-3.10-bioc/R/library/IRanges/include" -I"C:/Users/biocbuild/bbs-3.10-bioc/R/library/XVector/include" -I"C:/Users/biocbuild/bbs-3.10-bioc/R/library/Biostrings/include"   -I"C:/extsoft/include"     -O3 -Wall  -std=gnu99 -mtune=core2 -c R_init_triplex.c -o R_init_triplex.o
C:/Rtools/mingw_32/bin/gcc  -I"C:/Users/BIOCBU~1/BBS-3~1.10-/R/include" -DNDEBUG  -I"C:/Users/biocbuild/bbs-3.10-bioc/R/library/S4Vectors/include" -I"C:/Users/biocbuild/bbs-3.10-bioc/R/library/IRanges/include" -I"C:/Users/biocbuild/bbs-3.10-bioc/R/library/XVector/include" -I"C:/Users/biocbuild/bbs-3.10-bioc/R/library/Biostrings/include"   -I"C:/extsoft/include"     -O3 -Wall  -std=gnu99 -mtune=core2 -c XVector_stubs.c -o XVector_stubs.o
C:/Rtools/mingw_32/bin/gcc  -I"C:/Users/BIOCBU~1/BBS-3~1.10-/R/include" -DNDEBUG  -I"C:/Users/biocbuild/bbs-3.10-bioc/R/library/S4Vectors/include" -I"C:/Users/biocbuild/bbs-3.10-bioc/R/library/IRanges/include" -I"C:/Users/biocbuild/bbs-3.10-bioc/R/library/XVector/include" -I"C:/Users/biocbuild/bbs-3.10-bioc/R/library/Biostrings/include"   -I"C:/extsoft/include"     -O3 -Wall  -std=gnu99 -mtune=core2 -c align.c -o align.o
C:/Rtools/mingw_32/bin/gcc  -I"C:/Users/BIOCBU~1/BBS-3~1.10-/R/include" -DNDEBUG  -I"C:/Users/biocbuild/bbs-3.10-bioc/R/library/S4Vectors/include" -I"C:/Users/biocbuild/bbs-3.10-bioc/R/library/IRanges/include" -I"C:/Users/biocbuild/bbs-3.10-bioc/R/library/XVector/include" -I"C:/Users/biocbuild/bbs-3.10-bioc/R/library/Biostrings/include"   -I"C:/extsoft/include"     -O3 -Wall  -std=gnu99 -mtune=core2 -c align_interface.c -o align_interface.o
C:/Rtools/mingw_32/bin/gcc  -I"C:/Users/BIOCBU~1/BBS-3~1.10-/R/include" -DNDEBUG  -I"C:/Users/biocbuild/bbs-3.10-bioc/R/library/S4Vectors/include" -I"C:/Users/biocbuild/bbs-3.10-bioc/R/library/IRanges/include" -I"C:/Users/biocbuild/bbs-3.10-bioc/R/library/XVector/include" -I"C:/Users/biocbuild/bbs-3.10-bioc/R/library/Biostrings/include"   -I"C:/extsoft/include"     -O3 -Wall  -std=gnu99 -mtune=core2 -c dl_list.c -o dl_list.o
C:/Rtools/mingw_32/bin/gcc  -I"C:/Users/BIOCBU~1/BBS-3~1.10-/R/include" -DNDEBUG  -I"C:/Users/biocbuild/bbs-3.10-bioc/R/library/S4Vectors/include" -I"C:/Users/biocbuild/bbs-3.10-bioc/R/library/IRanges/include" -I"C:/Users/biocbuild/bbs-3.10-bioc/R/library/XVector/include" -I"C:/Users/biocbuild/bbs-3.10-bioc/R/library/Biostrings/include"   -I"C:/extsoft/include"     -O3 -Wall  -std=gnu99 -mtune=core2 -c interval.c -o interval.o
C:/Rtools/mingw_32/bin/gcc  -I"C:/Users/BIOCBU~1/BBS-3~1.10-/R/include" -DNDEBUG  -I"C:/Users/biocbuild/bbs-3.10-bioc/R/library/S4Vectors/include" -I"C:/Users/biocbuild/bbs-3.10-bioc/R/library/IRanges/include" -I"C:/Users/biocbuild/bbs-3.10-bioc/R/library/XVector/include" -I"C:/Users/biocbuild/bbs-3.10-bioc/R/library/Biostrings/include"   -I"C:/extsoft/include"     -O3 -Wall  -std=gnu99 -mtune=core2 -c libtriplex.c -o libtriplex.o
C:/Rtools/mingw_32/bin/gcc  -I"C:/Users/BIOCBU~1/BBS-3~1.10-/R/include" -DNDEBUG  -I"C:/Users/biocbuild/bbs-3.10-bioc/R/library/S4Vectors/include" -I"C:/Users/biocbuild/bbs-3.10-bioc/R/library/IRanges/include" -I"C:/Users/biocbuild/bbs-3.10-bioc/R/library/XVector/include" -I"C:/Users/biocbuild/bbs-3.10-bioc/R/library/Biostrings/include"   -I"C:/extsoft/include"     -O3 -Wall  -std=gnu99 -mtune=core2 -c progress.c -o progress.o
C:/Rtools/mingw_32/bin/gcc  -I"C:/Users/BIOCBU~1/BBS-3~1.10-/R/include" -DNDEBUG  -I"C:/Users/biocbuild/bbs-3.10-bioc/R/library/S4Vectors/include" -I"C:/Users/biocbuild/bbs-3.10-bioc/R/library/IRanges/include" -I"C:/Users/biocbuild/bbs-3.10-bioc/R/library/XVector/include" -I"C:/Users/biocbuild/bbs-3.10-bioc/R/library/Biostrings/include"   -I"C:/extsoft/include"     -O3 -Wall  -std=gnu99 -mtune=core2 -c search.c -o search.o
C:/Rtools/mingw_32/bin/gcc  -I"C:/Users/BIOCBU~1/BBS-3~1.10-/R/include" -DNDEBUG  -I"C:/Users/biocbuild/bbs-3.10-bioc/R/library/S4Vectors/include" -I"C:/Users/biocbuild/bbs-3.10-bioc/R/library/IRanges/include" -I"C:/Users/biocbuild/bbs-3.10-bioc/R/library/XVector/include" -I"C:/Users/biocbuild/bbs-3.10-bioc/R/library/Biostrings/include"   -I"C:/extsoft/include"     -O3 -Wall  -std=gnu99 -mtune=core2 -c search_interface.c -o search_interface.o
C:/Rtools/mingw_32/bin/gcc -shared -s -static-libgcc -o triplex.dll tmp.def Biostrings_stubs.o IRanges_stubs.o R_init_triplex.o XVector_stubs.o align.o align_interface.o dl_list.o interval.o libtriplex.o progress.o search.o search_interface.o -LC:/extsoft/lib/i386 -LC:/extsoft/lib -LC:/Users/BIOCBU~1/BBS-3~1.10-/R/bin/i386 -lR
installing to C:/Users/biocbuild/bbs-3.10-bioc/meat/triplex.buildbin-libdir/00LOCK-triplex/00new/triplex/libs/i386
** R
** inst
** byte-compile and prepare package for lazy loading
** help
*** installing help indices
  converting help for package 'triplex'
    finding HTML links ... done
    TriplexViews-class                      html  
    finding level-2 HTML links ... done
    ins                                     html  
    lend                                    html  
    lstart                                  html  
    lwidth                                  html  
    pvalue                                  html  
    triplex-package                         html  
    triplex.3D                              html  
    triplex.alignment                       html  
    triplex.diagram                         html  
    triplex.group.table                     html  
    triplex.score.table                     html  
    triplex.search                          html  
*** copying figures
** building package indices
** installing vignettes
** testing if installed package can be loaded from temporary location
** testing if installed package can be loaded from final location
** testing if installed package keeps a record of temporary installation path
install for x64
* installing *source* package 'triplex' ...
** libs
C:/Rtools/mingw_64/bin/gcc  -I"C:/Users/BIOCBU~1/BBS-3~1.10-/R/include" -DNDEBUG  -I"C:/Users/biocbuild/bbs-3.10-bioc/R/library/S4Vectors/include" -I"C:/Users/biocbuild/bbs-3.10-bioc/R/library/IRanges/include" -I"C:/Users/biocbuild/bbs-3.10-bioc/R/library/XVector/include" -I"C:/Users/biocbuild/bbs-3.10-bioc/R/library/Biostrings/include"   -I"C:/extsoft/include"     -O2 -Wall  -std=gnu99 -mtune=core2 -c Biostrings_stubs.c -o Biostrings_stubs.o
C:/Rtools/mingw_64/bin/gcc  -I"C:/Users/BIOCBU~1/BBS-3~1.10-/R/include" -DNDEBUG  -I"C:/Users/biocbuild/bbs-3.10-bioc/R/library/S4Vectors/include" -I"C:/Users/biocbuild/bbs-3.10-bioc/R/library/IRanges/include" -I"C:/Users/biocbuild/bbs-3.10-bioc/R/library/XVector/include" -I"C:/Users/biocbuild/bbs-3.10-bioc/R/library/Biostrings/include"   -I"C:/extsoft/include"     -O2 -Wall  -std=gnu99 -mtune=core2 -c IRanges_stubs.c -o IRanges_stubs.o
C:/Rtools/mingw_64/bin/gcc  -I"C:/Users/BIOCBU~1/BBS-3~1.10-/R/include" -DNDEBUG  -I"C:/Users/biocbuild/bbs-3.10-bioc/R/library/S4Vectors/include" -I"C:/Users/biocbuild/bbs-3.10-bioc/R/library/IRanges/include" -I"C:/Users/biocbuild/bbs-3.10-bioc/R/library/XVector/include" -I"C:/Users/biocbuild/bbs-3.10-bioc/R/library/Biostrings/include"   -I"C:/extsoft/include"     -O2 -Wall  -std=gnu99 -mtune=core2 -c R_init_triplex.c -o R_init_triplex.o
C:/Rtools/mingw_64/bin/gcc  -I"C:/Users/BIOCBU~1/BBS-3~1.10-/R/include" -DNDEBUG  -I"C:/Users/biocbuild/bbs-3.10-bioc/R/library/S4Vectors/include" -I"C:/Users/biocbuild/bbs-3.10-bioc/R/library/IRanges/include" -I"C:/Users/biocbuild/bbs-3.10-bioc/R/library/XVector/include" -I"C:/Users/biocbuild/bbs-3.10-bioc/R/library/Biostrings/include"   -I"C:/extsoft/include"     -O2 -Wall  -std=gnu99 -mtune=core2 -c XVector_stubs.c -o XVector_stubs.o
C:/Rtools/mingw_64/bin/gcc  -I"C:/Users/BIOCBU~1/BBS-3~1.10-/R/include" -DNDEBUG  -I"C:/Users/biocbuild/bbs-3.10-bioc/R/library/S4Vectors/include" -I"C:/Users/biocbuild/bbs-3.10-bioc/R/library/IRanges/include" -I"C:/Users/biocbuild/bbs-3.10-bioc/R/library/XVector/include" -I"C:/Users/biocbuild/bbs-3.10-bioc/R/library/Biostrings/include"   -I"C:/extsoft/include"     -O2 -Wall  -std=gnu99 -mtune=core2 -c align.c -o align.o
C:/Rtools/mingw_64/bin/gcc  -I"C:/Users/BIOCBU~1/BBS-3~1.10-/R/include" -DNDEBUG  -I"C:/Users/biocbuild/bbs-3.10-bioc/R/library/S4Vectors/include" -I"C:/Users/biocbuild/bbs-3.10-bioc/R/library/IRanges/include" -I"C:/Users/biocbuild/bbs-3.10-bioc/R/library/XVector/include" -I"C:/Users/biocbuild/bbs-3.10-bioc/R/library/Biostrings/include"   -I"C:/extsoft/include"     -O2 -Wall  -std=gnu99 -mtune=core2 -c align_interface.c -o align_interface.o
C:/Rtools/mingw_64/bin/gcc  -I"C:/Users/BIOCBU~1/BBS-3~1.10-/R/include" -DNDEBUG  -I"C:/Users/biocbuild/bbs-3.10-bioc/R/library/S4Vectors/include" -I"C:/Users/biocbuild/bbs-3.10-bioc/R/library/IRanges/include" -I"C:/Users/biocbuild/bbs-3.10-bioc/R/library/XVector/include" -I"C:/Users/biocbuild/bbs-3.10-bioc/R/library/Biostrings/include"   -I"C:/extsoft/include"     -O2 -Wall  -std=gnu99 -mtune=core2 -c dl_list.c -o dl_list.o
C:/Rtools/mingw_64/bin/gcc  -I"C:/Users/BIOCBU~1/BBS-3~1.10-/R/include" -DNDEBUG  -I"C:/Users/biocbuild/bbs-3.10-bioc/R/library/S4Vectors/include" -I"C:/Users/biocbuild/bbs-3.10-bioc/R/library/IRanges/include" -I"C:/Users/biocbuild/bbs-3.10-bioc/R/library/XVector/include" -I"C:/Users/biocbuild/bbs-3.10-bioc/R/library/Biostrings/include"   -I"C:/extsoft/include"     -O2 -Wall  -std=gnu99 -mtune=core2 -c interval.c -o interval.o
C:/Rtools/mingw_64/bin/gcc  -I"C:/Users/BIOCBU~1/BBS-3~1.10-/R/include" -DNDEBUG  -I"C:/Users/biocbuild/bbs-3.10-bioc/R/library/S4Vectors/include" -I"C:/Users/biocbuild/bbs-3.10-bioc/R/library/IRanges/include" -I"C:/Users/biocbuild/bbs-3.10-bioc/R/library/XVector/include" -I"C:/Users/biocbuild/bbs-3.10-bioc/R/library/Biostrings/include"   -I"C:/extsoft/include"     -O2 -Wall  -std=gnu99 -mtune=core2 -c libtriplex.c -o libtriplex.o
C:/Rtools/mingw_64/bin/gcc  -I"C:/Users/BIOCBU~1/BBS-3~1.10-/R/include" -DNDEBUG  -I"C:/Users/biocbuild/bbs-3.10-bioc/R/library/S4Vectors/include" -I"C:/Users/biocbuild/bbs-3.10-bioc/R/library/IRanges/include" -I"C:/Users/biocbuild/bbs-3.10-bioc/R/library/XVector/include" -I"C:/Users/biocbuild/bbs-3.10-bioc/R/library/Biostrings/include"   -I"C:/extsoft/include"     -O2 -Wall  -std=gnu99 -mtune=core2 -c progress.c -o progress.o
C:/Rtools/mingw_64/bin/gcc  -I"C:/Users/BIOCBU~1/BBS-3~1.10-/R/include" -DNDEBUG  -I"C:/Users/biocbuild/bbs-3.10-bioc/R/library/S4Vectors/include" -I"C:/Users/biocbuild/bbs-3.10-bioc/R/library/IRanges/include" -I"C:/Users/biocbuild/bbs-3.10-bioc/R/library/XVector/include" -I"C:/Users/biocbuild/bbs-3.10-bioc/R/library/Biostrings/include"   -I"C:/extsoft/include"     -O2 -Wall  -std=gnu99 -mtune=core2 -c search.c -o search.o
C:/Rtools/mingw_64/bin/gcc  -I"C:/Users/BIOCBU~1/BBS-3~1.10-/R/include" -DNDEBUG  -I"C:/Users/biocbuild/bbs-3.10-bioc/R/library/S4Vectors/include" -I"C:/Users/biocbuild/bbs-3.10-bioc/R/library/IRanges/include" -I"C:/Users/biocbuild/bbs-3.10-bioc/R/library/XVector/include" -I"C:/Users/biocbuild/bbs-3.10-bioc/R/library/Biostrings/include"   -I"C:/extsoft/include"     -O2 -Wall  -std=gnu99 -mtune=core2 -c search_interface.c -o search_interface.o
C:/Rtools/mingw_64/bin/gcc -shared -s -static-libgcc -o triplex.dll tmp.def Biostrings_stubs.o IRanges_stubs.o R_init_triplex.o XVector_stubs.o align.o align_interface.o dl_list.o interval.o libtriplex.o progress.o search.o search_interface.o -LC:/extsoft/lib/x64 -LC:/extsoft/lib -LC:/Users/BIOCBU~1/BBS-3~1.10-/R/bin/x64 -lR
installing to C:/Users/biocbuild/bbs-3.10-bioc/meat/triplex.buildbin-libdir/triplex/libs/x64
** testing if installed package can be loaded
* MD5 sums
packaged installation of 'triplex' as triplex_1.26.0.zip
* DONE (triplex)
* installing to library 'C:/Users/biocbuild/bbs-3.10-bioc/R/library'
package 'triplex' successfully unpacked and MD5 sums checked