| Back to Multiple platform build/check report for BioC 3.10 |
|
This page was generated on 2020-04-15 12:20:51 -0400 (Wed, 15 Apr 2020).
| Package 1754/1823 | Hostname | OS / Arch | INSTALL | BUILD | CHECK | BUILD BIN | ||||||
| triform 1.28.0 Thomas Carroll
| malbec1 | Linux (Ubuntu 18.04.4 LTS) / x86_64 | OK | OK | OK | |||||||
| tokay1 | Windows Server 2012 R2 Standard / x64 | [ OK ] | OK | OK | OK | |||||||
| merida1 | OS X 10.11.6 El Capitan / x86_64 | OK | OK | OK | OK |
| Package: triform |
| Version: 1.28.0 |
| Command: C:\cygwin\bin\curl.exe -O https://malbec1.bioconductor.org/BBS/3.10/bioc/src/contrib/triform_1.28.0.tar.gz && rm -rf triform.buildbin-libdir && mkdir triform.buildbin-libdir && C:\Users\biocbuild\bbs-3.10-bioc\R\bin\R.exe CMD INSTALL --merge-multiarch --build --library=triform.buildbin-libdir triform_1.28.0.tar.gz && C:\Users\biocbuild\bbs-3.10-bioc\R\bin\R.exe CMD INSTALL triform_1.28.0.zip && rm triform_1.28.0.tar.gz triform_1.28.0.zip |
| StartedAt: 2020-04-14 18:40:43 -0400 (Tue, 14 Apr 2020) |
| EndedAt: 2020-04-14 18:41:17 -0400 (Tue, 14 Apr 2020) |
| EllapsedTime: 33.5 seconds |
| RetCode: 0 |
| Status: OK |
##############################################################################
##############################################################################
###
### Running command:
###
### C:\cygwin\bin\curl.exe -O https://malbec1.bioconductor.org/BBS/3.10/bioc/src/contrib/triform_1.28.0.tar.gz && rm -rf triform.buildbin-libdir && mkdir triform.buildbin-libdir && C:\Users\biocbuild\bbs-3.10-bioc\R\bin\R.exe CMD INSTALL --merge-multiarch --build --library=triform.buildbin-libdir triform_1.28.0.tar.gz && C:\Users\biocbuild\bbs-3.10-bioc\R\bin\R.exe CMD INSTALL triform_1.28.0.zip && rm triform_1.28.0.tar.gz triform_1.28.0.zip
###
##############################################################################
##############################################################################
% Total % Received % Xferd Average Speed Time Time Time Current
Dload Upload Total Spent Left Speed
0 0 0 0 0 0 0 0 --:--:-- --:--:-- --:--:-- 0
100 488k 100 488k 0 0 13.1M 0 --:--:-- --:--:-- --:--:-- 14.4M
install for i386
* installing *source* package 'triform' ...
** using staged installation
** R
** inst
** byte-compile and prepare package for lazy loading
** help
*** installing help indices
converting help for package 'triform'
finding HTML links ... done
preprocess html
triform-package html
triform html
** building package indices
** installing vignettes
'triform.Rnw' using 'UTF-8'
** testing if installed package can be loaded from temporary location
** testing if installed package can be loaded from final location
** testing if installed package keeps a record of temporary installation path
install for x64
* installing *source* package 'triform' ...
** testing if installed package can be loaded
* MD5 sums
packaged installation of 'triform' as triform_1.28.0.zip
* DONE (triform)
* installing to library 'C:/Users/biocbuild/bbs-3.10-bioc/R/library'
package 'triform' successfully unpacked and MD5 sums checked