| Back to Multiple platform build/check report for BioC 3.10 |
|
This page was generated on 2020-04-15 12:04:55 -0400 (Wed, 15 Apr 2020).
| Package 1738/1823 | Hostname | OS / Arch | INSTALL | BUILD | CHECK | BUILD BIN | ||||||
| topGO 2.38.1 Adrian Alexa
| malbec1 | Linux (Ubuntu 18.04.4 LTS) / x86_64 | OK | OK | [ OK ] | |||||||
| tokay1 | Windows Server 2012 R2 Standard / x64 | OK | OK | OK | OK | |||||||
| merida1 | OS X 10.11.6 El Capitan / x86_64 | OK | OK | OK | OK |
| Package: topGO |
| Version: 2.38.1 |
| Command: /home/biocbuild/bbs-3.10-bioc/R/bin/R CMD check --install=check:topGO.install-out.txt --library=/home/biocbuild/bbs-3.10-bioc/R/library --no-vignettes --timings topGO_2.38.1.tar.gz |
| StartedAt: 2020-04-15 00:23:14 -0400 (Wed, 15 Apr 2020) |
| EndedAt: 2020-04-15 00:25:16 -0400 (Wed, 15 Apr 2020) |
| EllapsedTime: 122.3 seconds |
| RetCode: 0 |
| Status: OK |
| CheckDir: topGO.Rcheck |
| Warnings: 0 |
##############################################################################
##############################################################################
###
### Running command:
###
### /home/biocbuild/bbs-3.10-bioc/R/bin/R CMD check --install=check:topGO.install-out.txt --library=/home/biocbuild/bbs-3.10-bioc/R/library --no-vignettes --timings topGO_2.38.1.tar.gz
###
##############################################################################
##############################################################################
* using log directory ‘/home/biocbuild/bbs-3.10-bioc/meat/topGO.Rcheck’
* using R version 3.6.3 (2020-02-29)
* using platform: x86_64-pc-linux-gnu (64-bit)
* using session charset: UTF-8
* using option ‘--no-vignettes’
* checking for file ‘topGO/DESCRIPTION’ ... OK
* checking extension type ... Package
* this is package ‘topGO’ version ‘2.38.1’
* checking package namespace information ... OK
* checking package dependencies ... NOTE
Depends: includes the non-default packages:
'BiocGenerics', 'graph', 'Biobase', 'GO.db', 'AnnotationDbi',
'SparseM'
Adding so many packages to the search path is excessive and importing
selectively is preferable.
* checking if this is a source package ... OK
* checking if there is a namespace ... OK
* checking for hidden files and directories ... OK
* checking for portable file names ... OK
* checking for sufficient/correct file permissions ... OK
* checking whether package ‘topGO’ can be installed ... OK
* checking installed package size ... OK
* checking package directory ... OK
* checking ‘build’ directory ... OK
* checking DESCRIPTION meta-information ... OK
* checking top-level files ... OK
* checking for left-over files ... OK
* checking index information ... OK
* checking package subdirectories ... OK
* checking R files for non-ASCII characters ... OK
* checking R files for syntax errors ... OK
* checking whether the package can be loaded ... OK
* checking whether the package can be loaded with stated dependencies ... OK
* checking whether the package can be unloaded cleanly ... OK
* checking whether the namespace can be loaded with stated dependencies ... OK
* checking whether the namespace can be unloaded cleanly ... OK
* checking dependencies in R code ... NOTE
'library' or 'require' calls in package code:
‘Rgraphviz’ ‘multtest’
Please use :: or requireNamespace() instead.
See section 'Suggested packages' in the 'Writing R Extensions' manual.
Missing object imported by a ':::' call: ‘globaltest:::globaltest’
* checking S3 generic/method consistency ... OK
* checking replacement functions ... OK
* checking foreign function calls ... OK
* checking R code for possible problems ... NOTE
GOplot: no visible global function definition for ‘getDefaultAttrs’
GOplot: no visible global function definition for ‘agopen’
GOplot.counts : plotSigChart : buildDrawing : <anonymous>: no visible
global function definition for ‘getNodeCenter’
GOplot.counts : plotSigChart : buildDrawing : <anonymous>: no visible
global function definition for ‘pieGlyph’
GOplot.counts : plotSigChart : buildDrawing : <anonymous>: no visible
global function definition for ‘getX’
GOplot.counts : plotSigChart : buildDrawing : <anonymous>: no visible
global function definition for ‘getY’
GOplot.counts : plotSigChart : buildDrawing : <anonymous>: no visible
global function definition for ‘getNodeLW’
GOplot.counts : plotSigChart : buildDrawing : <anonymous>: no visible
global function definition for ‘drawTxtLabel’
GOplot.counts : plotSigChart : buildDrawing : <anonymous>: no visible
global function definition for ‘txtLabel’
GOplot.counts : plotSigChart: no visible global function definition for
‘AgNode’
GOplot.counts : plotSigChart : <anonymous>: no visible global function
definition for ‘name’
GOplot.counts : plotSigChart : <anonymous>: no visible global function
definition for ‘getNodeCenter’
GOplot.counts : plotSigChart: no visible global function definition for
‘getNodeXY’
GOplot.counts : plotSigChart: no visible global function definition for
‘getY’
GOplot.counts: no visible global function definition for
‘getDefaultAttrs’
GOplot.counts: no visible global function definition for ‘agopen’
getPvalues: no visible global function definition for ‘mt.teststat’
getPvalues: no visible global function definition for ‘mt.rawp2adjp’
printDOT: no visible global function definition for ‘getDefaultAttrs’
printDOT: no visible global function definition for ‘toDot’
GOSumTest,classicScore: no visible binding for global variable
‘.PERMSUM.MAT’
GOSumTest,classicScore: no visible binding for global variable
‘.PERMSUM.LOOKUP’
initialize,classicExpr: no visible global function definition for
‘error’
scoresInTerm,topGOdata-missing: no visible global function definition
for ‘scoreInNode’
Undefined global functions or variables:
.PERMSUM.LOOKUP .PERMSUM.MAT AgNode agopen drawTxtLabel error
getDefaultAttrs getNodeCenter getNodeLW getNodeXY getX getY
mt.rawp2adjp mt.teststat name pieGlyph scoreInNode toDot txtLabel
* checking Rd files ... OK
* checking Rd metadata ... OK
* checking Rd cross-references ... OK
* checking for missing documentation entries ... OK
* checking for code/documentation mismatches ... OK
* checking Rd \usage sections ... OK
* checking Rd contents ... OK
* checking for unstated dependencies in examples ... OK
* checking contents of ‘data’ directory ... OK
* checking data for non-ASCII characters ... OK
* checking data for ASCII and uncompressed saves ... OK
* checking files in ‘vignettes’ ... OK
* checking examples ... OK
Examples with CPU or elapsed time > 5s
user system elapsed
topGOdata-class 6.572 0.08 6.664
* checking for unstated dependencies in vignettes ... OK
* checking package vignettes in ‘inst/doc’ ... OK
* checking running R code from vignettes ... SKIPPED
* checking re-building of vignette outputs ... SKIPPED
* checking PDF version of manual ... OK
* DONE
Status: 3 NOTEs
See
‘/home/biocbuild/bbs-3.10-bioc/meat/topGO.Rcheck/00check.log’
for details.
topGO.Rcheck/00install.out
############################################################################## ############################################################################## ### ### Running command: ### ### /home/biocbuild/bbs-3.10-bioc/R/bin/R CMD INSTALL topGO ### ############################################################################## ############################################################################## * installing to library ‘/home/biocbuild/bbs-3.10-bioc/R/library’ * installing *source* package ‘topGO’ ... ** using staged installation ** R ** data ** inst ** byte-compile and prepare package for lazy loading ** help *** installing help indices ** building package indices ** installing vignettes ** testing if installed package can be loaded from temporary location groupGOTerms: GOBPTerm, GOMFTerm, GOCCTerm environments built. ** testing if installed package can be loaded from final location groupGOTerms: GOBPTerm, GOMFTerm, GOCCTerm environments built. ** testing if installed package keeps a record of temporary installation path * DONE (topGO)
topGO.Rcheck/topGO-Ex.timings
| name | user | system | elapsed | |
| GOdata | 0.084 | 0.000 | 0.085 | |
| annFUN | 1.000 | 0.044 | 1.078 | |
| classicCount-class | 0 | 0 | 0 | |
| classicExpr-class | 0.004 | 0.000 | 0.002 | |
| classicScore-class | 0.004 | 0.000 | 0.004 | |
| dagFunctions | 0 | 0 | 0 | |
| diagnosticMethods | 0.336 | 0.008 | 0.342 | |
| elimExpr-class | 0.000 | 0.000 | 0.001 | |
| elimScore-class | 0 | 0 | 0 | |
| geneList | 0.004 | 0.000 | 0.002 | |
| getPvalues | 4.428 | 0.060 | 4.492 | |
| getSigGroups | 3.444 | 0.100 | 3.553 | |
| groupGOTerms | 0.248 | 0.000 | 0.250 | |
| inducedGraph | 0.032 | 0.000 | 0.033 | |
| parentChild-class | 0.000 | 0.000 | 0.001 | |
| printGraph-methods | 0 | 0 | 0 | |
| topGOdata-class | 6.572 | 0.080 | 6.664 | |
| topGOresult-class | 0.028 | 0.000 | 0.028 | |