| Back to Multiple platform build/check report for BioC 3.10 |
|
This page was generated on 2020-04-15 12:28:38 -0400 (Wed, 15 Apr 2020).
| Package 1542/1823 | Hostname | OS / Arch | INSTALL | BUILD | CHECK | BUILD BIN | ||||||
| scoreInvHap 1.8.0 Carlos Ruiz
| malbec1 | Linux (Ubuntu 18.04.4 LTS) / x86_64 | OK | OK | WARNINGS | |||||||
| tokay1 | Windows Server 2012 R2 Standard / x64 | [ OK ] | OK | WARNINGS | OK | |||||||
| merida1 | OS X 10.11.6 El Capitan / x86_64 | OK | OK | WARNINGS | OK |
| Package: scoreInvHap |
| Version: 1.8.0 |
| Command: C:\cygwin\bin\curl.exe -O https://malbec1.bioconductor.org/BBS/3.10/bioc/src/contrib/scoreInvHap_1.8.0.tar.gz && rm -rf scoreInvHap.buildbin-libdir && mkdir scoreInvHap.buildbin-libdir && C:\Users\biocbuild\bbs-3.10-bioc\R\bin\R.exe CMD INSTALL --merge-multiarch --build --library=scoreInvHap.buildbin-libdir scoreInvHap_1.8.0.tar.gz && C:\Users\biocbuild\bbs-3.10-bioc\R\bin\R.exe CMD INSTALL scoreInvHap_1.8.0.zip && rm scoreInvHap_1.8.0.tar.gz scoreInvHap_1.8.0.zip |
| StartedAt: 2020-04-14 19:58:15 -0400 (Tue, 14 Apr 2020) |
| EndedAt: 2020-04-14 19:59:11 -0400 (Tue, 14 Apr 2020) |
| EllapsedTime: 55.8 seconds |
| RetCode: 0 |
| Status: OK |
##############################################################################
##############################################################################
###
### Running command:
###
### C:\cygwin\bin\curl.exe -O https://malbec1.bioconductor.org/BBS/3.10/bioc/src/contrib/scoreInvHap_1.8.0.tar.gz && rm -rf scoreInvHap.buildbin-libdir && mkdir scoreInvHap.buildbin-libdir && C:\Users\biocbuild\bbs-3.10-bioc\R\bin\R.exe CMD INSTALL --merge-multiarch --build --library=scoreInvHap.buildbin-libdir scoreInvHap_1.8.0.tar.gz && C:\Users\biocbuild\bbs-3.10-bioc\R\bin\R.exe CMD INSTALL scoreInvHap_1.8.0.zip && rm scoreInvHap_1.8.0.tar.gz scoreInvHap_1.8.0.zip
###
##############################################################################
##############################################################################
% Total % Received % Xferd Average Speed Time Time Time Current
Dload Upload Total Spent Left Speed
0 0 0 0 0 0 0 0 --:--:-- --:--:-- --:--:-- 0
100 449k 100 449k 0 0 9980k 0 --:--:-- --:--:-- --:--:-- 10.7M
install for i386
* installing *source* package 'scoreInvHap' ...
** using staged installation
** R
** data
*** moving datasets to lazyload DB
** inst
** byte-compile and prepare package for lazy loading
** help
*** installing help indices
converting help for package 'scoreInvHap'
finding HTML links ... done
Refs html
SNPsR2 html
adaptRefs html
classifSNPs html
computeScore html
correctAlleleTable html
getAlleleTable html
getGenotypesTable html
getInvStatus html
hetRefs html
prepareMap html
scoreInvHap html
scoreInvHapRes-class html
** building package indices
** installing vignettes
** testing if installed package can be loaded from temporary location
** testing if installed package can be loaded from final location
** testing if installed package keeps a record of temporary installation path
install for x64
* installing *source* package 'scoreInvHap' ...
** testing if installed package can be loaded
* MD5 sums
packaged installation of 'scoreInvHap' as scoreInvHap_1.8.0.zip
* DONE (scoreInvHap)
* installing to library 'C:/Users/biocbuild/bbs-3.10-bioc/R/library'
package 'scoreInvHap' successfully unpacked and MD5 sums checked