| Back to Multiple platform build/check report for BioC 3.10 |
|
This page was generated on 2020-04-15 12:37:49 -0400 (Wed, 15 Apr 2020).
| Package 1468/1823 | Hostname | OS / Arch | INSTALL | BUILD | CHECK | BUILD BIN | ||||||
| rols 2.14.0 Laurent Gatto
| malbec1 | Linux (Ubuntu 18.04.4 LTS) / x86_64 | OK | OK | OK | |||||||
| tokay1 | Windows Server 2012 R2 Standard / x64 | OK | OK | OK | OK | |||||||
| merida1 | OS X 10.11.6 El Capitan / x86_64 | OK | OK | [ OK ] | OK |
| Package: rols |
| Version: 2.14.0 |
| Command: /Library/Frameworks/R.framework/Versions/Current/Resources/bin/R CMD check --install=check:rols.install-out.txt --library=/Library/Frameworks/R.framework/Versions/Current/Resources/library --no-vignettes --timings rols_2.14.0.tar.gz |
| StartedAt: 2020-04-15 05:17:13 -0400 (Wed, 15 Apr 2020) |
| EndedAt: 2020-04-15 05:26:11 -0400 (Wed, 15 Apr 2020) |
| EllapsedTime: 538.8 seconds |
| RetCode: 0 |
| Status: OK |
| CheckDir: rols.Rcheck |
| Warnings: 0 |
##############################################################################
##############################################################################
###
### Running command:
###
### /Library/Frameworks/R.framework/Versions/Current/Resources/bin/R CMD check --install=check:rols.install-out.txt --library=/Library/Frameworks/R.framework/Versions/Current/Resources/library --no-vignettes --timings rols_2.14.0.tar.gz
###
##############################################################################
##############################################################################
* using log directory ‘/Users/biocbuild/bbs-3.10-bioc/meat/rols.Rcheck’
* using R version 3.6.3 (2020-02-29)
* using platform: x86_64-apple-darwin15.6.0 (64-bit)
* using session charset: UTF-8
* using option ‘--no-vignettes’
* checking for file ‘rols/DESCRIPTION’ ... OK
* checking extension type ... Package
* this is package ‘rols’ version ‘2.14.0’
* package encoding: UTF-8
* checking package namespace information ... OK
* checking package dependencies ... OK
* checking if this is a source package ... OK
* checking if there is a namespace ... OK
* checking for hidden files and directories ... OK
* checking for portable file names ... OK
* checking for sufficient/correct file permissions ... OK
* checking whether package ‘rols’ can be installed ... OK
* checking installed package size ... OK
* checking package directory ... OK
* checking ‘build’ directory ... OK
* checking DESCRIPTION meta-information ... OK
* checking top-level files ... OK
* checking for left-over files ... OK
* checking index information ... OK
* checking package subdirectories ... OK
* checking R files for non-ASCII characters ... OK
* checking R files for syntax errors ... OK
* checking whether the package can be loaded ... OK
* checking whether the package can be loaded with stated dependencies ... OK
* checking whether the package can be unloaded cleanly ... OK
* checking whether the namespace can be loaded with stated dependencies ... OK
* checking whether the namespace can be unloaded cleanly ... OK
* checking dependencies in R code ... OK
* checking S3 generic/method consistency ... OK
* checking replacement functions ... OK
* checking foreign function calls ... OK
* checking R code for possible problems ... OK
* checking Rd files ... OK
* checking Rd metadata ... OK
* checking Rd cross-references ... OK
* checking for missing documentation entries ... OK
* checking for code/documentation mismatches ... OK
* checking Rd \usage sections ... OK
* checking Rd contents ... OK
* checking for unstated dependencies in examples ... OK
* checking files in ‘vignettes’ ... OK
* checking examples ... OK
Examples with CPU or elapsed time > 5s
user system elapsed
Term-class 73.207 1.984 186.714
CVParam-class 1.193 0.045 20.324
OlsSearch-class 0.274 0.014 8.096
* checking for unstated dependencies in ‘tests’ ... OK
* checking tests ...
Running ‘testthat.R’
OK
* checking for unstated dependencies in vignettes ... OK
* checking package vignettes in ‘inst/doc’ ... OK
* checking running R code from vignettes ... SKIPPED
* checking re-building of vignette outputs ... SKIPPED
* checking PDF version of manual ... OK
* DONE
Status: OK
rols.Rcheck/00install.out
############################################################################## ############################################################################## ### ### Running command: ### ### /Library/Frameworks/R.framework/Versions/Current/Resources/bin/R CMD INSTALL rols ### ############################################################################## ############################################################################## * installing to library ‘/Library/Frameworks/R.framework/Versions/3.6/Resources/library’ * installing *source* package ‘rols’ ... ** using staged installation ** R ** inst ** byte-compile and prepare package for lazy loading Creating a generic function for ‘lapply’ from package ‘base’ in package ‘rols’ ** help *** installing help indices ** building package indices ** installing vignettes ** testing if installed package can be loaded from temporary location ** testing if installed package can be loaded from final location ** testing if installed package keeps a record of temporary installation path * DONE (rols)
rols.Rcheck/tests/testthat.Rout
R version 3.6.3 (2020-02-29) -- "Holding the Windsock"
Copyright (C) 2020 The R Foundation for Statistical Computing
Platform: x86_64-apple-darwin15.6.0 (64-bit)
R is free software and comes with ABSOLUTELY NO WARRANTY.
You are welcome to redistribute it under certain conditions.
Type 'license()' or 'licence()' for distribution details.
R is a collaborative project with many contributors.
Type 'contributors()' for more information and
'citation()' on how to cite R or R packages in publications.
Type 'demo()' for some demos, 'help()' for on-line help, or
'help.start()' for an HTML browser interface to help.
Type 'q()' to quit R.
> # setting R_TESTS to empty string because of
> # https://github.com/hadley/testthat/issues/144
> # revert this when that issue in R is fixed.
> Sys.setenv("R_TESTS" = "")
> library("testthat")
> library("rols")
This is 'rols' version 2.14.0
>
> test_check("rols")
[, , Hello, World]
Object of class 'OlsSearch':
ontolgy: GO
query: cell
requested: 20 (out of 9918)
response(s): 0
Object of class 'Ontologies' with 248 entries
AERO, ARO ... ZECO, ZFA
Object of class 'Ontologies' with 1 entries
AERO
Object of class 'Ontologies' with 2 entries
AERO, ARO
Object of class 'Ontologies' with 3 entries
AERO, ARO, CMO
Object of class 'Ontologies' with 4 entries
AERO, ARO, CMO, DDPHENO
Object of class 'Ontologies' with 5 entries
AERO, ARO ... DDPHENO, DICOM
Ontology: Gene Ontology (go)
An ontology for describing the function of genes and gene products
Loaded: 2020-04-10 Updated: 2020-04-10 Version: 2020-03-23
50216 terms 61 properties 0 individuals
Object of class 'Properties' with 92 entries
From the SO ontology
partial_evidence_for_feature, evidence_for_feature ... variant_of, DBVAR
Object of class 'Properties' with 112 entries
From the UBERON ontology
digestive system gland, abdomen element ... liver bud, hepatobiliary system
A Property from the UBERON ontology: UBERON:0006925
Label: digestive system gland
Object of class 'Terms' with 2581 entries
From the SO ontology
SO:0000579, SO:0000833 ... SO:0000071, SO:0000070
Object of class 'Terms' with 1 entries
From the SO ontology
SO:0000579
Object of class 'Terms' with 2 entries
From the SO ontology
SO:0000579, SO:0000833
Object of class 'Terms' with 3 entries
From the SO ontology
SO:0000579, SO:0000833, SO:0000578
Object of class 'Terms' with 4 entries
From the SO ontology
SO:0000579, SO:0000833, SO:0000578, SO:0000011
Object of class 'Terms' with 5 entries
From the SO ontology
SO:0000579, SO:0000833 ... SO:0000011, SO:0001430
A Term from the GO ontology: GO:0032801
Label: receptor catabolic process
The chemical reactions and pathways resulting in the breakdown of a
receptor molecule, a macromolecule that undergoes combination with a
hormone, neurotransmitter, drug or intracellular messenger to initiate
a change in cell function.
Testing term SO:0002045
Testing term SO:0001899
Testing term SO:1000014
Testing term SO:0001199
Testing term SO:0100018
Testing term SO:0000039
Testing term SO:0005836
Testing term SO:0000166
Testing term SO:0002216
Testing term SO:0000903
══ testthat results ═══════════════════════════════════════════════════════════
[ OK: 2777 | SKIPPED: 0 | WARNINGS: 1 | FAILED: 0 ]
>
> proc.time()
user system elapsed
85.217 1.369 273.906
rols.Rcheck/rols-Ex.timings
| name | user | system | elapsed | |
| CVParam-class | 1.193 | 0.045 | 20.324 | |
| OlsSearch-class | 0.274 | 0.014 | 8.096 | |
| Ontology-class | 0.489 | 0.017 | 4.204 | |
| Properties-class | 0.397 | 0.011 | 4.396 | |
| Term-class | 73.207 | 1.984 | 186.714 | |