| Back to Multiple platform build/check report for BioC 3.10 |
|
This page was generated on 2020-04-15 12:31:48 -0400 (Wed, 15 Apr 2020).
| Package 1446/1823 | Hostname | OS / Arch | INSTALL | BUILD | CHECK | BUILD BIN | ||||||
| rmelting 1.2.0 J. Aravind
| malbec1 | Linux (Ubuntu 18.04.4 LTS) / x86_64 | OK | OK | OK | |||||||
| tokay1 | Windows Server 2012 R2 Standard / x64 | [ OK ] | OK | OK | OK | |||||||
| merida1 | OS X 10.11.6 El Capitan / x86_64 | OK | OK | OK | OK |
| Package: rmelting |
| Version: 1.2.0 |
| Command: C:\cygwin\bin\curl.exe -O https://malbec1.bioconductor.org/BBS/3.10/bioc/src/contrib/rmelting_1.2.0.tar.gz && rm -rf rmelting.buildbin-libdir && mkdir rmelting.buildbin-libdir && C:\Users\biocbuild\bbs-3.10-bioc\R\bin\R.exe CMD INSTALL --merge-multiarch --build --library=rmelting.buildbin-libdir rmelting_1.2.0.tar.gz && C:\Users\biocbuild\bbs-3.10-bioc\R\bin\R.exe CMD INSTALL rmelting_1.2.0.zip && rm rmelting_1.2.0.tar.gz rmelting_1.2.0.zip |
| StartedAt: 2020-04-14 18:42:58 -0400 (Tue, 14 Apr 2020) |
| EndedAt: 2020-04-14 18:45:32 -0400 (Tue, 14 Apr 2020) |
| EllapsedTime: 154.8 seconds |
| RetCode: 0 |
| Status: OK |
##############################################################################
##############################################################################
###
### Running command:
###
### C:\cygwin\bin\curl.exe -O https://malbec1.bioconductor.org/BBS/3.10/bioc/src/contrib/rmelting_1.2.0.tar.gz && rm -rf rmelting.buildbin-libdir && mkdir rmelting.buildbin-libdir && C:\Users\biocbuild\bbs-3.10-bioc\R\bin\R.exe CMD INSTALL --merge-multiarch --build --library=rmelting.buildbin-libdir rmelting_1.2.0.tar.gz && C:\Users\biocbuild\bbs-3.10-bioc\R\bin\R.exe CMD INSTALL rmelting_1.2.0.zip && rm rmelting_1.2.0.tar.gz rmelting_1.2.0.zip
###
##############################################################################
##############################################################################
% Total % Received % Xferd Average Speed Time Time Time Current
Dload Upload Total Spent Left Speed
0 0 0 0 0 0 0 0 --:--:-- --:--:-- --:--:-- 0
66 3055k 66 2032k 0 0 28.6M 0 --:--:-- --:--:-- --:--:-- 30.0M
100 3055k 100 3055k 0 0 37.7M 0 --:--:-- --:--:-- --:--:-- 39.2M
install for i386
* installing *source* package 'rmelting' ...
** using staged installation
** R
** inst
** byte-compile and prepare package for lazy loading
** help
Loading required namespace: rmelting
*** installing help indices
converting help for package 'rmelting'
finding HTML links ... done
melting html
meltingBatch html
print.melting html
withWE html
** building package indices
** installing vignettes
** testing if installed package can be loaded from temporary location
** testing if installed package can be loaded from final location
** testing if installed package keeps a record of temporary installation path
install for x64
* installing *source* package 'rmelting' ...
** testing if installed package can be loaded
* MD5 sums
packaged installation of 'rmelting' as rmelting_1.2.0.zip
* DONE (rmelting)
* installing to library 'C:/Users/biocbuild/bbs-3.10-bioc/R/library'
package 'rmelting' successfully unpacked and MD5 sums checked