| Back to Multiple platform build/check report for BioC 3.10 |
|
This page was generated on 2020-04-15 12:12:03 -0400 (Wed, 15 Apr 2020).
| Package 1410/1823 | Hostname | OS / Arch | INSTALL | BUILD | CHECK | BUILD BIN | ||||||
| regsplice 1.12.6 Lukas M. Weber
| malbec1 | Linux (Ubuntu 18.04.4 LTS) / x86_64 | OK | OK | [ OK ] | |||||||
| tokay1 | Windows Server 2012 R2 Standard / x64 | OK | OK | WARNINGS | OK | |||||||
| merida1 | OS X 10.11.6 El Capitan / x86_64 | OK | OK | OK | OK |
| Package: regsplice |
| Version: 1.12.6 |
| Command: /home/biocbuild/bbs-3.10-bioc/R/bin/R CMD check --install=check:regsplice.install-out.txt --library=/home/biocbuild/bbs-3.10-bioc/R/library --no-vignettes --timings regsplice_1.12.6.tar.gz |
| StartedAt: 2020-04-15 04:19:06 -0400 (Wed, 15 Apr 2020) |
| EndedAt: 2020-04-15 04:23:15 -0400 (Wed, 15 Apr 2020) |
| EllapsedTime: 248.4 seconds |
| RetCode: 0 |
| Status: OK |
| CheckDir: regsplice.Rcheck |
| Warnings: 0 |
##############################################################################
##############################################################################
###
### Running command:
###
### /home/biocbuild/bbs-3.10-bioc/R/bin/R CMD check --install=check:regsplice.install-out.txt --library=/home/biocbuild/bbs-3.10-bioc/R/library --no-vignettes --timings regsplice_1.12.6.tar.gz
###
##############################################################################
##############################################################################
* using log directory ‘/home/biocbuild/bbs-3.10-bioc/meat/regsplice.Rcheck’
* using R version 3.6.3 (2020-02-29)
* using platform: x86_64-pc-linux-gnu (64-bit)
* using session charset: UTF-8
* using option ‘--no-vignettes’
* checking for file ‘regsplice/DESCRIPTION’ ... OK
* this is package ‘regsplice’ version ‘1.12.6’
* checking package namespace information ... OK
* checking package dependencies ... OK
* checking if this is a source package ... OK
* checking if there is a namespace ... OK
* checking for hidden files and directories ... OK
* checking for portable file names ... OK
* checking for sufficient/correct file permissions ... OK
* checking whether package ‘regsplice’ can be installed ... OK
* checking installed package size ... OK
* checking package directory ... OK
* checking ‘build’ directory ... OK
* checking DESCRIPTION meta-information ... OK
* checking top-level files ... OK
* checking for left-over files ... OK
* checking index information ... OK
* checking package subdirectories ... OK
* checking R files for non-ASCII characters ... OK
* checking R files for syntax errors ... OK
* checking whether the package can be loaded ... OK
* checking whether the package can be loaded with stated dependencies ... OK
* checking whether the package can be unloaded cleanly ... OK
* checking whether the namespace can be loaded with stated dependencies ... OK
* checking whether the namespace can be unloaded cleanly ... OK
* checking dependencies in R code ... OK
* checking S3 generic/method consistency ... OK
* checking replacement functions ... OK
* checking foreign function calls ... OK
* checking R code for possible problems ... OK
* checking Rd files ... OK
* checking Rd metadata ... OK
* checking Rd cross-references ... OK
* checking for missing documentation entries ... OK
* checking for code/documentation mismatches ... OK
* checking Rd \usage sections ... OK
* checking Rd contents ... OK
* checking for unstated dependencies in examples ... OK
* checking files in ‘vignettes’ ... OK
* checking examples ... OK
Examples with CPU or elapsed time > 5s
user system elapsed
LRTests 17.608 0.024 18.037
fitRegMultiple 16.104 0.012 16.181
summaryTable 15.384 0.000 15.456
regsplice 14.692 0.000 15.230
* checking for unstated dependencies in ‘tests’ ... OK
* checking tests ...
Running ‘testthat.R’
OK
* checking for unstated dependencies in vignettes ... OK
* checking package vignettes in ‘inst/doc’ ... OK
* checking running R code from vignettes ... SKIPPED
* checking re-building of vignette outputs ... SKIPPED
* checking PDF version of manual ... OK
* DONE
Status: OK
regsplice.Rcheck/00install.out
############################################################################## ############################################################################## ### ### Running command: ### ### /home/biocbuild/bbs-3.10-bioc/R/bin/R CMD INSTALL regsplice ### ############################################################################## ############################################################################## * installing to library ‘/home/biocbuild/bbs-3.10-bioc/R/library’ * installing *source* package ‘regsplice’ ... ** using staged installation ** R ** inst ** byte-compile and prepare package for lazy loading ** help *** installing help indices ** building package indices ** installing vignettes ** testing if installed package can be loaded from temporary location ** testing if installed package can be loaded from final location ** testing if installed package keeps a record of temporary installation path * DONE (regsplice)
regsplice.Rcheck/tests/testthat.Rout
R version 3.6.3 (2020-02-29) -- "Holding the Windsock"
Copyright (C) 2020 The R Foundation for Statistical Computing
Platform: x86_64-pc-linux-gnu (64-bit)
R is free software and comes with ABSOLUTELY NO WARRANTY.
You are welcome to redistribute it under certain conditions.
Type 'license()' or 'licence()' for distribution details.
R is a collaborative project with many contributors.
Type 'contributors()' for more information and
'citation()' on how to cite R or R packages in publications.
Type 'demo()' for some demos, 'help()' for on-line help, or
'help.start()' for an HTML browser interface to help.
Type 'q()' to quit R.
> library(testthat)
> library(regsplice)
>
> test_check("regsplice")
══ testthat results ═══════════════════════════════════════════════════════════
[ OK: 90 | SKIPPED: 0 | WARNINGS: 5 | FAILED: 0 ]
>
> proc.time()
user system elapsed
30.032 0.400 32.715
regsplice.Rcheck/regsplice-Ex.timings
| name | user | system | elapsed | |
| LRTests | 17.608 | 0.024 | 18.037 | |
| RegspliceData | 0.208 | 0.000 | 0.205 | |
| RegspliceResults | 0.004 | 0.000 | 0.004 | |
| createDesignMatrix | 0.000 | 0.000 | 0.003 | |
| filterLowCounts | 0.108 | 0.004 | 0.113 | |
| filterZeros | 0.072 | 0.000 | 0.072 | |
| fitRegMultiple | 16.104 | 0.012 | 16.181 | |
| initializeResults | 0.220 | 0.000 | 0.219 | |
| regsplice | 14.692 | 0.000 | 15.230 | |
| runNormalization | 0.136 | 0.000 | 0.135 | |
| runVoom | 0.144 | 0.000 | 0.143 | |
| summaryTable | 15.384 | 0.000 | 15.456 | |