| Back to Multiple platform build/check report for BioC 3.10 |
|
This page was generated on 2020-04-15 12:17:58 -0400 (Wed, 15 Apr 2020).
| Package 1433/1823 | Hostname | OS / Arch | INSTALL | BUILD | CHECK | BUILD BIN | ||||||
Martino Barenco
| malbec1 | Linux (Ubuntu 18.04.4 LTS) / x86_64 | OK | OK | ERROR | |||||||
| tokay1 | Windows Server 2012 R2 Standard / x64 | [ OK ] | OK | ERROR | OK | |||||||
| merida1 | OS X 10.11.6 El Capitan / x86_64 | OK | OK | ERROR | OK |
| Package: rHVDM |
| Version: 1.52.0 |
| Command: C:\cygwin\bin\curl.exe -O https://malbec1.bioconductor.org/BBS/3.10/bioc/src/contrib/rHVDM_1.52.0.tar.gz && rm -rf rHVDM.buildbin-libdir && mkdir rHVDM.buildbin-libdir && C:\Users\biocbuild\bbs-3.10-bioc\R\bin\R.exe CMD INSTALL --merge-multiarch --build --library=rHVDM.buildbin-libdir rHVDM_1.52.0.tar.gz && C:\Users\biocbuild\bbs-3.10-bioc\R\bin\R.exe CMD INSTALL rHVDM_1.52.0.zip && rm rHVDM_1.52.0.tar.gz rHVDM_1.52.0.zip |
| StartedAt: 2020-04-14 19:14:18 -0400 (Tue, 14 Apr 2020) |
| EndedAt: 2020-04-14 19:14:44 -0400 (Tue, 14 Apr 2020) |
| EllapsedTime: 25.3 seconds |
| RetCode: 0 |
| Status: OK |
##############################################################################
##############################################################################
###
### Running command:
###
### C:\cygwin\bin\curl.exe -O https://malbec1.bioconductor.org/BBS/3.10/bioc/src/contrib/rHVDM_1.52.0.tar.gz && rm -rf rHVDM.buildbin-libdir && mkdir rHVDM.buildbin-libdir && C:\Users\biocbuild\bbs-3.10-bioc\R\bin\R.exe CMD INSTALL --merge-multiarch --build --library=rHVDM.buildbin-libdir rHVDM_1.52.0.tar.gz && C:\Users\biocbuild\bbs-3.10-bioc\R\bin\R.exe CMD INSTALL rHVDM_1.52.0.zip && rm rHVDM_1.52.0.tar.gz rHVDM_1.52.0.zip
###
##############################################################################
##############################################################################
% Total % Received % Xferd Average Speed Time Time Time Current
Dload Upload Total Spent Left Speed
0 0 0 0 0 0 0 0 --:--:-- --:--:-- --:--:-- 0
100 5229k 100 5229k 0 0 25.7M 0 --:--:-- --:--:-- --:--:-- 26.1M
install for i386
* installing *source* package 'rHVDM' ...
** using staged installation
** R
** data
** byte-compile and prepare package for lazy loading
Note: break used in wrong context: no loop is visible
** help
*** installing help indices
converting help for package 'rHVDM'
finding HTML links ... done
HVDMcheck html
HVDMreport html
estimerrors html
fitgene html
fitgene.lin html
fitgene.nl html
fiveGyMAS5 html
genestoscreen html
leastnoisychips html
p53traingenes html
rHVDMplattforms html
screening html
screening.nl html
training html
training.nl html
twodosesMAS5 html
** building package indices
** installing vignettes
** testing if installed package can be loaded from temporary location
Warning: Package 'rHVDM' is deprecated and will be removed from Bioconductor
version 3.11
** testing if installed package can be loaded from final location
Warning: Package 'rHVDM' is deprecated and will be removed from Bioconductor
version 3.11
** testing if installed package keeps a record of temporary installation path
install for x64
* installing *source* package 'rHVDM' ...
** testing if installed package can be loaded
Warning: Package 'rHVDM' is deprecated and will be removed from Bioconductor
version 3.11
* MD5 sums
packaged installation of 'rHVDM' as rHVDM_1.52.0.zip
* DONE (rHVDM)
* installing to library 'C:/Users/biocbuild/bbs-3.10-bioc/R/library'
package 'rHVDM' successfully unpacked and MD5 sums checked