| Back to Multiple platform build/check report for BioC 3.10 |
|
This page was generated on 2020-04-15 12:23:28 -0400 (Wed, 15 Apr 2020).
| Package 1349/1823 | Hostname | OS / Arch | INSTALL | BUILD | CHECK | BUILD BIN | ||||||
| quantro 1.20.0 Stephanie Hicks
| malbec1 | Linux (Ubuntu 18.04.4 LTS) / x86_64 | OK | OK | OK | |||||||
| tokay1 | Windows Server 2012 R2 Standard / x64 | [ OK ] | OK | OK | OK | |||||||
| merida1 | OS X 10.11.6 El Capitan / x86_64 | OK | OK | OK | OK |
| Package: quantro |
| Version: 1.20.0 |
| Command: C:\cygwin\bin\curl.exe -O https://malbec1.bioconductor.org/BBS/3.10/bioc/src/contrib/quantro_1.20.0.tar.gz && rm -rf quantro.buildbin-libdir && mkdir quantro.buildbin-libdir && C:\Users\biocbuild\bbs-3.10-bioc\R\bin\R.exe CMD INSTALL --merge-multiarch --build --library=quantro.buildbin-libdir quantro_1.20.0.tar.gz && C:\Users\biocbuild\bbs-3.10-bioc\R\bin\R.exe CMD INSTALL quantro_1.20.0.zip && rm quantro_1.20.0.tar.gz quantro_1.20.0.zip |
| StartedAt: 2020-04-14 20:34:00 -0400 (Tue, 14 Apr 2020) |
| EndedAt: 2020-04-14 20:35:01 -0400 (Tue, 14 Apr 2020) |
| EllapsedTime: 61.2 seconds |
| RetCode: 0 |
| Status: OK |
##############################################################################
##############################################################################
###
### Running command:
###
### C:\cygwin\bin\curl.exe -O https://malbec1.bioconductor.org/BBS/3.10/bioc/src/contrib/quantro_1.20.0.tar.gz && rm -rf quantro.buildbin-libdir && mkdir quantro.buildbin-libdir && C:\Users\biocbuild\bbs-3.10-bioc\R\bin\R.exe CMD INSTALL --merge-multiarch --build --library=quantro.buildbin-libdir quantro_1.20.0.tar.gz && C:\Users\biocbuild\bbs-3.10-bioc\R\bin\R.exe CMD INSTALL quantro_1.20.0.zip && rm quantro_1.20.0.tar.gz quantro_1.20.0.zip
###
##############################################################################
##############################################################################
% Total % Received % Xferd Average Speed Time Time Time Current
Dload Upload Total Spent Left Speed
0 0 0 0 0 0 0 0 --:--:-- --:--:-- --:--:-- 0
100 2272k 100 2272k 0 0 26.3M 0 --:--:-- --:--:-- --:--:-- 27.3M
install for i386
* installing *source* package 'quantro' ...
** using staged installation
** R
** data
** inst
** byte-compile and prepare package for lazy loading
** help
*** installing help indices
converting help for package 'quantro'
finding HTML links ... done
MSbetween html
MSwithin html
anova html
flowSorted html
matboxplot html
matdensity html
quantro-class html
quantro html
quantroPlot html
quantroPvalPerm html
quantroStat html
quantroStatPerm html
summary html
** building package indices
** installing vignettes
'quantro.Rmd'
** testing if installed package can be loaded from temporary location
** testing if installed package can be loaded from final location
** testing if installed package keeps a record of temporary installation path
install for x64
* installing *source* package 'quantro' ...
** testing if installed package can be loaded
* MD5 sums
packaged installation of 'quantro' as quantro_1.20.0.zip
* DONE (quantro)
* installing to library 'C:/Users/biocbuild/bbs-3.10-bioc/R/library'
package 'quantro' successfully unpacked and MD5 sums checked