| Back to Multiple platform build/check report for BioC 3.10 |
|
This page was generated on 2020-04-15 12:05:47 -0400 (Wed, 15 Apr 2020).
| Package 1269/1823 | Hostname | OS / Arch | INSTALL | BUILD | CHECK | BUILD BIN | ||||||
| pint 1.36.0 Olli-Pekka Huovilainen
| malbec1 | Linux (Ubuntu 18.04.4 LTS) / x86_64 | OK | OK | [ OK ] | |||||||
| tokay1 | Windows Server 2012 R2 Standard / x64 | OK | OK | OK | OK | |||||||
| merida1 | OS X 10.11.6 El Capitan / x86_64 | OK | OK | OK | OK |
| Package: pint |
| Version: 1.36.0 |
| Command: /home/biocbuild/bbs-3.10-bioc/R/bin/R CMD check --install=check:pint.install-out.txt --library=/home/biocbuild/bbs-3.10-bioc/R/library --no-vignettes --timings pint_1.36.0.tar.gz |
| StartedAt: 2020-04-15 00:46:26 -0400 (Wed, 15 Apr 2020) |
| EndedAt: 2020-04-15 00:48:37 -0400 (Wed, 15 Apr 2020) |
| EllapsedTime: 130.4 seconds |
| RetCode: 0 |
| Status: OK |
| CheckDir: pint.Rcheck |
| Warnings: 0 |
##############################################################################
##############################################################################
###
### Running command:
###
### /home/biocbuild/bbs-3.10-bioc/R/bin/R CMD check --install=check:pint.install-out.txt --library=/home/biocbuild/bbs-3.10-bioc/R/library --no-vignettes --timings pint_1.36.0.tar.gz
###
##############################################################################
##############################################################################
* using log directory ‘/home/biocbuild/bbs-3.10-bioc/meat/pint.Rcheck’
* using R version 3.6.3 (2020-02-29)
* using platform: x86_64-pc-linux-gnu (64-bit)
* using session charset: UTF-8
* using option ‘--no-vignettes’
* checking for file ‘pint/DESCRIPTION’ ... OK
* checking extension type ... Package
* this is package ‘pint’ version ‘1.36.0’
* checking package namespace information ... OK
* checking package dependencies ... OK
* checking if this is a source package ... OK
* checking if there is a namespace ... OK
* checking for hidden files and directories ... OK
* checking for portable file names ... OK
* checking for sufficient/correct file permissions ... OK
* checking whether package ‘pint’ can be installed ... OK
* checking installed package size ... OK
* checking package directory ... OK
* checking ‘build’ directory ... OK
* checking DESCRIPTION meta-information ... OK
* checking top-level files ... OK
* checking for left-over files ... OK
* checking index information ... OK
* checking package subdirectories ... OK
* checking R files for non-ASCII characters ... OK
* checking R files for syntax errors ... OK
* checking whether the package can be loaded ... OK
* checking whether the package can be loaded with stated dependencies ... OK
* checking whether the package can be unloaded cleanly ... OK
* checking whether the namespace can be loaded with stated dependencies ... OK
* checking whether the namespace can be unloaded cleanly ... OK
* checking dependencies in R code ... NOTE
Packages in Depends field not imported from:
‘Matrix’ ‘methods’ ‘mvtnorm’
These packages need to be imported from (in the NAMESPACE file)
for when this namespace is loaded but not attached.
* checking S3 generic/method consistency ... NOTE
Found the following apparent S3 methods exported but not registered:
plot.ChromosomeModels plot.GeneDependencyModel plot.GenomeModels
See section ‘Registering S3 methods’ in the ‘Writing R Extensions’
manual.
* checking replacement functions ... OK
* checking foreign function calls ... OK
* checking R code for possible problems ... NOTE
W.effects: no visible global function definition for ‘princomp’
W.effects: no visible global function definition for ‘cor’
calculate.arm: no visible global function definition for ‘as’
calculate.arm: no visible global function definition for ‘new’
calculate.arm.sparse: no visible global function definition for ‘new’
calculate.chr: no visible global function definition for ‘new’
calculate.chr.sparse: no visible global function definition for ‘new’
calculate.genome: no visible global function definition for ‘new’
calculate.genome.sparse: no visible global function definition for
‘new’
imputation: no visible global function definition for ‘rnorm’
imputation: no visible global function definition for ‘sd’
join.top.regions: no visible global function definition for ‘quantile’
plot.ChromosomeModels: no visible global function definition for ‘par’
plot.ChromosomeModels: no visible global function definition for
‘abline’
plot.ChromosomeModels: no visible global function definition for
‘points’
plot.ChromosomeModels: no visible global function definition for ‘text’
plot.ChromosomeModels: no visible global function definition for
‘lines’
plot.GeneDependencyModel: no visible global function definition for
‘gray’
plot.GeneDependencyModel: no visible global function definition for
‘par’
plot.GeneDependencyModel: no visible global function definition for
‘layout’
plot.GeneDependencyModel: no visible global function definition for
‘barplot’
plot.GeneDependencyModel: no visible global function definition for
‘legend’
plot.GeneDependencyModel: no visible global function definition for
‘mtext’
plot.GenomeModels: no visible global function definition for ‘par’
plot.GenomeModels: no visible global function definition for ‘abline’
plot.GenomeModels: no visible global function definition for ‘points’
plot.GenomeModels: no visible global function definition for ‘text’
plot.GenomeModels: no visible global function definition for ‘lines’
plot.GenomeModels: no visible global function definition for ‘axis’
summarize.region.parameters: no visible global function definition for
‘na.omit’
summarize.region.parameters: no visible global function definition for
‘cor’
z.effects: no visible global function definition for ‘princomp’
coerce,GeneDependencyModel-DependencyModel: no visible global function
definition for ‘new’
coerce<-,GeneDependencyModel-DependencyModel: no visible global
function definition for ‘slot<-’
coerce<-,GeneDependencyModel-DependencyModel: no visible global
function definition for ‘slot’
getPArm,ChromosomeModels: no visible global function definition for
‘new’
getQArm,ChromosomeModels: no visible global function definition for
‘new’
Undefined global functions or variables:
abline as axis barplot cor gray layout legend lines mtext na.omit new
par points princomp quantile rnorm sd slot slot<- text
Consider adding
importFrom("grDevices", "gray")
importFrom("graphics", "abline", "axis", "barplot", "layout", "legend",
"lines", "mtext", "par", "points", "text")
importFrom("methods", "as", "new", "slot", "slot<-")
importFrom("stats", "cor", "na.omit", "princomp", "quantile", "rnorm",
"sd")
to your NAMESPACE file (and ensure that your DESCRIPTION Imports field
contains 'methods').
* checking Rd files ... OK
* checking Rd metadata ... OK
* checking Rd cross-references ... OK
* checking for missing documentation entries ... OK
* checking for code/documentation mismatches ... OK
* checking Rd \usage sections ... OK
* checking Rd contents ... OK
* checking for unstated dependencies in examples ... OK
* checking contents of ‘data’ directory ... OK
* checking data for non-ASCII characters ... OK
* checking data for ASCII and uncompressed saves ... OK
* checking files in ‘vignettes’ ... OK
* checking examples ... OK
Examples with CPU or elapsed time > 5s
user system elapsed
screen 32.936 0.004 32.976
ChromosomeModels-class 30.416 0.028 30.529
plot 8.324 0.012 8.354
GeneDependencyModel-class 8.160 0.000 8.179
* checking for unstated dependencies in vignettes ... OK
* checking package vignettes in ‘inst/doc’ ... OK
* checking running R code from vignettes ... SKIPPED
* checking re-building of vignette outputs ... SKIPPED
* checking PDF version of manual ... OK
* DONE
Status: 3 NOTEs
See
‘/home/biocbuild/bbs-3.10-bioc/meat/pint.Rcheck/00check.log’
for details.
pint.Rcheck/00install.out
############################################################################## ############################################################################## ### ### Running command: ### ### /home/biocbuild/bbs-3.10-bioc/R/bin/R CMD INSTALL pint ### ############################################################################## ############################################################################## * installing to library ‘/home/biocbuild/bbs-3.10-bioc/R/library’ * installing *source* package ‘pint’ ... ** using staged installation ** R ** data ** inst ** byte-compile and prepare package for lazy loading ** help *** installing help indices ** building package indices ** installing vignettes ** testing if installed package can be loaded from temporary location ** testing if installed package can be loaded from final location ** testing if installed package keeps a record of temporary installation path * DONE (pint)
pint.Rcheck/pint-Ex.timings
| name | user | system | elapsed | |
| ChromosomeModels-class | 30.416 | 0.028 | 30.529 | |
| GeneDependencyModel-class | 8.160 | 0.000 | 8.179 | |
| fit.byname | 0.064 | 0.000 | 0.063 | |
| get.neighboring.probes | 0 | 0 | 0 | |
| get.neighs | 0 | 0 | 0 | |
| join.top.regions | 0 | 0 | 0 | |
| order.feature.info | 0 | 0 | 0 | |
| pint.data | 0.028 | 0.004 | 0.035 | |
| plot | 8.324 | 0.012 | 8.354 | |
| screen | 32.936 | 0.004 | 32.976 | |
| summarize.region.parameters | 0.000 | 0.000 | 0.001 | |
| window | 0.080 | 0.004 | 0.086 | |
| z.effect | 0.092 | 0.000 | 0.090 | |