| Back to Multiple platform build/check report for BioC 3.10 |
|
This page was generated on 2020-04-15 12:33:13 -0400 (Wed, 15 Apr 2020).
| Package 1243/1823 | Hostname | OS / Arch | INSTALL | BUILD | CHECK | BUILD BIN | ||||||
| peakPantheR 1.0.0 Arnaud Wolfer
| malbec1 | Linux (Ubuntu 18.04.4 LTS) / x86_64 | OK | OK | OK | |||||||
| tokay1 | Windows Server 2012 R2 Standard / x64 | OK | OK | [ OK ] | OK | |||||||
| merida1 | OS X 10.11.6 El Capitan / x86_64 | OK | OK | OK | OK |
| Package: peakPantheR |
| Version: 1.0.0 |
| Command: C:\Users\biocbuild\bbs-3.10-bioc\R\bin\R.exe CMD check --force-multiarch --install=check:peakPantheR.install-out.txt --library=C:\Users\biocbuild\bbs-3.10-bioc\R\library --no-vignettes --timings peakPantheR_1.0.0.tar.gz |
| StartedAt: 2020-04-15 05:26:08 -0400 (Wed, 15 Apr 2020) |
| EndedAt: 2020-04-15 05:48:05 -0400 (Wed, 15 Apr 2020) |
| EllapsedTime: 1316.6 seconds |
| RetCode: 0 |
| Status: OK |
| CheckDir: peakPantheR.Rcheck |
| Warnings: 0 |
##############################################################################
##############################################################################
###
### Running command:
###
### C:\Users\biocbuild\bbs-3.10-bioc\R\bin\R.exe CMD check --force-multiarch --install=check:peakPantheR.install-out.txt --library=C:\Users\biocbuild\bbs-3.10-bioc\R\library --no-vignettes --timings peakPantheR_1.0.0.tar.gz
###
##############################################################################
##############################################################################
* using log directory 'C:/Users/biocbuild/bbs-3.10-bioc/meat/peakPantheR.Rcheck'
* using R version 3.6.3 (2020-02-29)
* using platform: x86_64-w64-mingw32 (64-bit)
* using session charset: ISO8859-1
* using option '--no-vignettes'
* checking for file 'peakPantheR/DESCRIPTION' ... OK
* this is package 'peakPantheR' version '1.0.0'
* package encoding: UTF-8
* checking package namespace information ... OK
* checking package dependencies ... OK
* checking if this is a source package ... OK
* checking if there is a namespace ... OK
* checking for hidden files and directories ... OK
* checking for portable file names ... OK
* checking whether package 'peakPantheR' can be installed ... OK
* checking installed package size ... OK
* checking package directory ... OK
* checking 'build' directory ... OK
* checking DESCRIPTION meta-information ... OK
* checking top-level files ... OK
* checking for left-over files ... OK
* checking index information ... OK
* checking package subdirectories ... OK
* checking R files for non-ASCII characters ... OK
* checking R files for syntax errors ... OK
* loading checks for arch 'i386'
** checking whether the package can be loaded ... OK
** checking whether the package can be loaded with stated dependencies ... OK
** checking whether the package can be unloaded cleanly ... OK
** checking whether the namespace can be loaded with stated dependencies ... OK
** checking whether the namespace can be unloaded cleanly ... OK
* loading checks for arch 'x64'
** checking whether the package can be loaded ... OK
** checking whether the package can be loaded with stated dependencies ... OK
** checking whether the package can be unloaded cleanly ... OK
** checking whether the namespace can be loaded with stated dependencies ... OK
** checking whether the namespace can be unloaded cleanly ... OK
* checking dependencies in R code ... OK
* checking S3 generic/method consistency ... OK
* checking replacement functions ... OK
* checking foreign function calls ... OK
* checking R code for possible problems ... OK
* checking Rd files ... OK
* checking Rd metadata ... OK
* checking Rd cross-references ... OK
* checking for missing documentation entries ... OK
* checking for code/documentation mismatches ... OK
* checking Rd \usage sections ... OK
* checking Rd contents ... OK
* checking for unstated dependencies in examples ... OK
* checking files in 'vignettes' ... OK
* checking examples ...
** running examples for arch 'i386' ... OK
Examples with CPU or elapsed time > 5s
user system elapsed
peakPantheR_ROIStatistics 10.22 0.17 10.39
outputAnnotationDiagnostic-peakPantheRAnnotation-method 9.70 0.03 10.73
outputAnnotationResult-peakPantheRAnnotation-method 9.33 0.08 9.61
peakPantheR_parallelAnnotation 7.30 0.04 7.34
EICs-peakPantheRAnnotation-method 6.55 0.36 6.98
** running examples for arch 'x64' ... OK
Examples with CPU or elapsed time > 5s
user system elapsed
peakPantheR_ROIStatistics 16.91 0.28 17.20
peakPantheR_parallelAnnotation 11.20 0.05 11.25
outputAnnotationResult-peakPantheRAnnotation-method 10.87 0.03 10.90
outputAnnotationDiagnostic-peakPantheRAnnotation-method 10.75 0.03 10.79
EICs-peakPantheRAnnotation-method 7.55 0.36 7.91
* checking for unstated dependencies in 'tests' ... OK
* checking tests ...
** running tests for arch 'i386' ...
Running 'testthat.R'
OK
** running tests for arch 'x64' ...
Running 'testthat.R'
OK
* checking for unstated dependencies in vignettes ... OK
* checking package vignettes in 'inst/doc' ... OK
* checking running R code from vignettes ... SKIPPED
* checking re-building of vignette outputs ... SKIPPED
* checking PDF version of manual ... OK
* DONE
Status: OK
peakPantheR.Rcheck/00install.out
##############################################################################
##############################################################################
###
### Running command:
###
### C:\cygwin\bin\curl.exe -O https://malbec1.bioconductor.org/BBS/3.10/bioc/src/contrib/peakPantheR_1.0.0.tar.gz && rm -rf peakPantheR.buildbin-libdir && mkdir peakPantheR.buildbin-libdir && C:\Users\biocbuild\bbs-3.10-bioc\R\bin\R.exe CMD INSTALL --merge-multiarch --build --library=peakPantheR.buildbin-libdir peakPantheR_1.0.0.tar.gz && C:\Users\biocbuild\bbs-3.10-bioc\R\bin\R.exe CMD INSTALL peakPantheR_1.0.0.zip && rm peakPantheR_1.0.0.tar.gz peakPantheR_1.0.0.zip
###
##############################################################################
##############################################################################
% Total % Received % Xferd Average Speed Time Time Time Current
Dload Upload Total Spent Left Speed
0 0 0 0 0 0 0 0 --:--:-- --:--:-- --:--:-- 0
100 450k 100 450k 0 0 2296k 0 --:--:-- --:--:-- --:--:-- 2356k
install for i386
* installing *source* package 'peakPantheR' ...
** using staged installation
** R
** inst
** byte-compile and prepare package for lazy loading
** help
*** installing help indices
converting help for package 'peakPantheR'
finding HTML links ... done
EICs-peakPantheRAnnotation-method html
FIR-peakPantheRAnnotation-method html
ROI-peakPantheRAnnotation-method html
TIC-peakPantheRAnnotation-method html
acquisitionTime-peakPantheRAnnotation-method
html
annotationDiagnosticMultiplot html
annotationDiagnosticPlots-peakPantheRAnnotation-method
html
annotationParamsDiagnostic-peakPantheRAnnotation-method
html
annotationTable-peakPantheRAnnotation-method
html
cpdID-peakPantheRAnnotation-method html
cpdMetadata-peakPantheRAnnotation-method
html
cpdName-peakPantheRAnnotation-method html
dataPoints-peakPantheRAnnotation-method
html
extractSignalRawData html
filename-peakPantheRAnnotation-method html
filepath-peakPantheRAnnotation-method html
findTargetFeatures html
fitCurve html
generateIonChromatogram html
getAcquisitionDatemzML html
getTargetFeatureStatistic html
integrateFIR html
is.peakPantheR_curveFit html
isAnnotated-peakPantheRAnnotation-method
html
nbCompounds-peakPantheRAnnotation-method
html
nbSamples-peakPantheRAnnotation-method
html
outputAnnotationDiagnostic-peakPantheRAnnotation-method
html
outputAnnotationParamsCSV-peakPantheRAnnotation-method
html
outputAnnotationResult-peakPantheRAnnotation-method
html
peakFit-peakPantheRAnnotation-method html
peakPantheR html
peakPantheRAnnotation html
peakPantheR_ROIStatistics html
peakPantheR_loadAnnotationParamsCSV html
peakPantheR_parallelAnnotation html
peakPantheR_plotEICFit html
peakPantheR_plotPeakwidth html
peakPantheR_singleFileSearch html
peakTables-peakPantheRAnnotation-method
html
plotEICDetectedPeakwidth html
plotHistogram html
predictCurve html
resetAnnotation-peakPantheRAnnotation-method
html
resetFIR-peakPantheRAnnotation-method html
saveSingleFileMultiEIC html
skew_erf html
skewedGaussian_guess html
skewedGaussian_minpack.lm html
skewedGaussian_minpack.lm_objectiveFun
html
spectraMetadata-peakPantheRAnnotation-method
html
sub-peakPantheRAnnotation-ANY-ANY-ANY-method
html
uROI-peakPantheRAnnotation-method html
uROIExist-peakPantheRAnnotation-method
html
useFIR-peakPantheRAnnotation-method html
useUROI-peakPantheRAnnotation-method html
*** copying figures
** building package indices
** installing vignettes
** testing if installed package can be loaded from temporary location
** testing if installed package can be loaded from final location
** testing if installed package keeps a record of temporary installation path
install for x64
* installing *source* package 'peakPantheR' ...
** testing if installed package can be loaded
* MD5 sums
packaged installation of 'peakPantheR' as peakPantheR_1.0.0.zip
* DONE (peakPantheR)
* installing to library 'C:/Users/biocbuild/bbs-3.10-bioc/R/library'
package 'peakPantheR' successfully unpacked and MD5 sums checked
|
peakPantheR.Rcheck/tests_i386/testthat.Rout
R version 3.6.3 (2020-02-29) -- "Holding the Windsock"
Copyright (C) 2020 The R Foundation for Statistical Computing
Platform: i386-w64-mingw32/i386 (32-bit)
R is free software and comes with ABSOLUTELY NO WARRANTY.
You are welcome to redistribute it under certain conditions.
Type 'license()' or 'licence()' for distribution details.
R is a collaborative project with many contributors.
Type 'contributors()' for more information and
'citation()' on how to cite R or R packages in publications.
Type 'demo()' for some demos, 'help()' for on-line help, or
'help.start()' for an HTML browser interface to help.
Type 'q()' to quit R.
> library(testthat)
> library(peakPantheR)
This is peakPantheR version 1.0.0
>
> test_check("peakPantheR")
== testthat results ===========================================================
[ OK: 1228 | SKIPPED: 0 | WARNINGS: 0 | FAILED: 0 ]
>
> proc.time()
user system elapsed
367.68 3.76 513.14
|
peakPantheR.Rcheck/tests_x64/testthat.Rout
R version 3.6.3 (2020-02-29) -- "Holding the Windsock"
Copyright (C) 2020 The R Foundation for Statistical Computing
Platform: x86_64-w64-mingw32/x64 (64-bit)
R is free software and comes with ABSOLUTELY NO WARRANTY.
You are welcome to redistribute it under certain conditions.
Type 'license()' or 'licence()' for distribution details.
R is a collaborative project with many contributors.
Type 'contributors()' for more information and
'citation()' on how to cite R or R packages in publications.
Type 'demo()' for some demos, 'help()' for on-line help, or
'help.start()' for an HTML browser interface to help.
Type 'q()' to quit R.
> library(testthat)
> library(peakPantheR)
This is peakPantheR version 1.0.0
>
> test_check("peakPantheR")
== testthat results ===========================================================
[ OK: 1245 | SKIPPED: 0 | WARNINGS: 0 | FAILED: 0 ]
>
> proc.time()
user system elapsed
439.40 3.35 599.32
|
|
peakPantheR.Rcheck/examples_i386/peakPantheR-Ex.timings
|
peakPantheR.Rcheck/examples_x64/peakPantheR-Ex.timings
|