| Back to Multiple platform build/check report for BioC 3.10 |
|
This page was generated on 2020-04-15 12:21:26 -0400 (Wed, 15 Apr 2020).
| Package 1229/1823 | Hostname | OS / Arch | INSTALL | BUILD | CHECK | BUILD BIN | ||||||
| pathview 1.26.0 Weijun Luo
| malbec1 | Linux (Ubuntu 18.04.4 LTS) / x86_64 | OK | OK | WARNINGS | |||||||
| tokay1 | Windows Server 2012 R2 Standard / x64 | [ OK ] | OK | WARNINGS | OK | |||||||
| merida1 | OS X 10.11.6 El Capitan / x86_64 | OK | OK | WARNINGS | OK |
| Package: pathview |
| Version: 1.26.0 |
| Command: C:\cygwin\bin\curl.exe -O https://malbec1.bioconductor.org/BBS/3.10/bioc/src/contrib/pathview_1.26.0.tar.gz && rm -rf pathview.buildbin-libdir && mkdir pathview.buildbin-libdir && C:\Users\biocbuild\bbs-3.10-bioc\R\bin\R.exe CMD INSTALL --merge-multiarch --build --library=pathview.buildbin-libdir pathview_1.26.0.tar.gz && C:\Users\biocbuild\bbs-3.10-bioc\R\bin\R.exe CMD INSTALL pathview_1.26.0.zip && rm pathview_1.26.0.tar.gz pathview_1.26.0.zip |
| StartedAt: 2020-04-14 19:28:00 -0400 (Tue, 14 Apr 2020) |
| EndedAt: 2020-04-14 19:28:50 -0400 (Tue, 14 Apr 2020) |
| EllapsedTime: 50.2 seconds |
| RetCode: 0 |
| Status: OK |
##############################################################################
##############################################################################
###
### Running command:
###
### C:\cygwin\bin\curl.exe -O https://malbec1.bioconductor.org/BBS/3.10/bioc/src/contrib/pathview_1.26.0.tar.gz && rm -rf pathview.buildbin-libdir && mkdir pathview.buildbin-libdir && C:\Users\biocbuild\bbs-3.10-bioc\R\bin\R.exe CMD INSTALL --merge-multiarch --build --library=pathview.buildbin-libdir pathview_1.26.0.tar.gz && C:\Users\biocbuild\bbs-3.10-bioc\R\bin\R.exe CMD INSTALL pathview_1.26.0.zip && rm pathview_1.26.0.tar.gz pathview_1.26.0.zip
###
##############################################################################
##############################################################################
% Total % Received % Xferd Average Speed Time Time Time Current
Dload Upload Total Spent Left Speed
0 0 0 0 0 0 0 0 --:--:-- --:--:-- --:--:-- 0
100 2123k 100 2123k 0 0 21.5M 0 --:--:-- --:--:-- --:--:-- 22.3M
install for i386
* installing *source* package 'pathview' ...
** using staged installation
** R
** data
** inst
** byte-compile and prepare package for lazy loading
** help
*** installing help indices
converting help for package 'pathview'
finding HTML links ... done
combineKEGGnodes html
cpd.accs html
cpdidmap html
demo.data html
download.kegg html
eg2id html
kegg.species.code html
korg html
mol.sum html
node.color html
node.info html
node.map html
pathview-internal html
pathview-package html
pathview html
sim.mol.data html
wordwrap html
** building package indices
** installing vignettes
** testing if installed package can be loaded from temporary location
** testing if installed package can be loaded from final location
** testing if installed package keeps a record of temporary installation path
install for x64
* installing *source* package 'pathview' ...
** testing if installed package can be loaded
* MD5 sums
packaged installation of 'pathview' as pathview_1.26.0.zip
* DONE (pathview)
* installing to library 'C:/Users/biocbuild/bbs-3.10-bioc/R/library'
package 'pathview' successfully unpacked and MD5 sums checked