| Back to Multiple platform build/check report for BioC 3.10 | 
 | 
This page was generated on 2020-04-15 12:22:49 -0400 (Wed, 15 Apr 2020).
| Package 1156/1823 | Hostname | OS / Arch | INSTALL | BUILD | CHECK | BUILD BIN | ||||||
| nondetects 2.16.0 Valeriia Sherina 
 | malbec1 | Linux (Ubuntu 18.04.4 LTS) / x86_64 | OK | OK | OK |  | ||||||
| tokay1 | Windows Server 2012 R2 Standard / x64 | OK | OK | [ OK ] | OK |  | ||||||
| merida1 | OS X 10.11.6 El Capitan / x86_64 | OK | OK | OK | OK |  | 
| Package: nondetects | 
| Version: 2.16.0 | 
| Command: C:\Users\biocbuild\bbs-3.10-bioc\R\bin\R.exe CMD check --force-multiarch --install=check:nondetects.install-out.txt --library=C:\Users\biocbuild\bbs-3.10-bioc\R\library --no-vignettes --timings nondetects_2.16.0.tar.gz | 
| StartedAt: 2020-04-15 05:08:39 -0400 (Wed, 15 Apr 2020) | 
| EndedAt: 2020-04-15 05:24:08 -0400 (Wed, 15 Apr 2020) | 
| EllapsedTime: 928.8 seconds | 
| RetCode: 0 | 
| Status: OK | 
| CheckDir: nondetects.Rcheck | 
| Warnings: 0 | 
##############################################################################
##############################################################################
###
### Running command:
###
###   C:\Users\biocbuild\bbs-3.10-bioc\R\bin\R.exe CMD check --force-multiarch --install=check:nondetects.install-out.txt --library=C:\Users\biocbuild\bbs-3.10-bioc\R\library --no-vignettes --timings nondetects_2.16.0.tar.gz
###
##############################################################################
##############################################################################
* using log directory 'C:/Users/biocbuild/bbs-3.10-bioc/meat/nondetects.Rcheck'
* using R version 3.6.3 (2020-02-29)
* using platform: x86_64-w64-mingw32 (64-bit)
* using session charset: ISO8859-1
* using option '--no-vignettes'
* checking for file 'nondetects/DESCRIPTION' ... OK
* this is package 'nondetects' version '2.16.0'
* package encoding: UTF-8
* checking package namespace information ... OK
* checking package dependencies ... OK
* checking if this is a source package ... OK
* checking if there is a namespace ... OK
* checking for hidden files and directories ... OK
* checking for portable file names ... OK
* checking whether package 'nondetects' can be installed ... OK
* checking installed package size ... OK
* checking package directory ... OK
* checking 'build' directory ... OK
* checking DESCRIPTION meta-information ... OK
* checking top-level files ... OK
* checking for left-over files ... OK
* checking index information ... OK
* checking package subdirectories ... OK
* checking R files for non-ASCII characters ... OK
* checking R files for syntax errors ... OK
* loading checks for arch 'i386'
** checking whether the package can be loaded ... OK
** checking whether the package can be loaded with stated dependencies ... OK
** checking whether the package can be unloaded cleanly ... OK
** checking whether the namespace can be loaded with stated dependencies ... OK
** checking whether the namespace can be unloaded cleanly ... OK
* loading checks for arch 'x64'
** checking whether the package can be loaded ... OK
** checking whether the package can be loaded with stated dependencies ... OK
** checking whether the package can be unloaded cleanly ... OK
** checking whether the namespace can be loaded with stated dependencies ... OK
** checking whether the namespace can be unloaded cleanly ... OK
* checking dependencies in R code ... OK
* checking S3 generic/method consistency ... OK
* checking replacement functions ... OK
* checking foreign function calls ... OK
* checking R code for possible problems ... OK
* checking Rd files ... OK
* checking Rd metadata ... OK
* checking Rd cross-references ... OK
* checking for missing documentation entries ... OK
* checking for code/documentation mismatches ... OK
* checking Rd \usage sections ... OK
* checking Rd contents ... OK
* checking for unstated dependencies in examples ... OK
* checking contents of 'data' directory ... OK
* checking data for non-ASCII characters ... OK
* checking data for ASCII and uncompressed saves ... OK
* checking installed files from 'inst/doc' ... OK
* checking files in 'vignettes' ... OK
* checking examples ...
** running examples for arch 'i386' ... OK
Examples with CPU or elapsed time > 5s
             user system elapsed
qpcrImpute 199.63    0.2  199.94
** running examples for arch 'x64' ... OK
Examples with CPU or elapsed time > 5s
             user system elapsed
qpcrImpute 219.07   0.11  219.97
* checking for unstated dependencies in 'tests' ... OK
* checking tests ...
** running tests for arch 'i386' ...
  Running 'runTests.R'
 OK
** running tests for arch 'x64' ...
  Running 'runTests.R'
 OK
* checking for unstated dependencies in vignettes ... OK
* checking package vignettes in 'inst/doc' ... OK
* checking running R code from vignettes ... SKIPPED
* checking re-building of vignette outputs ... SKIPPED
* checking PDF version of manual ... OK
* DONE
Status: OK
nondetects.Rcheck/00install.out
##############################################################################
##############################################################################
###
### Running command:
###
###   C:\cygwin\bin\curl.exe -O https://malbec1.bioconductor.org/BBS/3.10/bioc/src/contrib/nondetects_2.16.0.tar.gz && rm -rf nondetects.buildbin-libdir && mkdir nondetects.buildbin-libdir && C:\Users\biocbuild\bbs-3.10-bioc\R\bin\R.exe CMD INSTALL --merge-multiarch --build --library=nondetects.buildbin-libdir nondetects_2.16.0.tar.gz && C:\Users\biocbuild\bbs-3.10-bioc\R\bin\R.exe CMD INSTALL nondetects_2.16.0.zip && rm nondetects_2.16.0.tar.gz nondetects_2.16.0.zip
###
##############################################################################
##############################################################################
  % Total    % Received % Xferd  Average Speed   Time    Time     Time  Current
                                 Dload  Upload   Total   Spent    Left  Speed
  0     0    0     0    0     0      0      0 --:--:-- --:--:-- --:--:--     0
 13  122k   13 16384    0     0   365k      0 --:--:-- --:--:-- --:--:--  390k
100  122k  100  122k    0     0  2759k      0 --:--:-- --:--:-- --:--:-- 2920k
install for i386
* installing *source* package 'nondetects' ...
** using staged installation
** R
** data
*** moving datasets to lazyload DB
** inst
** byte-compile and prepare package for lazy loading
** help
*** installing help indices
  converting help for package 'nondetects'
    finding HTML links ... done
    nature2008                              html  
    oncogene2013                            html  
    qpcrImpute                              html  
    sagmb2011                               html  
** building package indices
** installing vignettes
   'nondetects.Rmd' using 'UTF-8' 
** testing if installed package can be loaded from temporary location
** testing if installed package can be loaded from final location
** testing if installed package keeps a record of temporary installation path
install for x64
* installing *source* package 'nondetects' ...
** testing if installed package can be loaded
* MD5 sums
packaged installation of 'nondetects' as nondetects_2.16.0.zip
* DONE (nondetects)
* installing to library 'C:/Users/biocbuild/bbs-3.10-bioc/R/library'
package 'nondetects' successfully unpacked and MD5 sums checked
| nondetects.Rcheck/tests_i386/runTests.Rout 
R version 3.6.3 (2020-02-29) -- "Holding the Windsock"
Copyright (C) 2020 The R Foundation for Statistical Computing
Platform: i386-w64-mingw32/i386 (32-bit)
R is free software and comes with ABSOLUTELY NO WARRANTY.
You are welcome to redistribute it under certain conditions.
Type 'license()' or 'licence()' for distribution details.
R is a collaborative project with many contributors.
Type 'contributors()' for more information and
'citation()' on how to cite R or R packages in publications.
Type 'demo()' for some demos, 'help()' for on-line help, or
'help.start()' for an HTML browser interface to help.
Type 'q()' to quit R.
> BiocGenerics:::testPackage("nondetects")
Attaching package: 'BiocGenerics'
The following objects are masked from 'package:parallel':
    clusterApply, clusterApplyLB, clusterCall, clusterEvalQ,
    clusterExport, clusterMap, parApply, parCapply, parLapply,
    parLapplyLB, parRapply, parSapply, parSapplyLB
The following objects are masked from 'package:stats':
    IQR, mad, sd, var, xtabs
The following objects are masked from 'package:base':
    Filter, Find, Map, Position, Reduce, anyDuplicated, append,
    as.data.frame, basename, cbind, colnames, dirname, do.call,
    duplicated, eval, evalq, get, grep, grepl, intersect, is.unsorted,
    lapply, mapply, match, mget, order, paste, pmax, pmax.int, pmin,
    pmin.int, rank, rbind, rownames, sapply, setdiff, sort, table,
    tapply, union, unique, unsplit, which, which.max, which.min
Welcome to Bioconductor
    Vignettes contain introductory material; view with
    'browseVignettes()'. To cite Bioconductor, see
    'citation("Biobase")', and for packages 'citation("pkgname")'.
~0 + nrep
<environment: 0x09e87988>
[1] "1 / 100"
-1585.93719357229
[1] "2 / 100"
-1547.65473798079
[1] "3 / 100"
-1525.63747493401
[1] "4 / 100"
-1507.70854344257
[1] "5 / 100"
-1494.34791647616
[1] "6 / 100"
-1486.84145953593
[1] "7 / 100"
-1482.65081095015
[1] "8 / 100"
-1480.02741565203
[1] "9 / 100"
-1478.28522499918
[1] "10 / 100"
-1477.09557013291
[1] "11 / 100"
-1476.26802386548
[1] "Single"
RUNIT TEST PROTOCOL -- Wed Apr 15 05:19:59 2020 
*********************************************** 
Number of test functions: 1 
Number of errors: 0 
Number of failures: 0 
 
1 Test Suite : 
nondetects RUnit Tests - 1 test function, 0 errors, 0 failures
Number of test functions: 1 
Number of errors: 0 
Number of failures: 0 
Warning message:
fitted probabilities numerically 0 or 1 occurred 
> 
> proc.time()
   user  system elapsed 
 172.51    0.23  173.57 
 | nondetects.Rcheck/tests_x64/runTests.Rout 
R version 3.6.3 (2020-02-29) -- "Holding the Windsock"
Copyright (C) 2020 The R Foundation for Statistical Computing
Platform: x86_64-w64-mingw32/x64 (64-bit)
R is free software and comes with ABSOLUTELY NO WARRANTY.
You are welcome to redistribute it under certain conditions.
Type 'license()' or 'licence()' for distribution details.
R is a collaborative project with many contributors.
Type 'contributors()' for more information and
'citation()' on how to cite R or R packages in publications.
Type 'demo()' for some demos, 'help()' for on-line help, or
'help.start()' for an HTML browser interface to help.
Type 'q()' to quit R.
> BiocGenerics:::testPackage("nondetects")
Attaching package: 'BiocGenerics'
The following objects are masked from 'package:parallel':
    clusterApply, clusterApplyLB, clusterCall, clusterEvalQ,
    clusterExport, clusterMap, parApply, parCapply, parLapply,
    parLapplyLB, parRapply, parSapply, parSapplyLB
The following objects are masked from 'package:stats':
    IQR, mad, sd, var, xtabs
The following objects are masked from 'package:base':
    Filter, Find, Map, Position, Reduce, anyDuplicated, append,
    as.data.frame, basename, cbind, colnames, dirname, do.call,
    duplicated, eval, evalq, get, grep, grepl, intersect, is.unsorted,
    lapply, mapply, match, mget, order, paste, pmax, pmax.int, pmin,
    pmin.int, rank, rbind, rownames, sapply, setdiff, sort, table,
    tapply, union, unique, unsplit, which, which.max, which.min
Welcome to Bioconductor
    Vignettes contain introductory material; view with
    'browseVignettes()'. To cite Bioconductor, see
    'citation("Biobase")', and for packages 'citation("pkgname")'.
~0 + nrep
<environment: 0x000000001124ade8>
[1] "1 / 100"
-1585.93719357229
[1] "2 / 100"
-1547.65473798079
[1] "3 / 100"
-1525.63747493401
[1] "4 / 100"
-1507.70854344257
[1] "5 / 100"
-1494.34791647616
[1] "6 / 100"
-1486.84145953593
[1] "7 / 100"
-1482.65081095015
[1] "8 / 100"
-1480.02741565204
[1] "9 / 100"
-1478.28522499918
[1] "10 / 100"
-1477.09557013291
[1] "11 / 100"
-1476.26802386548
[1] "Single"
RUNIT TEST PROTOCOL -- Wed Apr 15 05:24:02 2020 
*********************************************** 
Number of test functions: 1 
Number of errors: 0 
Number of failures: 0 
 
1 Test Suite : 
nondetects RUnit Tests - 1 test function, 0 errors, 0 failures
Number of test functions: 1 
Number of errors: 0 
Number of failures: 0 
Warning message:
fitted probabilities numerically 0 or 1 occurred 
> 
> proc.time()
   user  system elapsed 
 233.54    0.37  242.25 
 | 
| nondetects.Rcheck/examples_i386/nondetects-Ex.timings 
 | nondetects.Rcheck/examples_x64/nondetects-Ex.timings 
 |