| Back to Multiple platform build/check report for BioC 3.10 |
|
This page was generated on 2020-04-15 12:20:40 -0400 (Wed, 15 Apr 2020).
| Package 1089/1823 | Hostname | OS / Arch | INSTALL | BUILD | CHECK | BUILD BIN | ||||||
| motifRG 1.30.0 Zizhen Yao
| malbec1 | Linux (Ubuntu 18.04.4 LTS) / x86_64 | OK | OK | OK | |||||||
| tokay1 | Windows Server 2012 R2 Standard / x64 | [ OK ] | OK | OK | OK | |||||||
| merida1 | OS X 10.11.6 El Capitan / x86_64 | OK | OK | OK | OK |
| Package: motifRG |
| Version: 1.30.0 |
| Command: C:\cygwin\bin\curl.exe -O https://malbec1.bioconductor.org/BBS/3.10/bioc/src/contrib/motifRG_1.30.0.tar.gz && rm -rf motifRG.buildbin-libdir && mkdir motifRG.buildbin-libdir && C:\Users\biocbuild\bbs-3.10-bioc\R\bin\R.exe CMD INSTALL --merge-multiarch --build --library=motifRG.buildbin-libdir motifRG_1.30.0.tar.gz && C:\Users\biocbuild\bbs-3.10-bioc\R\bin\R.exe CMD INSTALL motifRG_1.30.0.zip && rm motifRG_1.30.0.tar.gz motifRG_1.30.0.zip |
| StartedAt: 2020-04-14 19:55:37 -0400 (Tue, 14 Apr 2020) |
| EndedAt: 2020-04-14 19:56:32 -0400 (Tue, 14 Apr 2020) |
| EllapsedTime: 54.8 seconds |
| RetCode: 0 |
| Status: OK |
##############################################################################
##############################################################################
###
### Running command:
###
### C:\cygwin\bin\curl.exe -O https://malbec1.bioconductor.org/BBS/3.10/bioc/src/contrib/motifRG_1.30.0.tar.gz && rm -rf motifRG.buildbin-libdir && mkdir motifRG.buildbin-libdir && C:\Users\biocbuild\bbs-3.10-bioc\R\bin\R.exe CMD INSTALL --merge-multiarch --build --library=motifRG.buildbin-libdir motifRG_1.30.0.tar.gz && C:\Users\biocbuild\bbs-3.10-bioc\R\bin\R.exe CMD INSTALL motifRG_1.30.0.zip && rm motifRG_1.30.0.tar.gz motifRG_1.30.0.zip
###
##############################################################################
##############################################################################
% Total % Received % Xferd Average Speed Time Time Time Current
Dload Upload Total Spent Left Speed
0 0 0 0 0 0 0 0 --:--:-- --:--:-- --:--:-- 0
100 296k 100 296k 0 0 3109k 0 --:--:-- --:--:-- --:--:-- 3253k
install for i386
* installing *source* package 'motifRG' ...
** using staged installation
** R
** data
** inst
** byte-compile and prepare package for lazy loading
** help
*** installing help indices
converting help for package 'motifRG'
finding HTML links ... done
Motif html
YY1.control html
YY1.peak html
ctcf.motifs html
findMotif html
findMotifFasta html
findMotifFgBg html
getSequence html
motifLatexTable html
plotMotif html
finding level-2 HTML links ... done
refinePWMMotif html
refinePWMMotifExtend html
summaryMotif html
** building package indices
** installing vignettes
** testing if installed package can be loaded from temporary location
** testing if installed package can be loaded from final location
** testing if installed package keeps a record of temporary installation path
install for x64
* installing *source* package 'motifRG' ...
** testing if installed package can be loaded
* MD5 sums
packaged installation of 'motifRG' as motifRG_1.30.0.zip
* DONE (motifRG)
* installing to library 'C:/Users/biocbuild/bbs-3.10-bioc/R/library'
package 'motifRG' successfully unpacked and MD5 sums checked