| Back to Multiple platform build/check report for BioC 3.10 | 
  | 
This page was generated on 2020-04-15 12:25:42 -0400 (Wed, 15 Apr 2020).
| Package 1053/1823 | Hostname | OS / Arch | INSTALL | BUILD | CHECK | BUILD BIN | ||||||
| miRcomp 1.16.0 Matthew N. McCall 
  | malbec1 | Linux (Ubuntu 18.04.4 LTS) / x86_64 | OK | OK | WARNINGS | |||||||
| tokay1 | Windows Server 2012 R2 Standard / x64 | [ OK ] | OK | WARNINGS | OK | |||||||
| merida1 | OS X 10.11.6 El Capitan / x86_64 | OK | OK | WARNINGS | OK | 
| Package: miRcomp | 
| Version: 1.16.0 | 
| Command: C:\cygwin\bin\curl.exe -O https://malbec1.bioconductor.org/BBS/3.10/bioc/src/contrib/miRcomp_1.16.0.tar.gz && rm -rf miRcomp.buildbin-libdir && mkdir miRcomp.buildbin-libdir && C:\Users\biocbuild\bbs-3.10-bioc\R\bin\R.exe CMD INSTALL --merge-multiarch --build --library=miRcomp.buildbin-libdir miRcomp_1.16.0.tar.gz && C:\Users\biocbuild\bbs-3.10-bioc\R\bin\R.exe CMD INSTALL miRcomp_1.16.0.zip && rm miRcomp_1.16.0.tar.gz miRcomp_1.16.0.zip | 
| StartedAt: 2020-04-14 19:01:04 -0400 (Tue, 14 Apr 2020) | 
| EndedAt: 2020-04-14 19:01:45 -0400 (Tue, 14 Apr 2020) | 
| EllapsedTime: 40.9 seconds | 
| RetCode: 0 | 
| Status: OK | 
##############################################################################
##############################################################################
###
### Running command:
###
###   C:\cygwin\bin\curl.exe -O https://malbec1.bioconductor.org/BBS/3.10/bioc/src/contrib/miRcomp_1.16.0.tar.gz && rm -rf miRcomp.buildbin-libdir && mkdir miRcomp.buildbin-libdir && C:\Users\biocbuild\bbs-3.10-bioc\R\bin\R.exe CMD INSTALL --merge-multiarch --build --library=miRcomp.buildbin-libdir miRcomp_1.16.0.tar.gz && C:\Users\biocbuild\bbs-3.10-bioc\R\bin\R.exe CMD INSTALL miRcomp_1.16.0.zip && rm miRcomp_1.16.0.tar.gz miRcomp_1.16.0.zip
###
##############################################################################
##############################################################################
  % Total    % Received % Xferd  Average Speed   Time    Time     Time  Current
                                 Dload  Upload   Total   Spent    Left  Speed
  0     0    0     0    0     0      0      0 --:--:-- --:--:-- --:--:--     0
100 1803k  100 1803k    0     0  26.6M      0 --:--:-- --:--:-- --:--:-- 28.4M
install for i386
* installing *source* package 'miRcomp' ...
** using staged installation
** R
** data
** inst
** byte-compile and prepare package for lazy loading
** help
*** installing help indices
  converting help for package 'miRcomp'
    finding HTML links ... done
    accuracy                                html  
    completeFeatures                        html  
    expressionComp                          html  
    lifetech                                html  
    limitOfDetection                        html  
    miRcompShinyApp                         html  
    precision                               html  
    qpcRb4                                  html  
    qpcRb5                                  html  
    qpcRdefault                             html  
    qpcRl5                                  html  
    qpcRlinexp                              html  
    qualityAssessment                       html  
    titrationResponse                       html  
** building package indices
** installing vignettes
** testing if installed package can be loaded from temporary location
** testing if installed package can be loaded from final location
** testing if installed package keeps a record of temporary installation path
install for x64
* installing *source* package 'miRcomp' ...
** testing if installed package can be loaded
* MD5 sums
packaged installation of 'miRcomp' as miRcomp_1.16.0.zip
* DONE (miRcomp)
* installing to library 'C:/Users/biocbuild/bbs-3.10-bioc/R/library'
package 'miRcomp' successfully unpacked and MD5 sums checked